BEGIN:VCALENDAR
VERSION:2.0
PRODID:-//The Front Arte Cultura - ECPv6.15.20//NONSGML v1.0//EN
CALSCALE:GREGORIAN
METHOD:PUBLISH
X-WR-CALNAME:The Front Arte Cultura
X-ORIGINAL-URL:https://thefront.casafamiliar.org
X-WR-CALDESC:Eventos para The Front Arte Cultura
REFRESH-INTERVAL;VALUE=DURATION:PT1H
X-Robots-Tag:noindex
X-PUBLISHED-TTL:PT1H
BEGIN:VTIMEZONE
TZID:America/Los_Angeles
BEGIN:DAYLIGHT
TZOFFSETFROM:-0800
TZOFFSETTO:-0700
TZNAME:PDT
DTSTART:20250309T100000
END:DAYLIGHT
BEGIN:STANDARD
TZOFFSETFROM:-0700
TZOFFSETTO:-0800
TZNAME:PST
DTSTART:20251102T090000
END:STANDARD
BEGIN:DAYLIGHT
TZOFFSETFROM:-0800
TZOFFSETTO:-0700
TZNAME:PDT
DTSTART:20260308T100000
END:DAYLIGHT
BEGIN:STANDARD
TZOFFSETFROM:-0700
TZOFFSETTO:-0800
TZNAME:PST
DTSTART:20261101T090000
END:STANDARD
BEGIN:DAYLIGHT
TZOFFSETFROM:-0800
TZOFFSETTO:-0700
TZNAME:PDT
DTSTART:20270314T100000
END:DAYLIGHT
BEGIN:STANDARD
TZOFFSETFROM:-0700
TZOFFSETTO:-0800
TZNAME:PST
DTSTART:20271107T090000
END:STANDARD
END:VTIMEZONE
BEGIN:VEVENT
DTSTART;TZID=America/Los_Angeles:20260307T170000
DTEND;TZID=America/Los_Angeles:20260307T190000
DTSTAMP:20260424T052157
CREATED:20260227T193428Z
LAST-MODIFIED:20260227T193428Z
UID:6422-1772902800-1772910000@thefront.casafamiliar.org
SUMMARY:Exquisite Potential Exhibition - Opening Reception
DESCRIPTION:Exquisite Potential: Surviving the 21st Century through Surreal Metamorphosis \nCasa Familiar is proud to announce the 19th annual Dia de la Mujer Exhibition\, titled “Exquisite Potential: Surviving the 21st Century through Surreal Metamorphosis. The opening reception will take place on March 7th\, 5-7pm\, at The FRONT Gallery in San Ysidro\, California. \nExquisite Potential\, draws inspiration from the Surrealist movement of the 1920s-30s\, where artists and writers explored metamorphosis as a process of collective mythmaking in order to push back against oppression\, which included the rise of European fascism and the effects of Western imperialism. This exhibition brings together a wide array of international and local artists over several events to elevate the works of BIPOC women and non-binary artists from both sides of the border. \n\nPotencial Exquisito: Sobreviviendo al siglo XXI a través de la Metamorfosis Surrealista \nCasa Familiar se enorgullece en anunciar la 19.ª Exposición Anual del Día de la Mujer\, titulada “Potencial Exquisito: Sobreviviendo al siglo XXI a través de la Metamorfosis Surrealista”. La recepción inaugural tendrá lugar el 7 de marzo\, de 17:00 a 19:00 h\, en la Galería FRONT de San Ysidro\, California. \nPotencial Exquisito se inspira en el movimiento surrealista de las décadas de 1920 y 1930\, donde artistas y escritores exploraron la metamorfosis como un proceso de creación colectiva de mitos para contrarrestar la opresión\, que incluyó el auge del fascismo europeo y los efectos del imperialismo occidental. Esta exposición reúne una amplia gama de artistas internacionales y artistas locales en varios eventos para elevar las obras de mujeres BIPOC y artistas no binarios de ambos lados de la frontera.
URL:https://thefront.casafamiliar.org/event/exquisite-potential-exhibition-opening-reception
LOCATION:The Front Arte y Cultura
CATEGORIES:Exhibitions,Opening
ATTACH;FMTTYPE=image/jpeg:https://thefront.casafamiliar.org/wp-content/uploads/2026/02/TheFront_Dia-de-la-Mujer-2026_REDES_1080x1440_01-1.jpg
END:VEVENT
BEGIN:VEVENT
DTSTART;TZID=America/Los_Angeles:20260310T173000
DTEND;TZID=America/Los_Angeles:20260310T200000
DTSTAMP:20260424T052157
CREATED:20260213T185505Z
LAST-MODIFIED:20260213T185505Z
UID:6360-1773163800-1773172800@thefront.casafamiliar.org
SUMMARY:Acrylics Workshop - Intermediate level
DESCRIPTION:We’re excited to share that our wonderful teaching artist\, Katie Ruiz\, will be returning to teach Acrylics Part Two this March! \nThis next session will take place on Tuesdays:\nMarch 10\, 17\, 24\, 31\nApril 7\, 14\, 21\, 28\nTime: 5:30 – 8:00 PM \nLocation: The Front Gallery\nAll materials are included\, and the workshop is free of cost. \nThis workshop is designed for students who previously completed the acrylics session. A limited number of spots are available for new participants with intermediate acrylic painting experience. \n\nNos complace anunciar que nuestra maravillosa artista docente\, Katie Ruiz\, regresará para impartir la segunda parte de Acrílicos este marzo. \nEsta próxima sesión se llevará a cabo los martes:\n10\, 17\, 24 y 31 de marzo\n7\, 14\, 21 y 28 de abril\nHorario: 5:30- 8:00pm \nUbicación: The Front Gallery\nTodos los materiales están incluidos y el taller es gratuito. \nEste taller está diseñado para estudiantes que ya completaron la sesión de acrílicos. Hay plazas limitadas para nuevos participantes con experiencia intermedia en pintura acrílica. \n 
URL:https://thefront.casafamiliar.org/event/acrylics-workshop-intermediate-level
LOCATION:The Front Arte y Cultura
CATEGORIES:Workshop
ATTACH;FMTTYPE=image/jpeg:https://thefront.casafamiliar.org/wp-content/uploads/2026/02/Eli-Flyers.jpg
END:VEVENT
BEGIN:VEVENT
DTSTART;TZID=America/Los_Angeles:20260312T160000
DTEND;TZID=America/Los_Angeles:20260312T190000
DTSTAMP:20260424T052157
CREATED:20260227T194447Z
LAST-MODIFIED:20260227T194447Z
UID:6434-1773331200-1773342000@thefront.casafamiliar.org
SUMMARY:Fragmented Stories Exhibition at Liberty Station - Opening Reception
DESCRIPTION:Arts District Liberty Station and new David G. Fleet Curator-in-Residence @franciscoeme @thefrontarteycultura invite you to Fragmented Stories\, a new exhibition in Gallery 201 beginning March 12th!  \nFragmented Stories explores themes of belonging\, border identity\, multicultural experience\, and the realities of living and creating in the San Diego–Tijuana region amid social and political uncertainty through the works of Arts District’s Emerging Artist Residency alumni\, Eden DeLaVara @edendelavara and Marcela Alarcón López @mmmmmmala.mal \nJoin us for the exhibition’s celebratory Opening Reception on March 12th from 4-7 PM. We will have light refreshments as well as a very special DJ set. \nShow dates: March 12th – July 17th\, 2026 \nOpening Reception: Thursday\, March 12th from 4-7PM \nArts District Liberty Station\, Gallery 201\nSecond Floor\n2820 Roosevelt Rd.\nSan Diego CA 92106
URL:https://thefront.casafamiliar.org/event/fragmented-stories-exhibition-at-liberty-station-opening-reception
LOCATION:Arts District Liberty Station\, Second Floor 2820 Roosevelt Rd. San Diego CA 92106\, San Diego\, CA\, 92106\, United States
CATEGORIES:Opening
ATTACH;FMTTYPE=image/png:https://thefront.casafamiliar.org/wp-content/uploads/2026/02/Screenshot-2026-02-27-at-11.44.11-AM.png
ORGANIZER;CN="The FRONT Arte Cultura":MAILTO:hectorc@casafamiliar.org
END:VEVENT
BEGIN:VEVENT
DTSTART;TZID=America/Los_Angeles:20260314T110000
DTEND;TZID=America/Los_Angeles:20260314T123000
DTSTAMP:20260424T052157
CREATED:20260121T195835Z
LAST-MODIFIED:20260121T195835Z
UID:6305-1773486000-1773491400@thefront.casafamiliar.org
SUMMARY:Ripple Effect: A Dance for Clean Water
DESCRIPTION:Join Negative Space Dance Collective for an improvisational movement workshop where your movement becomes part of something bigger. Using water imagery and collective composition\, participants will co-create material that will flow directly into our upcoming live performances. \nMovement Workshop (Ages 16+)\nSaturday\, March 14\n11:00 AM – 12:30 PM\nEl Salon Theatre\, San Ysidro\nFREE (reservation required) \nThis workshop is open to movers of all backgrounds and will culminate in performances on March 20 & 21 at 7:00 PM. Come explore\, create\, and be part of the ripple. \nReserve your spot by emailing hectorc@casafamiliar.org\nor scan the QR code.\nFree entry for both workshop and performances. \n\nÚnete a Negative Space Dance Collective para un taller de movimiento improvisado donde tu movimiento se convertirá en parte de algo más grande. Utilizando imágenes relacionadas con el agua y la composición colectiva\, los participantes crearán material en conjunto que se integrará directamente en nuestras próximas presentaciones en vivo. \nTaller de movimiento (mayores de 16 años)\nSábado\, 14 de marzo\n11:00 a. m. – 12:30 p. m.\nTeatro El Salón\, San Ysidro\nGratuito (se requiere reservación) \nEste taller está abierto a personas con experiencia en danza de todos los niveles y culminará con presentaciones los días 20 y 21 de marzo a las 7:00 p. m. Ven a explorar\, crear y ser parte de esta experiencia. \nReserva tu lugar enviando un correo electrónico a hectorc@casafamiliar.org\no escaneando el código QR.\nEntrada gratuita tanto para el taller como para las presentaciones.
URL:https://thefront.casafamiliar.org/event/ripple-effect-a-dance-for-clean-water
LOCATION:El Salon Theatre\, 114 W Hall Ave\, San Ysidro CA. 92147\, San Ysidro\, 92147\, United States
CATEGORIES:Performances,Workshop
ATTACH;FMTTYPE=image/jpeg:https://thefront.casafamiliar.org/wp-content/uploads/2026/01/Ripple-Effect.jpg
END:VEVENT
BEGIN:VEVENT
DTSTART;TZID=America/Los_Angeles:20260314T130000
DTEND;TZID=America/Los_Angeles:20260314T180000
DTSTAMP:20260424T052157
CREATED:20260227T193811Z
LAST-MODIFIED:20260304T234000Z
UID:6425-1773493200-1773511200@thefront.casafamiliar.org
SUMMARY:Painting Club - March Edition
DESCRIPTION:Bring your own materials and works in progress or start fresh on a blank canvas! Open to all experience levels. Free drinks and snacks from local vendors. \nMarch 14th | 1:00pm- 6:00pmThe Front Gallery \nParking: We ask that all attendees use available street parking\, as well as encourage the use of public transit – the nearest Trolley station is Beyer Blvd. \n\nTrae tus propios materiales y proyectos en curso o empieza desde cero en un lienzo en blanco. Abierto a todos los niveles de experiencia. Tendremos bebidas y bocadillos de cortesía de parte de productores locales. \nMarzo 14 | 1:00pm – 6:00pm\nThe Front Gallery \nEstacionamiento: Les pedimos a todos los asistentes que utilicen el estacionamiento disponible en la calle y les recomendamos usar el transporte público; la estación de tranvía más cercana es Beyer Blvd.
URL:https://thefront.casafamiliar.org/event/painting-club-march-edition
LOCATION:The Front Arte y Cultura
CATEGORIES:Community Event
ATTACH;FMTTYPE=image/jpeg:https://thefront.casafamiliar.org/wp-content/uploads/2026/02/Painting-Club-Flyer-2.jpg
END:VEVENT
BEGIN:VEVENT
DTSTART;TZID=America/Los_Angeles:20260317T173000
DTEND;TZID=America/Los_Angeles:20260317T200000
DTSTAMP:20260424T052157
CREATED:20260213T190000Z
LAST-MODIFIED:20260213T190000Z
UID:6365-1773768600-1773777600@thefront.casafamiliar.org
SUMMARY:Acrylics Workshop - Intermediate Level
DESCRIPTION:We’re excited to share that our wonderful teaching artist\, Katie Ruiz\, will be returning to teach Acrylics Part Two this March! \nThis next session will take place on Tuesdays:\nMarch 10\, 17\, 24\, 31\nApril 7\, 14\, 21\, 28\nTime: 5:30 – 8:00 PM \nLocation: The Front Gallery\nAll materials are included\, and the workshop is free of cost. \nThis workshop is designed for students who previously completed the acrylics session. A limited number of spots are available for new participants with intermediate acrylic painting experience. \n\nNos complace anunciar que nuestra maravillosa artista docente\, Katie Ruiz\, regresará para impartir la segunda parte de Acrílicos este marzo. \nEsta próxima sesión se llevará a cabo los martes:\n10\, 17\, 24 y 31 de marzo\n7\, 14\, 21 y 28 de abril\nHorario: 5:30- 8:00pm \nUbicación: The Front Gallery\nTodos los materiales están incluidos y el taller es gratuito. \nEste taller está diseñado para estudiantes que ya completaron la sesión de acrílicos. Hay plazas limitadas para nuevos participantes con experiencia intermedia en pintura acrílica.
URL:https://thefront.casafamiliar.org/event/acrylics-workshop-intermediate-level-2
LOCATION:The Front Arte y Cultura
CATEGORIES:Workshop
ATTACH;FMTTYPE=image/jpeg:https://thefront.casafamiliar.org/wp-content/uploads/2026/02/Eli-Flyers.jpg
END:VEVENT
BEGIN:VEVENT
DTSTART;TZID=America/Los_Angeles:20260320T190000
DTEND;TZID=America/Los_Angeles:20260320T200000
DTSTAMP:20260424T052157
CREATED:20260121T200124Z
LAST-MODIFIED:20260121T200124Z
UID:6308-1774033200-1774036800@thefront.casafamiliar.org
SUMMARY:Ripple Effect: A Dance for Clean Water Performance
DESCRIPTION:Join Negative Space Dance Collective for a live performance born from improvisation and collective flow. Drawing on water imagery and ensemble composition\, the work unfolds in real time\, fluid\, responsive\, and shaped by shared presence. \nEl Salon Theatre\, San Ysidro\nFREE\nMarch 20 & 21 at 7:00 PM \n\nÚnete a Negative Space Dance Collective para una actuación en vivo nacida de la improvisación y la creación colectiva. Inspirada en la imaginería del agua y la composición en conjunto\, la obra se desarrolla en tiempo real: fluida\, sensible y moldeada por la presencia compartida. \nTeatro El Salón\, San Ysidro\nEntrada gratuita\n20 y 21 de marzo\, 19:00 h
URL:https://thefront.casafamiliar.org/event/ripple-effect-a-dance-for-clean-water-performance
LOCATION:El Salon Theatre\, 114 W Hall Ave\, San Ysidro CA. 92147\, San Ysidro\, 92147\, United States
CATEGORIES:Performances
ATTACH;FMTTYPE=image/jpeg:https://thefront.casafamiliar.org/wp-content/uploads/2026/01/Ripple-Effect.jpg
END:VEVENT
BEGIN:VEVENT
DTSTART;TZID=America/Los_Angeles:20260321T190000
DTEND;TZID=America/Los_Angeles:20260321T200000
DTSTAMP:20260424T052157
CREATED:20260121T200204Z
LAST-MODIFIED:20260121T200204Z
UID:6310-1774119600-1774123200@thefront.casafamiliar.org
SUMMARY:Ripple Effect: A Dance for Clean Water Performance
DESCRIPTION:Join Negative Space Dance Collective for a live performance born from improvisation and collective flow. Drawing on water imagery and ensemble composition\, the work unfolds in real time\, fluid\, responsive\, and shaped by shared presence. \nEl Salon Theatre\, San Ysidro\nFREE\nMarch 20 & 21 at 7:00 PM \n\nÚnete a Negative Space Dance Collective para una actuación en vivo nacida de la improvisación y la creación colectiva. Inspirada en la imaginería del agua y la composición en conjunto\, la obra se desarrolla en tiempo real: fluida\, sensible y moldeada por la presencia compartida. \nTeatro El Salón\, San Ysidro\nEntrada gratuita\n20 y 21 de marzo\, 19:00 h
URL:https://thefront.casafamiliar.org/event/ripple-effect-a-dance-for-clean-water-performance-2
LOCATION:El Salon Theatre\, 114 W Hall Ave\, San Ysidro CA. 92147\, San Ysidro\, 92147\, United States
CATEGORIES:Performances
ATTACH;FMTTYPE=image/jpeg:https://thefront.casafamiliar.org/wp-content/uploads/2026/01/Ripple-Effect.jpg
END:VEVENT
BEGIN:VEVENT
DTSTART;TZID=America/Los_Angeles:20260324T173000
DTEND;TZID=America/Los_Angeles:20260324T200000
DTSTAMP:20260424T052157
CREATED:20260213T203041Z
LAST-MODIFIED:20260213T203041Z
UID:6367-1774373400-1774382400@thefront.casafamiliar.org
SUMMARY:Acrylics Workshop - Intermediate Level
DESCRIPTION:We’re excited to share that our wonderful teaching artist\, Katie Ruiz\, will be returning to teach Acrylics Part Two this March! \nThis next session will take place on Tuesdays:\nMarch 10\, 17\, 24\, 31\nApril 7\, 14\, 21\, 28\nTime: 5:30 – 8:00 PM \nLocation: The Front Gallery\nAll materials are included\, and the workshop is free of cost. \nThis workshop is designed for students who previously completed the acrylics session. A limited number of spots are available for new participants with intermediate acrylic painting experience. \n\nNos complace anunciar que nuestra maravillosa artista docente\, Katie Ruiz\, regresará para impartir la segunda parte de Acrílicos este marzo. \nEsta próxima sesión se llevará a cabo los martes:\n10\, 17\, 24 y 31 de marzo\n7\, 14\, 21 y 28 de abril\nHorario: 5:30- 8:00pm \nUbicación: The Front Gallery\nTodos los materiales están incluidos y el taller es gratuito. \nEste taller está diseñado para estudiantes que ya completaron la sesión de acrílicos. Hay plazas limitadas para nuevos participantes con experiencia intermedia en pintura acrílica.
URL:https://thefront.casafamiliar.org/event/acrylics-workshop-intermediate-level-3
LOCATION:The Front Arte y Cultura
CATEGORIES:Workshop
ATTACH;FMTTYPE=image/jpeg:https://thefront.casafamiliar.org/wp-content/uploads/2026/02/Eli-Flyers.jpg
END:VEVENT
BEGIN:VEVENT
DTSTART;TZID=America/Los_Angeles:20260325T180000
DTEND;TZID=America/Los_Angeles:20260325T190000
DTSTAMP:20260424T052157
CREATED:20260305T014643Z
LAST-MODIFIED:20260305T014643Z
UID:6463-1774461600-1774465200@thefront.casafamiliar.org
SUMMARY:Conversations at The Front Library with Sarai Elguezabal
DESCRIPTION:Women who revolutionized their time through the lens \nJoin artist and photographer Sarai as she shares her insights on women photographers who made an impact and marked their stories through the lens. \nMarch 25th\, 6pm \n\nConversaciones en The Front Library\, con Sarai Elguezabal \nMujeres que revolucionaron su tiempo a través del lente \nAcompaña a la artista y fotógrafa Sarai mientras comparte sus reflexiones de fotógrafas que dejaron huella y marcaron sus historias a través del lente.
URL:https://thefront.casafamiliar.org/event/conversations-at-the-front-library-with-sarai-elguezabal
LOCATION:The Front Arte y Cultura
CATEGORIES:Conversations
ATTACH;FMTTYPE=image/jpeg:https://thefront.casafamiliar.org/wp-content/uploads/2026/03/Eli-Flyers-4.jpg
END:VEVENT
BEGIN:VEVENT
DTSTART;TZID=America/Los_Angeles:20260326T200000
DTEND;TZID=America/Los_Angeles:20260326T220000
DTSTAMP:20260424T052157
CREATED:20260121T005207Z
LAST-MODIFIED:20260121T005207Z
UID:6280-1774555200-1774562400@thefront.casafamiliar.org
SUMMARY:Advance Base\, Moontype\, & bobbie LIVE at El Salon
DESCRIPTION:Advance Base will be performing at El Salon Theatre as part of their Spring US tour supported by Moontype & bobbie. \nWednesday\, March 26th\, 2026 \nDoors open at 7:00pm \nShow starts at 8:00pm \nThis event is all ages \nEl Salon Theatre – 114 W Hall Ave. San Ysidro\, CA 92173 \nFree with RSVP – Tickets: https://www.eventbrite.com/e/advance-base-moontype-bobbie-live-at-el-salon-theatre-32626-tickets-1980029301943?utm-campaign=social&utm-content=attendeeshare&utm-medium=discovery&utm-term=listing&utm-source=cp&aff=ebdsshcopyurl \nParking: Due to resident parking\, and heavy congestion in the neighborhood\, we ask attendees to park on the Beyer Blvd. Trolley Station\, or use street parking.
URL:https://thefront.casafamiliar.org/event/advance-base-moontype-bobbie-live-at-el-salon
LOCATION:El Salon Theatre\, 114 W Hall Ave\, San Ysidro CA. 92147\, San Ysidro\, 92147\, United States
CATEGORIES:Live Concert
ATTACH;FMTTYPE=image/png:https://thefront.casafamiliar.org/wp-content/uploads/2026/01/blue-copy.png
END:VEVENT
BEGIN:VEVENT
DTSTART;TZID=America/Los_Angeles:20260331T173000
DTEND;TZID=America/Los_Angeles:20260331T200000
DTSTAMP:20260424T052157
CREATED:20260213T203121Z
LAST-MODIFIED:20260213T203121Z
UID:6369-1774978200-1774987200@thefront.casafamiliar.org
SUMMARY:Acrylics Workshop - Intermediate Level
DESCRIPTION:We’re excited to share that our wonderful teaching artist\, Katie Ruiz\, will be returning to teach Acrylics Part Two this March! \nThis next session will take place on Tuesdays:\nMarch 10\, 17\, 24\, 31\nApril 7\, 14\, 21\, 28\nTime: 5:30 – 8:00 PM \nLocation: The Front Gallery\nAll materials are included\, and the workshop is free of cost. \nThis workshop is designed for students who previously completed the acrylics session. A limited number of spots are available for new participants with intermediate acrylic painting experience. \n\nNos complace anunciar que nuestra maravillosa artista docente\, Katie Ruiz\, regresará para impartir la segunda parte de Acrílicos este marzo. \nEsta próxima sesión se llevará a cabo los martes:\n10\, 17\, 24 y 31 de marzo\n7\, 14\, 21 y 28 de abril\nHorario: 5:30- 8:00pm \nUbicación: The Front Gallery\nTodos los materiales están incluidos y el taller es gratuito. \nEste taller está diseñado para estudiantes que ya completaron la sesión de acrílicos. Hay plazas limitadas para nuevos participantes con experiencia intermedia en pintura acrílica.
URL:https://thefront.casafamiliar.org/event/acrylics-workshop-intermediate-level-4
LOCATION:The Front Arte y Cultura
CATEGORIES:Workshop
ATTACH;FMTTYPE=image/jpeg:https://thefront.casafamiliar.org/wp-content/uploads/2026/02/Eli-Flyers.jpg
END:VEVENT
END:VCALENDAR