BEGIN:VCALENDAR
VERSION:2.0
PRODID:-//The Front Arte Cultura - ECPv6.15.20//NONSGML v1.0//EN
CALSCALE:GREGORIAN
METHOD:PUBLISH
X-WR-CALNAME:The Front Arte Cultura
X-ORIGINAL-URL:https://thefront.casafamiliar.org
X-WR-CALDESC:Eventos para The Front Arte Cultura
REFRESH-INTERVAL;VALUE=DURATION:PT1H
X-Robots-Tag:noindex
X-PUBLISHED-TTL:PT1H
BEGIN:VTIMEZONE
TZID:America/Los_Angeles
BEGIN:DAYLIGHT
TZOFFSETFROM:-0800
TZOFFSETTO:-0700
TZNAME:PDT
DTSTART:20240310T100000
END:DAYLIGHT
BEGIN:STANDARD
TZOFFSETFROM:-0700
TZOFFSETTO:-0800
TZNAME:PST
DTSTART:20241103T090000
END:STANDARD
BEGIN:DAYLIGHT
TZOFFSETFROM:-0800
TZOFFSETTO:-0700
TZNAME:PDT
DTSTART:20250309T100000
END:DAYLIGHT
BEGIN:STANDARD
TZOFFSETFROM:-0700
TZOFFSETTO:-0800
TZNAME:PST
DTSTART:20251102T090000
END:STANDARD
BEGIN:DAYLIGHT
TZOFFSETFROM:-0800
TZOFFSETTO:-0700
TZNAME:PDT
DTSTART:20260308T100000
END:DAYLIGHT
BEGIN:STANDARD
TZOFFSETFROM:-0700
TZOFFSETTO:-0800
TZNAME:PST
DTSTART:20261101T090000
END:STANDARD
END:VTIMEZONE
BEGIN:VEVENT
DTSTART;VALUE=DATE:20250531
DTEND;VALUE=DATE:20250608
DTSTAMP:20260424T184147
CREATED:20250416T224620Z
LAST-MODIFIED:20250519T183922Z
UID:5456-1748649600-1749340799@thefront.casafamiliar.org
SUMMARY:Land + Lenses final exhibition at The Front Arte y Cultura
DESCRIPTION:We’d love for you to join us on Saturday\, May 31 for the Land + Lenses final exhibition at The Front Arte y Cultura in San Ysidro. \n147 W San Ysidro Blvd\n1:00 PM – 4:00 PM (Opening Reception) Exhibition stays until June 7th.\nFree | Open to the public | Food included\nRSVP here: bit.ly/landandlenses \nThis culminating event features original works by seven youth apprentices who have been part of this youth-led program since February. Their creative works explore environmental justice\, community voice\, and belonging through photography and mixed media. \nLand and Lenses is created in partnership with The Institute for Public Strategies and Casa Familiar\, and is funded by the Arts in California Parks Local Parks Grant Program\, administered by Parks California.
URL:https://thefront.casafamiliar.org/event/land-lenses-final-exhibition
LOCATION:The Front Arte y Cultura
CATEGORIES:Exhibitions,Opening
ATTACH;FMTTYPE=image/png:https://thefront.casafamiliar.org/wp-content/uploads/2025/04/Screenshot-2025-04-07-at-1.10.37-PM.png
END:VEVENT
BEGIN:VEVENT
DTSTART;TZID=America/Los_Angeles:20250603T103000
DTEND;TZID=America/Los_Angeles:20250603T130000
DTSTAMP:20260424T184147
CREATED:20250424T230425Z
LAST-MODIFIED:20250424T230425Z
UID:5507-1748946600-1748955600@thefront.casafamiliar.org
SUMMARY:FREE Workshop: Capturing the summer through alternative photographic processes
DESCRIPTION:Unleash your creativity under the summer sun! Join us for a hands-on exploration of cyanotype and anthotype\, two captivating alternative photographic processes that use sunlight and natural elements to create one-of-a-kind images. \nJune 3\, 10\, 17 and 24 – 10:30am – 1:00pm \nJuly 1: 10:30am- 12:30pm \nAll materials provided. Limited capacity.Hosted at The FRONT Gallery \nRSVP required – email elizabethb@casafamiliar.orgCall (619) 428-1115 ext. 615 for more info
URL:https://thefront.casafamiliar.org/event/free-workshop-capturing-the-summer-through-alternative-photographic-processes
LOCATION:The Front Arte y Cultura
CATEGORIES:Workshop
ATTACH;FMTTYPE=image/jpeg:https://thefront.casafamiliar.org/wp-content/uploads/2025/04/Cianotipia-Ingles.jpg
END:VEVENT
BEGIN:VEVENT
DTSTART;TZID=America/Los_Angeles:20250607T100000
DTEND;TZID=America/Los_Angeles:20250607T130000
DTSTAMP:20260424T184147
CREATED:20250414T202945Z
LAST-MODIFIED:20250414T202945Z
UID:5434-1749290400-1749301200@thefront.casafamiliar.org
SUMMARY:Ceramics Fundamentals – Hand Building – Free Workshop
DESCRIPTION:Join us for a 4-week journey into the world of clay! In this hands-on class\, you’ll learn the essential techniques of hand-building—slab\, coil\, and pinch—to create beautiful\, functional\, and expressive pieces. We’ll focus on forming\, construction\, and creative exploration while building works to be bisque-fired and glazed in Part Two (July 2025). \nNo experience needed—just curiosity and a willingness to get your hands dirty! \nSaturdays\, June 7\, 14\, 21\, 28 \n10:00 am – 1:00pm \nSave your spot with: elizabethb@casafamiliar.org
URL:https://thefront.casafamiliar.org/event/ceramics-fundamentals-hand-building-free-workshop
LOCATION:The Front Arte y Cultura
CATEGORIES:Workshop
ATTACH;FMTTYPE=image/jpeg:https://thefront.casafamiliar.org/wp-content/uploads/2025/04/8.jpg
ORGANIZER;CN="The FRONT Arte Cultura":MAILTO:hectorc@casafamiliar.org
END:VEVENT
BEGIN:VEVENT
DTSTART;TZID=America/Los_Angeles:20250607T113000
DTEND;TZID=America/Los_Angeles:20250607T130000
DTSTAMP:20260424T184147
CREATED:20250506T204320Z
LAST-MODIFIED:20250506T204320Z
UID:5547-1749295800-1749301200@thefront.casafamiliar.org
SUMMARY:Taller gratuito: Creando narrativas para el nuevo mundo
DESCRIPTION:UNA SERIE DE TALLERES CON CEMPAZÚCHITL’S LIBRARY \nÚnete a nosotrxs en un ciclo de talleres creativos donde exploraremos la memoria\, la imaginación y la escritura como herramientas de transformación comunitaria. A través de la poesía\, el collage y los zines\, te invitamos a imaginar y construir nuevas narrativas para un mundo distinto.Sin costo y con materiales incluidos. \nThe FRONT Books – 147 W Hall Ave\, San Ysidro\, CA \nJunio 7 – 11:30am a 1:00pmTaller de Zines con textos propios \nSerá un taller de zines. Los participantes de este taller tendrán tiempo para construir su zine usando poemas y otras partes de su trabajo de los talleres anteriores. Tendrán ejemplos de diferentes zines para que se inspiren. \n\nAparta tu lugar escribiendo a: elizabethb@casafamiliar.orgMás información: (619) 428-1115 ext. 615
URL:https://thefront.casafamiliar.org/event/taller-gratuito-creando-narrativas-para-el-nuevo-mundo-3
LOCATION:The Front Arte y Cultura
CATEGORIES:Workshop
ATTACH;FMTTYPE=image/jpeg:https://thefront.casafamiliar.org/wp-content/uploads/2025/05/Poesia-Esp-1.jpg
END:VEVENT
BEGIN:VEVENT
DTSTART;TZID=America/Los_Angeles:20250607T183000
DTEND;TZID=America/Los_Angeles:20250607T210000
DTSTAMP:20260424T184147
CREATED:20250530T201356Z
LAST-MODIFIED:20250602T200914Z
UID:5582-1749321000-1749330000@thefront.casafamiliar.org
SUMMARY:Multi-media Performance "Eternus Orbis" - By Fana Muñoz & Moisés Regla
DESCRIPTION:From Mexico City to San Ysidro\, presenting the collaborative work of Fana Muñoz – artist\, DJ\, performer – and Moisés Regla – visualist – for «ETERNUS ORBIS» on Saturday\, June 7th\, 2025 \nDoors Open  6:30pm  \nFree Entry  \nEl Salón Theatre – 114 W Hall Ave\, San Ysidro CA 92173 \nParking – All parking at El Salón Theatre is for residents only. We ask that all attendees use available street parking\, as well as encourage the use of public transit – the nearest Trolley station is Beyer Blvd.
URL:https://thefront.casafamiliar.org/event/multi-media-performance-aeternus-orbis-by-fana-munoz-moises-regla
LOCATION:El Salon Theatre\, 114 W Hall Ave\, San Ysidro CA. 92147\, San Ysidro\, 92147\, United States
CATEGORIES:Performances
ATTACH;FMTTYPE=image/png:https://thefront.casafamiliar.org/wp-content/uploads/2025/06/630pm.png
END:VEVENT
BEGIN:VEVENT
DTSTART;TZID=America/Los_Angeles:20250610T103000
DTEND;TZID=America/Los_Angeles:20250610T130000
DTSTAMP:20260424T184147
CREATED:20250424T230525Z
LAST-MODIFIED:20250424T230525Z
UID:5509-1749551400-1749560400@thefront.casafamiliar.org
SUMMARY:FREE Workshop: Capturing the summer through alternative photographic processes
DESCRIPTION:Unleash your creativity under the summer sun! Join us for a hands-on exploration of cyanotype and anthotype\, two captivating alternative photographic processes that use sunlight and natural elements to create one-of-a-kind images. \nJune 3\, 10\, 17 and 24 – 10:30am – 1:00pm \nJuly 1: 10:30am- 12:30pm \nAll materials provided. Limited capacity.Hosted at The FRONT Gallery \nRSVP required – email elizabethb@casafamiliar.orgCall (619) 428-1115 ext. 615 for more info
URL:https://thefront.casafamiliar.org/event/free-workshop-capturing-the-summer-through-alternative-photographic-processes-2
LOCATION:The Front Arte y Cultura
CATEGORIES:Workshop
ATTACH;FMTTYPE=image/jpeg:https://thefront.casafamiliar.org/wp-content/uploads/2025/04/Cianotipia-Ingles.jpg
END:VEVENT
BEGIN:VEVENT
DTSTART;TZID=America/Los_Angeles:20250612T173000
DTEND;TZID=America/Los_Angeles:20250612T173000
DTSTAMP:20260424T184147
CREATED:20250530T200133Z
LAST-MODIFIED:20250530T200133Z
UID:5580-1749749400-1749749400@thefront.casafamiliar.org
SUMMARY:Book Reading + Community Open Mic
DESCRIPTION:Delicate Things\nBook Reading + Community Open Mic\nJoin us for an intimate evening of poetry\, art\, and community. Featuring readings from Delicate Things\, a new poetry collection by Shannon English\, with artwork by local artist Gabriela Ponce Curlongo. \nSpecial performances by featured poetsOpen mic — come share your voice!Art prints available at the event \nThursday\, June 12th \n5:30pm \nThe FRONT Books (inside the gallery) \nFree entrance
URL:https://thefront.casafamiliar.org/event/book-reading-community-open-mic
LOCATION:The Front Arte y Cultura
CATEGORIES:Book Presentation,Poetry Reading
ATTACH;FMTTYPE=image/jpeg:https://thefront.casafamiliar.org/wp-content/uploads/2025/05/Book-Reading-1.jpg
END:VEVENT
BEGIN:VEVENT
DTSTART;TZID=America/Los_Angeles:20250614T100000
DTEND;TZID=America/Los_Angeles:20250614T130000
DTSTAMP:20260424T184147
CREATED:20250414T204936Z
LAST-MODIFIED:20250414T204936Z
UID:5436-1749895200-1749906000@thefront.casafamiliar.org
SUMMARY:Ceramics Fundamentals – Hand Building – Free Workshop
DESCRIPTION:Join us for a 4-week journey into the world of clay! In this hands-on class\, you’ll learn the essential techniques of hand-building—slab\, coil\, and pinch—to create beautiful\, functional\, and expressive pieces. We’ll focus on forming\, construction\, and creative exploration while building works to be bisque-fired and glazed in Part Two (July 2025). \nNo experience needed—just curiosity and a willingness to get your hands dirty! \nSaturdays\, June 7\, 14\, 21\, 28 \n10:00 am – 1:00pm \nSave your spot with: elizabethb@casafamiliar.org
URL:https://thefront.casafamiliar.org/event/ceramics-fundamentals-hand-building-free-workshop-2
LOCATION:The Front Arte y Cultura
CATEGORIES:Workshop
ATTACH;FMTTYPE=image/jpeg:https://thefront.casafamiliar.org/wp-content/uploads/2025/04/8.jpg
ORGANIZER;CN="The FRONT Arte Cultura":MAILTO:hectorc@casafamiliar.org
END:VEVENT
BEGIN:VEVENT
DTSTART;TZID=America/Los_Angeles:20250617T103000
DTEND;TZID=America/Los_Angeles:20250617T130000
DTSTAMP:20260424T184147
CREATED:20250424T230739Z
LAST-MODIFIED:20250424T230739Z
UID:5511-1750156200-1750165200@thefront.casafamiliar.org
SUMMARY:FREE Workshop: Capturing the summer through alternative photographic processes
DESCRIPTION:Unleash your creativity under the summer sun! Join us for a hands-on exploration of cyanotype and anthotype\, two captivating alternative photographic processes that use sunlight and natural elements to create one-of-a-kind images. \nJune 3\, 10\, 17 and 24 – 10:30am – 1:00pm \nJuly 1: 10:30am- 12:30pm \nAll materials provided. Limited capacity.Hosted at The FRONT Gallery \nRSVP required – email elizabethb@casafamiliar.orgCall (619) 428-1115 ext. 615 for more info
URL:https://thefront.casafamiliar.org/event/free-workshop-capturing-the-summer-through-alternative-photographic-processes-3
LOCATION:The Front Arte y Cultura
CATEGORIES:Workshop
ATTACH;FMTTYPE=image/jpeg:https://thefront.casafamiliar.org/wp-content/uploads/2025/04/Cianotipia-Ingles.jpg
END:VEVENT
BEGIN:VEVENT
DTSTART;TZID=America/Los_Angeles:20250618T190000
DTEND;TZID=America/Los_Angeles:20250618T210000
DTSTAMP:20260424T184147
CREATED:20250414T223938Z
LAST-MODIFIED:20250414T223938Z
UID:5442-1750273200-1750280400@thefront.casafamiliar.org
SUMMARY:Parque de Cometas with Les Temps Barbares - LIVE at El Salon Theatre
DESCRIPTION:Parque de Cometas (TJ\, MX) will perform at El Salón Theater with support from Les Temps Barbares. \nWednesday\, June 18\, 2025 \nDoors open at 7:00 PM. The show begins at 8:00 PM. \nFree admission \nEl Salón Theater: 114 W Hall Ave. San Diego\, CA 92173 \nParking: Because El Salón is located between resident parking lots\, we ask all attendees to park on the street or use public transportation. \n\nParque de Cometas (TJ\, MX) se presentará en El Salón Theatre apoyados por Les Temps Barbares. \nMiércoles\, 18 de junio de 2025 \nLas puertas abrirán a las 19:00 h. El espectáculo comenzará a las 20:00 h. \nEntrada gratuita \nEl Salón Theatre: 114 W Hall Ave. San Diego\, CA 92173 \nEstacionamiento: Debido a que El Salón se encuentra entre estacionamientos para residentes\, solicitamos a todos los asistentes que estacionen sus autos en la calle o utilicen el transporte público.
URL:https://thefront.casafamiliar.org/event/parque-de-cometas-with-les-temps-barbares-live-at-el-salon-theatre
LOCATION:El Salon Theatre\, 114 W Hall Ave\, San Ysidro CA. 92147\, San Ysidro\, 92147\, United States
CATEGORIES:Live Concert
ATTACH;FMTTYPE=image/jpeg:https://thefront.casafamiliar.org/wp-content/uploads/2025/04/parque-de-cometas-1.jpg
ORGANIZER;CN="Casa Familiar":MAILTO:info@casafamiliar.org
END:VEVENT
BEGIN:VEVENT
DTSTART;TZID=America/Los_Angeles:20250621T100000
DTEND;TZID=America/Los_Angeles:20250621T130000
DTSTAMP:20260424T184147
CREATED:20250414T222723Z
LAST-MODIFIED:20250414T222723Z
UID:5438-1750500000-1750510800@thefront.casafamiliar.org
SUMMARY:Ceramics Fundamentals – Hand Building – Free Workshop
DESCRIPTION:Join us for a 4-week journey into the world of clay! In this hands-on class\, you’ll learn the essential techniques of hand-building—slab\, coil\, and pinch—to create beautiful\, functional\, and expressive pieces. We’ll focus on forming\, construction\, and creative exploration while building works to be bisque-fired and glazed in Part Two (July 2025). \nNo experience needed—just curiosity and a willingness to get your hands dirty! \nSaturdays\, June 7\, 14\, 21\, 28 \n10:00 am – 1:00pm \nSave your spot with: elizabethb@casafamiliar.org
URL:https://thefront.casafamiliar.org/event/ceramics-fundamentals-hand-building-free-workshop-3
LOCATION:The Front Arte y Cultura
CATEGORIES:Workshop
ATTACH;FMTTYPE=image/jpeg:https://thefront.casafamiliar.org/wp-content/uploads/2025/04/8.jpg
ORGANIZER;CN="The FRONT Arte Cultura":MAILTO:hectorc@casafamiliar.org
END:VEVENT
BEGIN:VEVENT
DTSTART;TZID=America/Los_Angeles:20250624T103000
DTEND;TZID=America/Los_Angeles:20250624T130000
DTSTAMP:20260424T184147
CREATED:20250424T230948Z
LAST-MODIFIED:20250424T230948Z
UID:5513-1750761000-1750770000@thefront.casafamiliar.org
SUMMARY:FREE Workshop: Capturing the summer through alternative photographic processes
DESCRIPTION:Unleash your creativity under the summer sun! Join us for a hands-on exploration of cyanotype and anthotype\, two captivating alternative photographic processes that use sunlight and natural elements to create one-of-a-kind images. \nJune 3\, 10\, 17 and 24 – 10:30am – 1:00pm \nJuly 1: 10:30am- 12:30pm \nAll materials provided. Limited capacity.Hosted at The FRONT Gallery \nRSVP required – email elizabethb@casafamiliar.orgCall (619) 428-1115 ext. 615 for more info
URL:https://thefront.casafamiliar.org/event/free-workshop-capturing-the-summer-through-alternative-photographic-processes-4
LOCATION:The Front Arte y Cultura
CATEGORIES:Workshop
ATTACH;FMTTYPE=image/jpeg:https://thefront.casafamiliar.org/wp-content/uploads/2025/04/Cianotipia-Ingles.jpg
END:VEVENT
BEGIN:VEVENT
DTSTART;TZID=America/Los_Angeles:20250626T183000
DTEND;TZID=America/Los_Angeles:20250626T193000
DTSTAMP:20260424T184147
CREATED:20250607T230910Z
LAST-MODIFIED:20250607T230910Z
UID:5619-1750962600-1750966200@thefront.casafamiliar.org
SUMMARY:Kintsugi Theatre Dance presents «PATÁN»
DESCRIPTION:Patán is a monologue that\, through humor and physical theater\, immerses us in the life of a mixed-breed dog who\, after being abandoned\, must learn to survive on the streets.\nA dog’s greatest crime is being born. Patán\, a monologue that touches on the most sensitive aspects of our cities. The people who live in abandonment with no hope of escaping this situation. Patán fights and loses in the attempt\, like thousands of our children and elderly whom we have stopped seeing\, whom we have erased from the map of our social conscience. \nThursday\, June 26\, 6:30 p.m. \nEl Salon Teatro (114 W Hall Ave San Ysidro\, CA) \nFree admission \nParking: Parking at El Salón Theater is exclusive to residents. We ask all attendees to use available street parking and encourage the use of public transportation. The nearest cable car station is Beyer Blvd.
URL:https://thefront.casafamiliar.org/event/kintsugi-theatre-dance-presents-patan
LOCATION:El Salon Theatre\, 114 W Hall Ave\, San Ysidro CA. 92147\, San Ysidro\, 92147\, United States
CATEGORIES:Performances,Theatre Performance
ATTACH;FMTTYPE=image/jpeg:https://thefront.casafamiliar.org/wp-content/uploads/2025/06/El-Salon-Events-1.jpg
ORGANIZER;CN="Casa Familiar":MAILTO:info@casafamiliar.org
END:VEVENT
BEGIN:VEVENT
DTSTART;TZID=America/Los_Angeles:20250628T100000
DTEND;TZID=America/Los_Angeles:20250628T130000
DTSTAMP:20260424T184147
CREATED:20250414T222910Z
LAST-MODIFIED:20250414T222910Z
UID:5440-1751104800-1751115600@thefront.casafamiliar.org
SUMMARY:Ceramics Fundamentals – Hand Building – Free Workshop
DESCRIPTION:Join us for a 4-week journey into the world of clay! In this hands-on class\, you’ll learn the essential techniques of hand-building—slab\, coil\, and pinch—to create beautiful\, functional\, and expressive pieces. We’ll focus on forming\, construction\, and creative exploration while building works to be bisque-fired and glazed in Part Two (July 2025). \nNo experience needed—just curiosity and a willingness to get your hands dirty! \nSaturdays\, June 7\, 14\, 21\, 28 \n10:00 am – 1:00pm \nSave your spot with: elizabethb@casafamiliar.org
URL:https://thefront.casafamiliar.org/event/ceramics-fundamentals-hand-building-free-workshop-4
LOCATION:The Front Arte y Cultura
CATEGORIES:Workshop
ATTACH;FMTTYPE=image/jpeg:https://thefront.casafamiliar.org/wp-content/uploads/2025/04/8.jpg
ORGANIZER;CN="The FRONT Arte Cultura":MAILTO:hectorc@casafamiliar.org
END:VEVENT
BEGIN:VEVENT
DTSTART;TZID=America/Los_Angeles:20250628T110000
DTEND;TZID=America/Los_Angeles:20250628T120000
DTSTAMP:20260424T184147
CREATED:20250530T203531Z
LAST-MODIFIED:20250530T203531Z
UID:5584-1751108400-1751112000@thefront.casafamiliar.org
SUMMARY:Dance Performance "Amá" by Diálogos Danzados
DESCRIPTION:Follow Miroslava Wilson and Briseida Lopez on their powerful journey through «Amá»\, a dance performance by Diálogos Danzados—live at El Salon Theatre on June 28 at 11am.
URL:https://thefront.casafamiliar.org/event/dance-performance-ama-by-dialogos-danzados
LOCATION:El Salon Theatre\, 114 W Hall Ave\, San Ysidro CA. 92147\, San Ysidro\, 92147\, United States
CATEGORIES:Performances
ATTACH;FMTTYPE=image/jpeg:https://thefront.casafamiliar.org/wp-content/uploads/2025/05/El-Salon-Concert.jpg
END:VEVENT
BEGIN:VEVENT
DTSTART;TZID=America/Los_Angeles:20250628T190000
DTEND;TZID=America/Los_Angeles:20250628T210000
DTSTAMP:20260424T184147
CREATED:20250414T224317Z
LAST-MODIFIED:20250414T224317Z
UID:5444-1751137200-1751144400@thefront.casafamiliar.org
SUMMARY:Vertigo with Alorah Meraki - LIVE at El Salon
DESCRIPTION:Vertigo (TJ\,MX) will be performing their debut album at El Salon Theatre after their international tour across Mexico & the U.S.A. \nAlorah Meraki will be supporting as the opener for this show. \nSaturday\, June 28th\, 2025 \nDoors will open at 7pm\, Show will begin at 8pm \nFree Admission \nEl Salon Theatre: 114 W Hall Ave. San Diego\, CA 92173 \nParking: Due to El Salon’s location among resident parking\, we ask all attendees to park their cars on street parking or use public transportation. \n\nVertigo (TJ\, MX) presentará su álbum debut en el El Salón Theatre tras su gira internacional por México y Estados Unidos. \nAlorah Meraki será la artista telonera de este espectáculo. \nSábado\, 28 de junio de 2025 \nLas puertas abrirán a las 19:00 h y el espectáculo comenzará a las 20:00 h. \nEntrada gratuita \nEl Salón Theatre: 114 W Hall Ave. San Diego\, CA 92173 \nEstacionamiento: Debido a que El Salón se encuentra entre estacionamientos para residentes\, solicitamos a todos los asistentes que estacionen sus autos en la calle o utilicen el transporte público.
URL:https://thefront.casafamiliar.org/event/vertigo-with-alorah-meraki-live-at-el-salon
LOCATION:El Salon Theatre\, 114 W Hall Ave\, San Ysidro CA. 92147\, San Ysidro\, 92147\, United States
CATEGORIES:Live Concert
ATTACH;FMTTYPE=image/jpeg:https://thefront.casafamiliar.org/wp-content/uploads/2025/04/image1.jpeg
ORGANIZER;CN="Casa Familiar":MAILTO:info@casafamiliar.org
END:VEVENT
END:VCALENDAR