BEGIN:VCALENDAR
VERSION:2.0
PRODID:-//The Front Arte Cultura - ECPv6.15.20//NONSGML v1.0//EN
CALSCALE:GREGORIAN
METHOD:PUBLISH
X-WR-CALNAME:The Front Arte Cultura
X-ORIGINAL-URL:https://thefront.casafamiliar.org
X-WR-CALDESC:Eventos para The Front Arte Cultura
REFRESH-INTERVAL;VALUE=DURATION:PT1H
X-Robots-Tag:noindex
X-PUBLISHED-TTL:PT1H
BEGIN:VTIMEZONE
TZID:America/Los_Angeles
BEGIN:DAYLIGHT
TZOFFSETFROM:-0800
TZOFFSETTO:-0700
TZNAME:PDT
DTSTART:20230312T100000
END:DAYLIGHT
BEGIN:STANDARD
TZOFFSETFROM:-0700
TZOFFSETTO:-0800
TZNAME:PST
DTSTART:20231105T090000
END:STANDARD
BEGIN:DAYLIGHT
TZOFFSETFROM:-0800
TZOFFSETTO:-0700
TZNAME:PDT
DTSTART:20240310T100000
END:DAYLIGHT
BEGIN:STANDARD
TZOFFSETFROM:-0700
TZOFFSETTO:-0800
TZNAME:PST
DTSTART:20241103T090000
END:STANDARD
BEGIN:DAYLIGHT
TZOFFSETFROM:-0800
TZOFFSETTO:-0700
TZNAME:PDT
DTSTART:20250309T100000
END:DAYLIGHT
BEGIN:STANDARD
TZOFFSETFROM:-0700
TZOFFSETTO:-0800
TZNAME:PST
DTSTART:20251102T090000
END:STANDARD
END:VTIMEZONE
BEGIN:VEVENT
DTSTART;TZID=America/Los_Angeles:20240907T110000
DTEND;TZID=America/Los_Angeles:20240907T130000
DTSTAMP:20260422T110906
CREATED:20240729T232431Z
LAST-MODIFIED:20240729T232947Z
UID:4595-1725706800-1725714000@thefront.casafamiliar.org
SUMMARY:Free Screen Printing Workshop
DESCRIPTION:SCREEN-PRINTING workshop\nLearn the fundamentals of screen-printing on fabric and paper in this hands-on course. Learn to coat and expose screens and create stunning prints. \nBasic materials included. \nAges: 18+ \nFree. Save your spot by sending an email to: elizabethb@casafamiliar.org \nSeptember 7 (11:00am – 1:00pm)September 14\, 21\, 28 (11:30am – 2:00pm) \nWeek 1: Design and printing processes.\nWeek 2: Coating and burning your own screen.\nWeek 3: Color mixing and multicolor printing.\nWeek 4: Final Project. \nMore info here.
URL:https://thefront.casafamiliar.org/event/free-screen-printing-workshop
LOCATION:The Front Arte y Cultura
CATEGORIES:Workshop
ATTACH;FMTTYPE=image/jpeg:https://thefront.casafamiliar.org/wp-content/uploads/2024/07/2.jpg
ORGANIZER;CN="The FRONT Arte Cultura":MAILTO:hectorc@casafamiliar.org
END:VEVENT
BEGIN:VEVENT
DTSTART;TZID=America/Los_Angeles:20240914T113000
DTEND;TZID=America/Los_Angeles:20240914T140000
DTSTAMP:20260422T110906
CREATED:20240729T232819Z
LAST-MODIFIED:20240729T232819Z
UID:4597-1726313400-1726322400@thefront.casafamiliar.org
SUMMARY:Free Screen Printing Workshop
DESCRIPTION:SCREEN-PRINTING workshop\nLearn the fundamentals of screen-printing on fabric and paper in this hands-on course. Learn to coat and expose screens and create stunning prints. \nTaught by: Claudia Cano. Basic materials included. \nAges: 18+ \nFree. Save your spot by sending an email to: elizabethb@casafamiliar.org \nSeptember 7 (11:00am – 1:00pm)September 14\, 21\, 28 (11:30am – 2:00pm) \nWeek 1: Design and printing processes.\nWeek 2: Coating and burning your own screen.\nWeek 3: Color mixing and multicolor printing.\nWeek 4: Final Project. \nMore info here.
URL:https://thefront.casafamiliar.org/event/free-screen-printing-workshop-2
LOCATION:The Front Arte y Cultura
CATEGORIES:Workshop
ATTACH;FMTTYPE=image/jpeg:https://thefront.casafamiliar.org/wp-content/uploads/2024/07/1.jpg
ORGANIZER;CN="The FRONT Arte Cultura":MAILTO:hectorc@casafamiliar.org
END:VEVENT
BEGIN:VEVENT
DTSTART;TZID=America/Los_Angeles:20240921T113000
DTEND;TZID=America/Los_Angeles:20240921T140000
DTSTAMP:20260422T110906
CREATED:20240729T233350Z
LAST-MODIFIED:20240729T233350Z
UID:4599-1726918200-1726927200@thefront.casafamiliar.org
SUMMARY:Free Screen Printing Workshop
DESCRIPTION:SCREEN-PRINTING workshop\nLearn the fundamentals of screen-printing on fabric and paper in this hands-on course. Learn to coat and expose screens and create stunning prints. \nTaught by: Claudia Cano. Basic materials included. \nAges: 18+ \nFree. Save your spot by sending an email to: elizabethb@casafamiliar.org \nSeptember 7 (11:00am – 1:00pm)September 14\, 21\, 28 (11:30am – 2:00pm) \nWeek 1: Design and printing processes.\nWeek 2: Coating and burning your own screen.\nWeek 3: Color mixing and multicolor printing.\nWeek 4: Final Project. \nMore info here.
URL:https://thefront.casafamiliar.org/event/free-screen-printing-workshop-3
LOCATION:The Front Arte y Cultura
CATEGORIES:Workshop
ATTACH;FMTTYPE=image/jpeg:https://thefront.casafamiliar.org/wp-content/uploads/2024/07/2.jpg
ORGANIZER;CN="The FRONT Arte Cultura":MAILTO:hectorc@casafamiliar.org
END:VEVENT
BEGIN:VEVENT
DTSTART;TZID=America/Los_Angeles:20240928T113000
DTEND;TZID=America/Los_Angeles:20240928T140000
DTSTAMP:20260422T110906
CREATED:20240729T233542Z
LAST-MODIFIED:20240729T233542Z
UID:4601-1727523000-1727532000@thefront.casafamiliar.org
SUMMARY:Free Screen Printing Workshop
DESCRIPTION:SCREEN-PRINTING workshop\nLearn the fundamentals of screen-printing on fabric and paper in this hands-on course. Learn to coat and expose screens and create stunning prints. \nTaught by: Claudia Cano. Basic materials included. \nAges: 18+ \nFree. Save your spot by sending an email to: elizabethb@casafamiliar.org \nSeptember 7 (11:00am – 1:00pm)September 14\, 21\, 28 (11:30am – 2:00pm) \nWeek 1: Design and printing processes.\nWeek 2: Coating and burning your own screen.\nWeek 3: Color mixing and multicolor printing.\nWeek 4: Final Project. \nMore info here.
URL:https://thefront.casafamiliar.org/event/free-screen-printing-workshop-4
LOCATION:The Front Arte y Cultura
CATEGORIES:Workshop
ATTACH;FMTTYPE=image/jpeg:https://thefront.casafamiliar.org/wp-content/uploads/2024/07/2.jpg
ORGANIZER;CN="The FRONT Arte Cultura":MAILTO:hectorc@casafamiliar.org
END:VEVENT
END:VCALENDAR