BEGIN:VCALENDAR
VERSION:2.0
PRODID:-//The Front Arte Cultura - ECPv6.15.20//NONSGML v1.0//EN
CALSCALE:GREGORIAN
METHOD:PUBLISH
X-WR-CALNAME:The Front Arte Cultura
X-ORIGINAL-URL:https://thefront.casafamiliar.org
X-WR-CALDESC:Eventos para The Front Arte Cultura
REFRESH-INTERVAL;VALUE=DURATION:PT1H
X-Robots-Tag:noindex
X-PUBLISHED-TTL:PT1H
BEGIN:VTIMEZONE
TZID:America/Los_Angeles
BEGIN:DAYLIGHT
TZOFFSETFROM:-0800
TZOFFSETTO:-0700
TZNAME:PDT
DTSTART:20230312T100000
END:DAYLIGHT
BEGIN:STANDARD
TZOFFSETFROM:-0700
TZOFFSETTO:-0800
TZNAME:PST
DTSTART:20231105T090000
END:STANDARD
BEGIN:DAYLIGHT
TZOFFSETFROM:-0800
TZOFFSETTO:-0700
TZNAME:PDT
DTSTART:20240310T100000
END:DAYLIGHT
BEGIN:STANDARD
TZOFFSETFROM:-0700
TZOFFSETTO:-0800
TZNAME:PST
DTSTART:20241103T090000
END:STANDARD
BEGIN:DAYLIGHT
TZOFFSETFROM:-0800
TZOFFSETTO:-0700
TZNAME:PDT
DTSTART:20250309T100000
END:DAYLIGHT
BEGIN:STANDARD
TZOFFSETFROM:-0700
TZOFFSETTO:-0800
TZNAME:PST
DTSTART:20251102T090000
END:STANDARD
END:VTIMEZONE
BEGIN:VEVENT
DTSTART;TZID=America/Los_Angeles:20240928T100000
DTEND;TZID=America/Los_Angeles:20240928T120000
DTSTAMP:20260422T095612
CREATED:20240913T164019Z
LAST-MODIFIED:20240913T164019Z
UID:4726-1727517600-1727524800@thefront.casafamiliar.org
SUMMARY:CreativeMornings San Diego at The FRONT
DESCRIPTION:Don’t miss the next CreativeMornings San Diego!\nDate:\nSaturday\, September 28\, 2024\n10am-12pm \nThe Front Gallery\n147 W San Ysidro Blvd\,\nSan Ysidro 92173 \n\nEvent Capacity is limited.  \nRegister here: Registration
URL:https://thefront.casafamiliar.org/event/creativemornings-san-diego-at-the-front
LOCATION:The Front Arte y Cultura
CATEGORIES:Conversations
ATTACH;FMTTYPE=image/png:https://thefront.casafamiliar.org/wp-content/uploads/2024/09/Screenshot-2024-09-13-at-9.40.03-AM.png
ORGANIZER;CN="The FRONT Arte Cultura":MAILTO:hectorc@casafamiliar.org
END:VEVENT
END:VCALENDAR