BEGIN:VCALENDAR
VERSION:2.0
PRODID:-//The Front Arte Cultura - ECPv6.15.20//NONSGML v1.0//EN
CALSCALE:GREGORIAN
METHOD:PUBLISH
X-WR-CALNAME:The Front Arte Cultura
X-ORIGINAL-URL:https://thefront.casafamiliar.org
X-WR-CALDESC:Eventos para The Front Arte Cultura
REFRESH-INTERVAL;VALUE=DURATION:PT1H
X-Robots-Tag:noindex
X-PUBLISHED-TTL:PT1H
BEGIN:VTIMEZONE
TZID:America/Los_Angeles
BEGIN:DAYLIGHT
TZOFFSETFROM:-0800
TZOFFSETTO:-0700
TZNAME:PDT
DTSTART:20230312T100000
END:DAYLIGHT
BEGIN:STANDARD
TZOFFSETFROM:-0700
TZOFFSETTO:-0800
TZNAME:PST
DTSTART:20231105T090000
END:STANDARD
BEGIN:DAYLIGHT
TZOFFSETFROM:-0800
TZOFFSETTO:-0700
TZNAME:PDT
DTSTART:20240310T100000
END:DAYLIGHT
BEGIN:STANDARD
TZOFFSETFROM:-0700
TZOFFSETTO:-0800
TZNAME:PST
DTSTART:20241103T090000
END:STANDARD
BEGIN:DAYLIGHT
TZOFFSETFROM:-0800
TZOFFSETTO:-0700
TZNAME:PDT
DTSTART:20250309T100000
END:DAYLIGHT
BEGIN:STANDARD
TZOFFSETFROM:-0700
TZOFFSETTO:-0800
TZNAME:PST
DTSTART:20251102T090000
END:STANDARD
END:VTIMEZONE
BEGIN:VEVENT
DTSTART;TZID=America/Los_Angeles:20240907T170000
DTEND;TZID=America/Los_Angeles:20240907T190000
DTSTAMP:20260422T101258
CREATED:20240904T012939Z
LAST-MODIFIED:20240904T012939Z
UID:4711-1725728400-1725735600@thefront.casafamiliar.org
SUMMARY:MIRAGE Closing Reception and outdoor concert
DESCRIPTION:Join us on Saturday\, September 7th\, for the closing reception of MIRAGE\, with an Artist Talk beginning at 5pm and a surprise DJ performance to follow! \nOr visit the gallery for the last few days of the exhibition Tuesday-Saturday\, 11am-6pm. \n¡Nos vemos! \n\n¡Únete a nosotros el sábado 7 de septiembre para la recepción de clausura de MIRAGE\, con una charla del artista a partir de las 5 p.m. y una presentación por un DJ sorpresa. \nO también\, visita la galería durante los últimos días de la exposición de martes a sábado\, de 11 a.m. a 6 p.m. \nEntrada libre.
URL:https://thefront.casafamiliar.org/event/mirage-closing-reception-and-outdoor-concert
LOCATION:The Front Arte y Cultura
CATEGORIES:Closing Reception
ATTACH;FMTTYPE=image/jpeg:https://thefront.casafamiliar.org/wp-content/uploads/2024/08/Marcos-Ramirez-Erre-1.jpg
ORGANIZER;CN="The FRONT Arte Cultura":MAILTO:hectorc@casafamiliar.org
END:VEVENT
END:VCALENDAR