BEGIN:VCALENDAR
VERSION:2.0
PRODID:-//The Front Arte Cultura - ECPv6.15.20//NONSGML v1.0//EN
CALSCALE:GREGORIAN
METHOD:PUBLISH
X-WR-CALNAME:The Front Arte Cultura
X-ORIGINAL-URL:https://thefront.casafamiliar.org
X-WR-CALDESC:Eventos para The Front Arte Cultura
REFRESH-INTERVAL;VALUE=DURATION:PT1H
X-Robots-Tag:noindex
X-PUBLISHED-TTL:PT1H
BEGIN:VTIMEZONE
TZID:America/Los_Angeles
BEGIN:DAYLIGHT
TZOFFSETFROM:-0800
TZOFFSETTO:-0700
TZNAME:PDT
DTSTART:20230312T100000
END:DAYLIGHT
BEGIN:STANDARD
TZOFFSETFROM:-0700
TZOFFSETTO:-0800
TZNAME:PST
DTSTART:20231105T090000
END:STANDARD
BEGIN:DAYLIGHT
TZOFFSETFROM:-0800
TZOFFSETTO:-0700
TZNAME:PDT
DTSTART:20240310T100000
END:DAYLIGHT
BEGIN:STANDARD
TZOFFSETFROM:-0700
TZOFFSETTO:-0800
TZNAME:PST
DTSTART:20241103T090000
END:STANDARD
BEGIN:DAYLIGHT
TZOFFSETFROM:-0800
TZOFFSETTO:-0700
TZNAME:PDT
DTSTART:20250309T100000
END:DAYLIGHT
BEGIN:STANDARD
TZOFFSETFROM:-0700
TZOFFSETTO:-0800
TZNAME:PST
DTSTART:20251102T090000
END:STANDARD
END:VTIMEZONE
BEGIN:VEVENT
DTSTART;TZID=America/Los_Angeles:20240719T130000
DTEND;TZID=America/Los_Angeles:20240719T140000
DTSTAMP:20260422T134401
CREATED:20240716T190238Z
LAST-MODIFIED:20240716T190238Z
UID:4509-1721394000-1721397600@thefront.casafamiliar.org
SUMMARY:“Somos Aire” – a borderlands fairytale set in San Ysidro
DESCRIPTION:Written by Mabelle Reynoso and directed by Tori Rice.\nStarring:\nNancy Batres\nVanessa Lopez\nArturo Medina\nZulema Reynoso \nIn this borderlands steampunk fairytale\, a young woman returns to her hometown of San Ysidro in search of a cure that will save her sister and her community. Exploring issues of environmental justice and air quality\, “Somos Aire” is a play about history\, homecoming\, and hope. \nDates:  \n\nJuly 17th\, 5:00 – 7:00 pm (Private event)\nJuly 19\, at 1:00 pm. (Summer Camp with Casa Familiar Youth Services)\nJuly 20th\, at SIDRO Saturdays. 3:00 – 4:00 pm\n\nLocation: \nEl Salon Theatre (114 W Hall Ave. San Ysidro\, CA 92173). \nFree entrance. \nAbout the grantees:\nMabelle Reynoso and Johnny Bear Contreras are two of about 60 individual artists and cultural practitioners working to create campaigns that raise awareness of crucial issues affecting our San Diego and Imperial counties communities as part of Far South/Border North.
URL:https://thefront.casafamiliar.org/event/somos-aire-a-borderlands-fairytale-set-in-san-ysidro-2
LOCATION:El Salon Theatre\, 114 W Hall Ave\, San Ysidro CA. 92147\, San Ysidro\, 92147\, United States
CATEGORIES:Theatre Performance
ATTACH;FMTTYPE=image/png:https://thefront.casafamiliar.org/wp-content/uploads/2024/04/FSBN_Somos_Aire_square-2.png
END:VEVENT
BEGIN:VEVENT
DTSTART;TZID=America/Los_Angeles:20240720T120000
DTEND;TZID=America/Los_Angeles:20240720T160000
DTSTAMP:20260422T134401
CREATED:20240716T190420Z
LAST-MODIFIED:20240716T190420Z
UID:4511-1721476800-1721491200@thefront.casafamiliar.org
SUMMARY:“Somos Aire” – a borderlands fairytale set in San Ysidro
DESCRIPTION:Written by Mabelle Reynoso and directed by Tori Rice.\nStarring:\nNancy Batres\nVanessa Lopez\nArturo Medina\nZulema Reynoso \nIn this borderlands steampunk fairytale\, a young woman returns to her hometown of San Ysidro in search of a cure that will save her sister and her community. Exploring issues of environmental justice and air quality\, “Somos Aire” is a play about history\, homecoming\, and hope. \nDates:  \n\nJuly 17th\, 5:00 – 7:00 pm (Private event)\nJuly 19\, at 1:00 pm. (Summer Camp with Casa Familiar Youth Services)\nJuly 20th\, at SIDRO Saturdays. 3:00 – 4:00 pm\n\nLocation: \nEl Salon Theatre (114 W Hall Ave. San Ysidro\, CA 92173). \nFree entrance. \nAbout the grantees:\nMabelle Reynoso and Johnny Bear Contreras are two of about 60 individual artists and cultural practitioners working to create campaigns that raise awareness of crucial issues affecting our San Diego and Imperial counties communities as part of Far South/Border North.
URL:https://thefront.casafamiliar.org/event/somos-aire-a-borderlands-fairytale-set-in-san-ysidro-3
LOCATION:El Salon Theatre\, 114 W Hall Ave\, San Ysidro CA. 92147\, San Ysidro\, 92147\, United States
CATEGORIES:Theatre Performance
ATTACH;FMTTYPE=image/png:https://thefront.casafamiliar.org/wp-content/uploads/2024/04/FSBN_Somos_Aire_square-2.png
END:VEVENT
END:VCALENDAR