BEGIN:VCALENDAR
VERSION:2.0
PRODID:-//The Front Arte Cultura - ECPv6.15.20//NONSGML v1.0//EN
CALSCALE:GREGORIAN
METHOD:PUBLISH
X-WR-CALNAME:The Front Arte Cultura
X-ORIGINAL-URL:https://thefront.casafamiliar.org
X-WR-CALDESC:Eventos para The Front Arte Cultura
REFRESH-INTERVAL;VALUE=DURATION:PT1H
X-Robots-Tag:noindex
X-PUBLISHED-TTL:PT1H
BEGIN:VTIMEZONE
TZID:America/Los_Angeles
BEGIN:DAYLIGHT
TZOFFSETFROM:-0800
TZOFFSETTO:-0700
TZNAME:PDT
DTSTART:20230312T100000
END:DAYLIGHT
BEGIN:STANDARD
TZOFFSETFROM:-0700
TZOFFSETTO:-0800
TZNAME:PST
DTSTART:20231105T090000
END:STANDARD
BEGIN:DAYLIGHT
TZOFFSETFROM:-0800
TZOFFSETTO:-0700
TZNAME:PDT
DTSTART:20240310T100000
END:DAYLIGHT
BEGIN:STANDARD
TZOFFSETFROM:-0700
TZOFFSETTO:-0800
TZNAME:PST
DTSTART:20241103T090000
END:STANDARD
BEGIN:DAYLIGHT
TZOFFSETFROM:-0800
TZOFFSETTO:-0700
TZNAME:PDT
DTSTART:20250309T100000
END:DAYLIGHT
BEGIN:STANDARD
TZOFFSETFROM:-0700
TZOFFSETTO:-0800
TZNAME:PST
DTSTART:20251102T090000
END:STANDARD
END:VTIMEZONE
BEGIN:VEVENT
DTSTART;VALUE=DATE:20240816
DTEND;VALUE=DATE:20240817
DTSTAMP:20260422T141024
CREATED:20240724T185546Z
LAST-MODIFIED:20240724T185546Z
UID:4574-1723766400-1723852799@thefront.casafamiliar.org
SUMMARY:Last day to apply for "Environmental Justice Arts-based Storytelling" internship
DESCRIPTION:The Environmental Justice Arts-based Storytelling activity is a paid apprenticeship program targeted at San Diego transborder youth. A group of 13 youth will participate in a 35 hour paid internship over the course of two months to gain skills in digital photography\, videography\, advocacy and storytelling with a focus on environmental concerns in the border region. Their work will be showcased at two community events and will also be used as a tool for Casa Familiar’s advocacy efforts.  \nGet more info here.
URL:https://thefront.casafamiliar.org/event/last-day-to-apply-for-environmental-justice-arts-based-storytelling-internship
CATEGORIES:Open Call
ATTACH;FMTTYPE=image/jpeg:https://thefront.casafamiliar.org/wp-content/uploads/2024/07/The-Old-Globe.jpg
END:VEVENT
END:VCALENDAR