BEGIN:VCALENDAR
VERSION:2.0
PRODID:-//The Front Arte Cultura - ECPv6.15.20//NONSGML v1.0//EN
CALSCALE:GREGORIAN
METHOD:PUBLISH
X-WR-CALNAME:The Front Arte Cultura
X-ORIGINAL-URL:https://thefront.casafamiliar.org
X-WR-CALDESC:Eventos para The Front Arte Cultura
REFRESH-INTERVAL;VALUE=DURATION:PT1H
X-Robots-Tag:noindex
X-PUBLISHED-TTL:PT1H
BEGIN:VTIMEZONE
TZID:America/Los_Angeles
BEGIN:DAYLIGHT
TZOFFSETFROM:-0800
TZOFFSETTO:-0700
TZNAME:PDT
DTSTART:20230312T100000
END:DAYLIGHT
BEGIN:STANDARD
TZOFFSETFROM:-0700
TZOFFSETTO:-0800
TZNAME:PST
DTSTART:20231105T090000
END:STANDARD
BEGIN:DAYLIGHT
TZOFFSETFROM:-0800
TZOFFSETTO:-0700
TZNAME:PDT
DTSTART:20240310T100000
END:DAYLIGHT
BEGIN:STANDARD
TZOFFSETFROM:-0700
TZOFFSETTO:-0800
TZNAME:PST
DTSTART:20241103T090000
END:STANDARD
BEGIN:DAYLIGHT
TZOFFSETFROM:-0800
TZOFFSETTO:-0700
TZNAME:PDT
DTSTART:20250309T100000
END:DAYLIGHT
BEGIN:STANDARD
TZOFFSETFROM:-0700
TZOFFSETTO:-0800
TZNAME:PST
DTSTART:20251102T090000
END:STANDARD
END:VTIMEZONE
BEGIN:VEVENT
DTSTART;TZID=America/Los_Angeles:20240810T160000
DTEND;TZID=America/Los_Angeles:20240810T200000
DTSTAMP:20260422T114907
CREATED:20240801T204637Z
LAST-MODIFIED:20240801T204637Z
UID:4637-1723305600-1723320000@thefront.casafamiliar.org
SUMMARY:Playwrights Project presents: «Artists Everywhere»
DESCRIPTION:Artists Everywhere tells the stories from formerly incarcerated writers in the community through professionally produced films. Originally written as plays\, five scripts were adapted to films by teaching artist and filmmaker Chris Boyd. \nJoin us for the public exhibition of Artists Everywhere\, a Far South/Border North project. Presented as a gallery viewing\, this interactive experience is unlike your typical film screening! \nFree admission; Reservations strongly recommended.\nClick here to reserve your spot now! \nAugust 10\, from 4-8pm.\nCasa Familiar’s El Salon Theatre (114 W Hall Ave\, San Ysidro\, 92173)  \nPLEASE NOTE: Free parking is available nearby at 121 Cypress Dr\, San Ysidro\, 92173
URL:https://thefront.casafamiliar.org/event/playwrights-project-presents-artists-everywhere
LOCATION:El Salon Theatre\, 114 W Hall Ave\, San Ysidro CA. 92147\, San Ysidro\, 92147\, United States
CATEGORIES:Opening,Theatre Play
ATTACH;FMTTYPE=image/png:https://thefront.casafamiliar.org/wp-content/uploads/2024/08/AE-event-Aug-10-flyer-v3.png
ORGANIZER;CN="The FRONT Arte Cultura":MAILTO:hectorc@casafamiliar.org
END:VEVENT
END:VCALENDAR