BEGIN:VCALENDAR
VERSION:2.0
PRODID:-//The Front Arte Cultura - ECPv6.15.20//NONSGML v1.0//EN
CALSCALE:GREGORIAN
METHOD:PUBLISH
X-WR-CALNAME:The Front Arte Cultura
X-ORIGINAL-URL:https://thefront.casafamiliar.org
X-WR-CALDESC:Eventos para The Front Arte Cultura
REFRESH-INTERVAL;VALUE=DURATION:PT1H
X-Robots-Tag:noindex
X-PUBLISHED-TTL:PT1H
BEGIN:VTIMEZONE
TZID:America/Los_Angeles
BEGIN:DAYLIGHT
TZOFFSETFROM:-0800
TZOFFSETTO:-0700
TZNAME:PDT
DTSTART:20230312T100000
END:DAYLIGHT
BEGIN:STANDARD
TZOFFSETFROM:-0700
TZOFFSETTO:-0800
TZNAME:PST
DTSTART:20231105T090000
END:STANDARD
BEGIN:DAYLIGHT
TZOFFSETFROM:-0800
TZOFFSETTO:-0700
TZNAME:PDT
DTSTART:20240310T100000
END:DAYLIGHT
BEGIN:STANDARD
TZOFFSETFROM:-0700
TZOFFSETTO:-0800
TZNAME:PST
DTSTART:20241103T090000
END:STANDARD
BEGIN:DAYLIGHT
TZOFFSETFROM:-0800
TZOFFSETTO:-0700
TZNAME:PDT
DTSTART:20250309T100000
END:DAYLIGHT
BEGIN:STANDARD
TZOFFSETFROM:-0700
TZOFFSETTO:-0800
TZNAME:PST
DTSTART:20251102T090000
END:STANDARD
END:VTIMEZONE
BEGIN:VEVENT
DTSTART;TZID=America/Los_Angeles:20240805T200000
DTEND;TZID=America/Los_Angeles:20240805T213000
DTSTAMP:20260422T121911
CREATED:20240716T183739Z
LAST-MODIFIED:20240716T185859Z
UID:4504-1722888000-1722893400@thefront.casafamiliar.org
SUMMARY:Isabel\, three sailing ships and a con artist – Stage reading performance
DESCRIPTION:Camino23 is a bilingual\, bicultural\, binational space where actors in the region flex their muscles and train by building a supportive ensemble of artists committed to learning our plays\, our history\, our scholarship\, and our struggles. \nIsabel\, three sailing ships and a con artist\nBy Dario Fo.\nDirected by Daniel Jáquez and performed by Camino23\, a latinx theater collective. \nThis insightful\, satirical\, subversive comedy\, set after and before 1492\, revolves around the tragicomic deeds of an actor who is sentenced to death for having performed a banned play by Fernando de Rojas. The unfortunate actor\, while on the gallows\, is offered an opportunity to do one last show with his acting company. It must be a show about Columbus and Queen Isabella. \n\nAugust 5\, 2024 at 8pm\nAt Casa Familiar – El Salon Theater ( ​114 W Hall Ave San Ysidro\, CA 92173)\nRegister here.\n\n\nCamino23 es un espacio bilingüe\, bicultural y binacional donde actores de la región ejercitan sus músculos y se entrenan construyendo un conjunto solidario de artistas comprometidos con aprender nuestras obras\, nuestra historia\, nuestra erudición y nuestras luchas. \nIsabel\, tres veleros y un estafador\nPor Darío Fo.\nDirigida por Daniel Jáquez e interpretada por Camino23\, un colectivo de teatro latino. \nEsta perspicaz comedia satírica y subversiva\, ambientada antes y después de 1492\, gira en torno a los hechos tragicómicos de un actor condenado a muerte por haber interpretado una obra prohibida de Fernando de Rojas. Al desafortunado actor\, mientras está en la horca\, se le ofrece la oportunidad de hacer un último espectáculo con su compañía de actores. Debe ser un espectáculo sobre Colón y la reina Isabel. \n\n5 de agosto a las 8:00 pm.\nEn Casa Familiar – Teatro El Salón ( ​114 W Hall Ave San Ysidro\, CA 92173)\nRegistra tu lugar aquí.
URL:https://thefront.casafamiliar.org/event/isabel-three-sailing-ships-and-a-con-artist-stage-reading-performance
LOCATION:El Salon Theatre\, 114 W Hall Ave\, San Ysidro CA. 92147\, San Ysidro\, 92147\, United States
CATEGORIES:Theatre Performance
ATTACH;FMTTYPE=image/png:https://thefront.casafamiliar.org/wp-content/uploads/2024/06/isable-rsvp.png
END:VEVENT
END:VCALENDAR