BEGIN:VCALENDAR
VERSION:2.0
PRODID:-//The Front Arte Cultura - ECPv6.15.20//NONSGML v1.0//EN
CALSCALE:GREGORIAN
METHOD:PUBLISH
X-ORIGINAL-URL:https://thefront.casafamiliar.org
X-WR-CALDESC:Eventos para The Front Arte Cultura
REFRESH-INTERVAL;VALUE=DURATION:PT1H
X-Robots-Tag:noindex
X-PUBLISHED-TTL:PT1H
BEGIN:VTIMEZONE
TZID:America/Los_Angeles
BEGIN:DAYLIGHT
TZOFFSETFROM:-0800
TZOFFSETTO:-0700
TZNAME:PDT
DTSTART:20250309T100000
END:DAYLIGHT
BEGIN:STANDARD
TZOFFSETFROM:-0700
TZOFFSETTO:-0800
TZNAME:PST
DTSTART:20251102T090000
END:STANDARD
BEGIN:DAYLIGHT
TZOFFSETFROM:-0800
TZOFFSETTO:-0700
TZNAME:PDT
DTSTART:20260308T100000
END:DAYLIGHT
BEGIN:STANDARD
TZOFFSETFROM:-0700
TZOFFSETTO:-0800
TZNAME:PST
DTSTART:20261101T090000
END:STANDARD
BEGIN:DAYLIGHT
TZOFFSETFROM:-0800
TZOFFSETTO:-0700
TZNAME:PDT
DTSTART:20270314T100000
END:DAYLIGHT
BEGIN:STANDARD
TZOFFSETFROM:-0700
TZOFFSETTO:-0800
TZNAME:PST
DTSTART:20271107T090000
END:STANDARD
END:VTIMEZONE
BEGIN:VEVENT
DTSTART;TZID=America/Los_Angeles:20260509T103000
DTEND;TZID=America/Los_Angeles:20260509T133000
DTSTAMP:20260421T073031
CREATED:20260227T192709Z
LAST-MODIFIED:20260227T192709Z
UID:6414-1778322600-1778333400@thefront.casafamiliar.org
SUMMARY:Printmaking Workshop with Kelvin Lopez
DESCRIPTION:Explore screen printing techniques and create your own prints! \nLed by teaching artist Kelvin Lopez\, this hands-on workshop covers stencil cutting and resist methods using oil-based crayons and drawing fluids. Print with water-soluble inks and produce an edition of at least 10 original works on paper or other substrates. \nIn this workshop\, participants will learn the fundamentals of screen printing\, including stencil cutting techniques and resists using oil-based crayons and drawing fluids to prepare their screens. Students will work with water-soluble ink and create prints on paper or other media\, with the goal of producing an edition of at least 10 copies. \nSaturdays \nApril: 4\, 11\, 18 and 25 \nMay: 9\, 16\, 23 and 30 \n10:30am- 1:30pm \nFREE – Materials included \nRSVP: elizabethb@casafamiliar.org \n619428-1115 x615 \n—— \n¡Explora las técnicas de serigrafía y crea tus propias impresiones! \nDirigido por el artista docente Kelvin Lopez\, este taller práctico abarca los métodos de corte con esténcil y resistencias con crayones al óleo y fluidos de dibujo. Imprime con tintas solubles en agua y produce una edición de al menos 10 obras originales en papel u otros sustratos. \nEn este taller\, los participantes aprenderán los fundamentos de la serigrafía\, incluyendo las técnicas de corte con esténcil y resistencias con crayones al óleo y fluidos de dibujo para preparar sus pantallas. Los estudiantes trabajarán con tinta soluble en agua y crearán impresiones en papel u otros soportes\, con el objetivo de producir una edición de al menos 10 copias. \nSábados \nAbril: 4\, 11\, 18 y 25 \nMayo: 9\, 16\, 23 y 30 \n10:30 a. m. – 1:30 p. m. \nGRATIS – Materiales incluidos \nConfirmar asistencia: elizabethb@casafamiliar.org \n619428-1115 ext. 615
URL:https://thefront.casafamiliar.org/event/printmaking-workshop-with-kelvin-lopez-5
LOCATION:El Salon Theatre\, 114 W Hall Ave\, San Ysidro CA. 92147\, San Ysidro\, 92147\, United States
CATEGORIES:Workshop
ATTACH;FMTTYPE=image/jpeg:https://thefront.casafamiliar.org/wp-content/uploads/2026/02/Eli-Flyers-2.jpg
END:VEVENT
BEGIN:VEVENT
DTSTART;TZID=America/Los_Angeles:20260514T110000
DTEND;TZID=America/Los_Angeles:20260514T150000
DTSTAMP:20260421T073031
CREATED:20260403T010446Z
LAST-MODIFIED:20260403T010446Z
UID:6588-1778756400-1778770800@thefront.casafamiliar.org
SUMMARY:Color a tu corazón – Transmutaciones – Taller gratuito
DESCRIPTION:Taller gratuito: \nColor en tu corazón – Transmutaciones \nImparte: \nCarmen Campuzano; escritora\, poeta y gestora cultural \nFusiona la lectura de textos\, la expresión plástica\, el arte textil y la escritura creativa en este taller diseñado para explorar tu imaginación y dar forma a nuevas narrativas. \nJueves 14 de mayo de 11am- 3pm \nSin costo. Materiales incluidos.  \nThe FRONT Gallery. – 147 W San Ysidro Blvd
URL:https://thefront.casafamiliar.org/event/color-a-tu-corazon-transmutaciones-taller-gratuito
LOCATION:The Front Arte y Cultura
CATEGORIES:Workshop
ATTACH;FMTTYPE=image/jpeg:https://thefront.casafamiliar.org/wp-content/uploads/2026/04/Carmen-Campuzano-Workshop.jpg
END:VEVENT
BEGIN:VEVENT
DTSTART;TZID=America/Los_Angeles:20260516T103000
DTEND;TZID=America/Los_Angeles:20260516T133000
DTSTAMP:20260421T073031
CREATED:20260227T192749Z
LAST-MODIFIED:20260227T192749Z
UID:6416-1778927400-1778938200@thefront.casafamiliar.org
SUMMARY:Printmaking Workshop with Kelvin Lopez
DESCRIPTION:Explore screen printing techniques and create your own prints! \nLed by teaching artist Kelvin Lopez\, this hands-on workshop covers stencil cutting and resist methods using oil-based crayons and drawing fluids. Print with water-soluble inks and produce an edition of at least 10 original works on paper or other substrates. \nIn this workshop\, participants will learn the fundamentals of screen printing\, including stencil cutting techniques and resists using oil-based crayons and drawing fluids to prepare their screens. Students will work with water-soluble ink and create prints on paper or other media\, with the goal of producing an edition of at least 10 copies. \nSaturdays \nApril: 4\, 11\, 18 and 25 \nMay: 9\, 16\, 23 and 30 \n10:30am- 1:30pm \nFREE – Materials included \nRSVP: elizabethb@casafamiliar.org \n619428-1115 x615 \n—— \n¡Explora las técnicas de serigrafía y crea tus propias impresiones! \nDirigido por el artista docente Kelvin Lopez\, este taller práctico abarca los métodos de corte con esténcil y resistencias con crayones al óleo y fluidos de dibujo. Imprime con tintas solubles en agua y produce una edición de al menos 10 obras originales en papel u otros sustratos. \nEn este taller\, los participantes aprenderán los fundamentos de la serigrafía\, incluyendo las técnicas de corte con esténcil y resistencias con crayones al óleo y fluidos de dibujo para preparar sus pantallas. Los estudiantes trabajarán con tinta soluble en agua y crearán impresiones en papel u otros soportes\, con el objetivo de producir una edición de al menos 10 copias. \nSábados \nAbril: 4\, 11\, 18 y 25 \nMayo: 9\, 16\, 23 y 30 \n10:30 a. m. – 1:30 p. m. \nGRATIS – Materiales incluidos \nConfirmar asistencia: elizabethb@casafamiliar.org \n619428-1115 ext. 615
URL:https://thefront.casafamiliar.org/event/printmaking-workshop-with-kelvin-lopez-6
LOCATION:El Salon Theatre\, 114 W Hall Ave\, San Ysidro CA. 92147\, San Ysidro\, 92147\, United States
CATEGORIES:Workshop
ATTACH;FMTTYPE=image/jpeg:https://thefront.casafamiliar.org/wp-content/uploads/2026/02/Eli-Flyers-2.jpg
END:VEVENT
BEGIN:VEVENT
DTSTART;TZID=America/Los_Angeles:20260523T103000
DTEND;TZID=America/Los_Angeles:20260523T133000
DTSTAMP:20260421T073031
CREATED:20260227T192831Z
LAST-MODIFIED:20260227T192831Z
UID:6418-1779532200-1779543000@thefront.casafamiliar.org
SUMMARY:Printmaking Workshop with Kelvin Lopez
DESCRIPTION:Explore screen printing techniques and create your own prints! \nLed by teaching artist Kelvin Lopez\, this hands-on workshop covers stencil cutting and resist methods using oil-based crayons and drawing fluids. Print with water-soluble inks and produce an edition of at least 10 original works on paper or other substrates. \nIn this workshop\, participants will learn the fundamentals of screen printing\, including stencil cutting techniques and resists using oil-based crayons and drawing fluids to prepare their screens. Students will work with water-soluble ink and create prints on paper or other media\, with the goal of producing an edition of at least 10 copies. \nSaturdays \nApril: 4\, 11\, 18 and 25 \nMay: 9\, 16\, 23 and 30 \n10:30am- 1:30pm \nFREE – Materials included \nRSVP: elizabethb@casafamiliar.org \n619428-1115 x615 \n—— \n¡Explora las técnicas de serigrafía y crea tus propias impresiones! \nDirigido por el artista docente Kelvin Lopez\, este taller práctico abarca los métodos de corte con esténcil y resistencias con crayones al óleo y fluidos de dibujo. Imprime con tintas solubles en agua y produce una edición de al menos 10 obras originales en papel u otros sustratos. \nEn este taller\, los participantes aprenderán los fundamentos de la serigrafía\, incluyendo las técnicas de corte con esténcil y resistencias con crayones al óleo y fluidos de dibujo para preparar sus pantallas. Los estudiantes trabajarán con tinta soluble en agua y crearán impresiones en papel u otros soportes\, con el objetivo de producir una edición de al menos 10 copias. \nSábados \nAbril: 4\, 11\, 18 y 25 \nMayo: 9\, 16\, 23 y 30 \n10:30 a. m. – 1:30 p. m. \nGRATIS – Materiales incluidos \nConfirmar asistencia: elizabethb@casafamiliar.org \n619428-1115 ext. 615
URL:https://thefront.casafamiliar.org/event/printmaking-workshop-with-kelvin-lopez-7
LOCATION:El Salon Theatre\, 114 W Hall Ave\, San Ysidro CA. 92147\, San Ysidro\, 92147\, United States
CATEGORIES:Workshop
ATTACH;FMTTYPE=image/jpeg:https://thefront.casafamiliar.org/wp-content/uploads/2026/02/Eli-Flyers-2.jpg
END:VEVENT
BEGIN:VEVENT
DTSTART;TZID=America/Los_Angeles:20260530T103000
DTEND;TZID=America/Los_Angeles:20260530T133000
DTSTAMP:20260421T073031
CREATED:20260227T192915Z
LAST-MODIFIED:20260227T192915Z
UID:6420-1780137000-1780147800@thefront.casafamiliar.org
SUMMARY:Printmaking Workshop with Kelvin Lopez
DESCRIPTION:Explore screen printing techniques and create your own prints! \nLed by teaching artist Kelvin Lopez\, this hands-on workshop covers stencil cutting and resist methods using oil-based crayons and drawing fluids. Print with water-soluble inks and produce an edition of at least 10 original works on paper or other substrates. \nIn this workshop\, participants will learn the fundamentals of screen printing\, including stencil cutting techniques and resists using oil-based crayons and drawing fluids to prepare their screens. Students will work with water-soluble ink and create prints on paper or other media\, with the goal of producing an edition of at least 10 copies. \nSaturdays \nApril: 4\, 11\, 18 and 25 \nMay: 9\, 16\, 23 and 30 \n10:30am- 1:30pm \nFREE – Materials included \nRSVP: elizabethb@casafamiliar.org \n619428-1115 x615 \n—— \n¡Explora las técnicas de serigrafía y crea tus propias impresiones! \nDirigido por el artista docente Kelvin Lopez\, este taller práctico abarca los métodos de corte con esténcil y resistencias con crayones al óleo y fluidos de dibujo. Imprime con tintas solubles en agua y produce una edición de al menos 10 obras originales en papel u otros sustratos. \nEn este taller\, los participantes aprenderán los fundamentos de la serigrafía\, incluyendo las técnicas de corte con esténcil y resistencias con crayones al óleo y fluidos de dibujo para preparar sus pantallas. Los estudiantes trabajarán con tinta soluble en agua y crearán impresiones en papel u otros soportes\, con el objetivo de producir una edición de al menos 10 copias. \nSábados \nAbril: 4\, 11\, 18 y 25 \nMayo: 9\, 16\, 23 y 30 \n10:30 a. m. – 1:30 p. m. \nGRATIS – Materiales incluidos \nConfirmar asistencia: elizabethb@casafamiliar.org \n619428-1115 ext. 615
URL:https://thefront.casafamiliar.org/event/printmaking-workshop-with-kelvin-lopez-8
LOCATION:El Salon Theatre\, 114 W Hall Ave\, San Ysidro CA. 92147\, San Ysidro\, 92147\, United States
CATEGORIES:Workshop
ATTACH;FMTTYPE=image/jpeg:https://thefront.casafamiliar.org/wp-content/uploads/2026/02/Eli-Flyers-2.jpg
END:VEVENT
END:VCALENDAR