BEGIN:VCALENDAR
VERSION:2.0
PRODID:-//The Front Arte Cultura - ECPv6.15.20//NONSGML v1.0//EN
CALSCALE:GREGORIAN
METHOD:PUBLISH
X-ORIGINAL-URL:https://thefront.casafamiliar.org
X-WR-CALDESC:Eventos para The Front Arte Cultura
REFRESH-INTERVAL;VALUE=DURATION:PT1H
X-Robots-Tag:noindex
X-PUBLISHED-TTL:PT1H
BEGIN:VTIMEZONE
TZID:America/Los_Angeles
BEGIN:DAYLIGHT
TZOFFSETFROM:-0800
TZOFFSETTO:-0700
TZNAME:PDT
DTSTART:20250309T100000
END:DAYLIGHT
BEGIN:STANDARD
TZOFFSETFROM:-0700
TZOFFSETTO:-0800
TZNAME:PST
DTSTART:20251102T090000
END:STANDARD
BEGIN:DAYLIGHT
TZOFFSETFROM:-0800
TZOFFSETTO:-0700
TZNAME:PDT
DTSTART:20260308T100000
END:DAYLIGHT
BEGIN:STANDARD
TZOFFSETFROM:-0700
TZOFFSETTO:-0800
TZNAME:PST
DTSTART:20261101T090000
END:STANDARD
BEGIN:DAYLIGHT
TZOFFSETFROM:-0800
TZOFFSETTO:-0700
TZNAME:PDT
DTSTART:20270314T100000
END:DAYLIGHT
BEGIN:STANDARD
TZOFFSETFROM:-0700
TZOFFSETTO:-0800
TZNAME:PST
DTSTART:20271107T090000
END:STANDARD
END:VTIMEZONE
BEGIN:VEVENT
DTSTART;TZID=America/Los_Angeles:20260207T100000
DTEND;TZID=America/Los_Angeles:20260207T113000
DTSTAMP:20260421T090025
CREATED:20260121T013415Z
LAST-MODIFIED:20260121T013416Z
UID:6293-1770458400-1770463800@thefront.casafamiliar.org
SUMMARY:Free Drumming Workshop
DESCRIPTION:Bring your hands\, we’ll bring the drums!\nJoin Drummers Without Borders for a beginner-friendly introduction to rhythm\, drums\, and percussion. No experience needed and instruments are provided. \nFeb 7\, 14 & 21\n10:00–11:30 AM\nEl Salon Theatre\, San Ysidro \nCome connect\, create\, and feel the rhythm together.\nRSVP: elizabethb@casafamiliar.org \n\n¡Trae tus manos\, nosotros ponemos los tambores!\nÚnete a Drummers without Borders para una introducción al ritmo\, los tambores y la percusión\, apta para principiantes. No se requiere experiencia y se proporcionan los instrumentos. \n7\, 14 y 21 de febrero\n10:00–11:30 a. m.\nTeatro El Salón\, San Ysidro \nVen a conectar\, crear y sentir el ritmo juntos.\nConfirmar asistencia: elizabethb@casafamiliar.org
URL:https://thefront.casafamiliar.org/event/free-drumming-workshop
LOCATION:El Salon Theatre\, 114 W Hall Ave\, San Ysidro CA. 92147\, San Ysidro\, 92147\, United States
CATEGORIES:Workshop
ATTACH;FMTTYPE=image/jpeg:https://thefront.casafamiliar.org/wp-content/uploads/2026/01/Drummers-Workshop.jpg
END:VEVENT
BEGIN:VEVENT
DTSTART;TZID=America/Los_Angeles:20260214T100000
DTEND;TZID=America/Los_Angeles:20260214T113000
DTSTAMP:20260421T090025
CREATED:20260121T013605Z
LAST-MODIFIED:20260121T013605Z
UID:6296-1771063200-1771068600@thefront.casafamiliar.org
SUMMARY:Free Drumming Workshop
DESCRIPTION:Bring your hands\, we’ll bring the drums!Join Drummers Without Borders for a beginner-friendly introduction to rhythm\, drums\, and percussion. No experience needed and instruments are provided.\n\n\nFeb 7\, 14 & 21\n10:00–11:30 AM\nEl Salon Theatre\, San Ysidro \nCome connect\, create\, and feel the rhythm together.\nRSVP: elizabethb@casafamiliar.org \n\n¡Trae tus manos\, nosotros ponemos los tambores!\nÚnete a Drummers without Borders para una introducción al ritmo\, los tambores y la percusión\, apta para principiantes. No se requiere experiencia y se proporcionan los instrumentos. \n7\, 14 y 21 de febrero\n10:00–11:30 a. m.\nTeatro El Salón\, San Ysidro \nVen a conectar\, crear y sentir el ritmo juntos.\nConfirmar asistencia: elizabethb@casafamiliar.org
URL:https://thefront.casafamiliar.org/event/free-drumming-workshop-2
LOCATION:El Salon Theatre\, 114 W Hall Ave\, San Ysidro CA. 92147\, San Ysidro\, 92147\, United States
CATEGORIES:Workshop
ATTACH;FMTTYPE=image/jpeg:https://thefront.casafamiliar.org/wp-content/uploads/2026/01/Drummers-Workshop.jpg
END:VEVENT
BEGIN:VEVENT
DTSTART;TZID=America/Los_Angeles:20260219T110000
DTEND;TZID=America/Los_Angeles:20260219T140000
DTSTAMP:20260421T090025
CREATED:20260121T005653Z
LAST-MODIFIED:20260121T005706Z
UID:6284-1771498800-1771509600@thefront.casafamiliar.org
SUMMARY:Self-Love Self-Portrait Workshop
DESCRIPTION:Self-Love Self-Portrait is a creative and empowering workshop designed to help participants reconnect with themselves through art. Through guided reflection\, gentle prompts\, and intentional observation\, participants will explore identity\, personal narrative\, and emotional well-being while creating a self-portrait in drawing or painting. \nLed by artist and muralist Gloria Muriel\, the session encourages self-acceptance\, compassion\, and curiosity\, offering a safe\, welcoming space for creative expression. No prior art experience is required — all levels are encouraged to participate. \nLearning Goals:\n• Cultivate self-love\, confidence\, and personal awareness through art\n• Introduce accessible drawing/painting techniques for self-portraiture\n• Create a supportive\, culturally inclusive environment\n• Celebrate individuality\, lived experience\, and personal stories \n\nAutorretrato del Amor Propio es un taller creativo y enriquecedor diseñado para ayudar a los participantes a reconectarse consigo mismos a través del arte. Mediante la reflexión guiada\, ejercicios sencillos y la observación consciente\, los participantes explorarán su identidad\, su narrativa personal y su bienestar emocional mientras crean un autorretrato en dibujo o pintura. \nDirigido por la artista y muralista Gloria Muriel\, el taller fomenta la autoaceptación\, la compasión y la curiosidad\, ofreciendo un espacio seguro y acogedor para la expresión creativa. No se requiere experiencia previa en arte; todos los niveles son bienvenidos. \nObjetivos de aprendizaje:\n• Cultivar el amor propio\, la confianza y la autoconciencia a través del arte.\n• Introducir técnicas accesibles de dibujo y pintura para la creación de autorretratos.\n• Crear un ambiente de apoyo e inclusivo culturalmente.\n• Celebrar la individualidad\, las experiencias vividas y las historias personales.
URL:https://thefront.casafamiliar.org/event/self-love-self-portrait
LOCATION:The Front Arte y Cultura
CATEGORIES:Workshop
ATTACH;FMTTYPE=image/jpeg:https://thefront.casafamiliar.org/wp-content/uploads/2026/01/Glorias.jpg
END:VEVENT
BEGIN:VEVENT
DTSTART;TZID=America/Los_Angeles:20260221T100000
DTEND;TZID=America/Los_Angeles:20260221T113000
DTSTAMP:20260421T090025
CREATED:20260121T013658Z
LAST-MODIFIED:20260121T013658Z
UID:6298-1771668000-1771673400@thefront.casafamiliar.org
SUMMARY:Free Drumming Workshop
DESCRIPTION:Bring your hands\, we’ll bring the drums!\nJoin Drummers Without Borders for a beginner-friendly introduction to rhythm\, drums\, and percussion. No experience needed and instruments are provided. \nFeb 7\, 14 & 21\n10:00–11:30 AM\nEl Salon Theatre\, San Ysidro \nCome connect\, create\, and feel the rhythm together.\nRSVP: elizabethb@casafamiliar.org \n\n¡Trae tus manos\, nosotros ponemos los tambores!\nÚnete a Drummers without Borders para una introducción al ritmo\, los tambores y la percusión\, apta para principiantes. No se requiere experiencia y se proporcionan los instrumentos. \n7\, 14 y 21 de febrero\n10:00–11:30 a. m.\nTeatro El Salón\, San Ysidro \nVen a conectar\, crear y sentir el ritmo juntos.\nConfirmar asistencia: elizabethb@casafamiliar.org
URL:https://thefront.casafamiliar.org/event/free-drumming-workshop-3
LOCATION:El Salon Theatre\, 114 W Hall Ave\, San Ysidro CA. 92147\, San Ysidro\, 92147\, United States
CATEGORIES:Workshop
ATTACH;FMTTYPE=image/jpeg:https://thefront.casafamiliar.org/wp-content/uploads/2026/01/Drummers-Workshop.jpg
END:VEVENT
END:VCALENDAR