BEGIN:VCALENDAR
VERSION:2.0
PRODID:-//The Front Arte Cultura - ECPv6.15.20//NONSGML v1.0//EN
CALSCALE:GREGORIAN
METHOD:PUBLISH
X-ORIGINAL-URL:https://thefront.casafamiliar.org
X-WR-CALDESC:Eventos para The Front Arte Cultura
REFRESH-INTERVAL;VALUE=DURATION:PT1H
X-Robots-Tag:noindex
X-PUBLISHED-TTL:PT1H
BEGIN:VTIMEZONE
TZID:America/Los_Angeles
BEGIN:DAYLIGHT
TZOFFSETFROM:-0800
TZOFFSETTO:-0700
TZNAME:PDT
DTSTART:20240310T100000
END:DAYLIGHT
BEGIN:STANDARD
TZOFFSETFROM:-0700
TZOFFSETTO:-0800
TZNAME:PST
DTSTART:20241103T090000
END:STANDARD
BEGIN:DAYLIGHT
TZOFFSETFROM:-0800
TZOFFSETTO:-0700
TZNAME:PDT
DTSTART:20250309T100000
END:DAYLIGHT
BEGIN:STANDARD
TZOFFSETFROM:-0700
TZOFFSETTO:-0800
TZNAME:PST
DTSTART:20251102T090000
END:STANDARD
BEGIN:DAYLIGHT
TZOFFSETFROM:-0800
TZOFFSETTO:-0700
TZNAME:PDT
DTSTART:20260308T100000
END:DAYLIGHT
BEGIN:STANDARD
TZOFFSETFROM:-0700
TZOFFSETTO:-0800
TZNAME:PST
DTSTART:20261101T090000
END:STANDARD
END:VTIMEZONE
BEGIN:VEVENT
DTSTART;TZID=America/Los_Angeles:20251202T170000
DTEND;TZID=America/Los_Angeles:20251202T200000
DTSTAMP:20260421T120302
CREATED:20251104T210609Z
LAST-MODIFIED:20251104T210609Z
UID:6137-1764694800-1764705600@thefront.casafamiliar.org
SUMMARY:Taller Libro de artista
DESCRIPTION:Una experiencia teórica y práctica para quienes desean experimentar con la palabra\, la imagen y el objeto libro como espacio artístico.\nEste taller está dirigido a artistas visuales\, fotógrafxs\, diseñadores y personas curiosas por el cruce entre imagen\, texto\, objeto y narrativa. A través de lecturas\, diálogos y ejercicios prácticos\, revisaremos la historia\, los formatos y las múltiples posibilidades del libro de artista como espacio de experimentación. \nDurante tres sesiones de tres horas\, abordaremos: \n\n\nHistoria del libro de artista en México y el mundo. \n\n\nEjemplos\, formatos y movimientos relevantes. \n\n\nProcesos de investigación y fuentes literarias. \n\n\nEjercicios piloto y desarrollo de proyectos personales. \n\n\nAparta tu lugar con: alejandrar@casafamiliar.org
URL:https://thefront.casafamiliar.org/event/taller-libro-de-artista-3
LOCATION:The Front Arte y Cultura
CATEGORIES:Workshop
ATTACH;FMTTYPE=image/jpeg:https://thefront.casafamiliar.org/wp-content/uploads/2025/10/Libro-artista.jpg
END:VEVENT
END:VCALENDAR