BEGIN:VCALENDAR
VERSION:2.0
PRODID:-//The Front Arte Cultura - ECPv6.15.20//NONSGML v1.0//EN
CALSCALE:GREGORIAN
METHOD:PUBLISH
X-WR-CALNAME:The Front Arte Cultura
X-ORIGINAL-URL:https://thefront.casafamiliar.org
X-WR-CALDESC:Eventos para The Front Arte Cultura
REFRESH-INTERVAL;VALUE=DURATION:PT1H
X-Robots-Tag:noindex
X-PUBLISHED-TTL:PT1H
BEGIN:VTIMEZONE
TZID:America/Los_Angeles
BEGIN:DAYLIGHT
TZOFFSETFROM:-0800
TZOFFSETTO:-0700
TZNAME:PDT
DTSTART:20240310T100000
END:DAYLIGHT
BEGIN:STANDARD
TZOFFSETFROM:-0700
TZOFFSETTO:-0800
TZNAME:PST
DTSTART:20241103T090000
END:STANDARD
BEGIN:DAYLIGHT
TZOFFSETFROM:-0800
TZOFFSETTO:-0700
TZNAME:PDT
DTSTART:20250309T100000
END:DAYLIGHT
BEGIN:STANDARD
TZOFFSETFROM:-0700
TZOFFSETTO:-0800
TZNAME:PST
DTSTART:20251102T090000
END:STANDARD
BEGIN:DAYLIGHT
TZOFFSETFROM:-0800
TZOFFSETTO:-0700
TZNAME:PDT
DTSTART:20260308T100000
END:DAYLIGHT
BEGIN:STANDARD
TZOFFSETFROM:-0700
TZOFFSETTO:-0800
TZNAME:PST
DTSTART:20261101T090000
END:STANDARD
END:VTIMEZONE
BEGIN:VEVENT
DTSTART;TZID=America/Los_Angeles:20250701T103000
DTEND;TZID=America/Los_Angeles:20250701T123000
DTSTAMP:20260421T192605
CREATED:20250424T231116Z
LAST-MODIFIED:20250424T231116Z
UID:5515-1751365800-1751373000@thefront.casafamiliar.org
SUMMARY:FREE Workshop: Capturing the summer through alternative photographic processes
DESCRIPTION:Unleash your creativity under the summer sun! Join us for a hands-on exploration of cyanotype and anthotype\, two captivating alternative photographic processes that use sunlight and natural elements to create one-of-a-kind images. \nJune 3\, 10\, 17 and 24 – 10:30am – 1:00pm \nJuly 1: 10:30am- 12:30pm \nAll materials provided. Limited capacity.Hosted at The FRONT Gallery \nRSVP required – email elizabethb@casafamiliar.orgCall (619) 428-1115 ext. 615 for more info
URL:https://thefront.casafamiliar.org/event/free-workshop-capturing-the-summer-through-alternative-photographic-processes-5
LOCATION:The Front Arte y Cultura
CATEGORIES:Workshop
ATTACH;FMTTYPE=image/jpeg:https://thefront.casafamiliar.org/wp-content/uploads/2025/04/Cianotipia-Ingles.jpg
END:VEVENT
BEGIN:VEVENT
DTSTART;TZID=America/Los_Angeles:20250705T100000
DTEND;TZID=America/Los_Angeles:20250705T130000
DTSTAMP:20260421T192605
CREATED:20250416T225327Z
LAST-MODIFIED:20250416T225327Z
UID:5460-1751709600-1751720400@thefront.casafamiliar.org
SUMMARY:Ceramics: Tableware & form - Free Workshop
DESCRIPTION:Take your hand-building skills to the next level! In this 4-week class\, we’ll focus on making functional tableware—cups\, bowls\, plates\, vases\, even teapots—while refining technique and exploring personal style. Glaze and finish your pieces from Part One or jump in with basic experience. Let’s turn clay into everyday art!   \nDates & Time: \nJuly 5\, 12\, 19 and 26 \n10:00am – 1:00pm \nLimited space. Reserve your spot with: elizabethb@casafamiliar.org
URL:https://thefront.casafamiliar.org/event/ceramics-tableware-form-free-workshop
LOCATION:The Front Arte y Cultura
CATEGORIES:Workshop
ATTACH;FMTTYPE=image/jpeg:https://thefront.casafamiliar.org/wp-content/uploads/2025/04/Workshop2-Ingles.jpg
END:VEVENT
BEGIN:VEVENT
DTSTART;TZID=America/Los_Angeles:20250712T100000
DTEND;TZID=America/Los_Angeles:20250712T130000
DTSTAMP:20260421T192605
CREATED:20250416T230219Z
LAST-MODIFIED:20250416T230219Z
UID:5463-1752314400-1752325200@thefront.casafamiliar.org
SUMMARY:Ceramics: Tableware & form - Free Workshop
DESCRIPTION:Take your hand-building skills to the next level! In this 4-week class\, we’ll focus on making functional tableware—cups\, bowls\, plates\, vases\, even teapots—while refining technique and exploring personal style. Glaze and finish your pieces from Part One or jump in with basic experience. Let’s turn clay into everyday art!   \nDates & Time: \nJuly 5\, 12\, 19 and 26 \n10:00am – 1:00pm \nLimited space. Reserve your spot with: elizabethb@casafamiliar.org
URL:https://thefront.casafamiliar.org/event/ceramics-tableware-form-free-workshop-2
LOCATION:The Front Arte y Cultura
CATEGORIES:Workshop
ATTACH;FMTTYPE=image/jpeg:https://thefront.casafamiliar.org/wp-content/uploads/2025/04/Workshop2-Ingles.jpg
END:VEVENT
BEGIN:VEVENT
DTSTART;TZID=America/Los_Angeles:20250715T180000
DTEND;TZID=America/Los_Angeles:20250715T193000
DTSTAMP:20260421T192605
CREATED:20250702T211858Z
LAST-MODIFIED:20250702T211858Z
UID:5671-1752602400-1752607800@thefront.casafamiliar.org
SUMMARY:Siguiendo al cuerpo – Taller de videodanza
DESCRIPTION:Taller teórico-práctico enfocado en la exploración contemporánea del movimiento en espacios no convencionales\, con especial atención en la relación cuerpo-espacio y cuerpo-lente. A través de herramientas de conciencia corporal\, improvisación\, composición y experimentación audiovisual\, lxs participantes desarrollarán una videodanza como resultado final del proceso creativo. \nDirigido a: \nPersonas interesadas en el cuerpo\, la danza\, el performance\, el cine o la creación interdisciplinaria. \nNo se requiere experiencia previa en danza o video\, pero sí apertura a la exploración corporal y audiovisual. \nRequisitos: \nDispositivo con cámara (celular o cámara digital). \nRopa cómoda para moverse. \nFecha y hora:  \nJulio 15\, 17\, 22\, 24 y 29 \n6:00- 7:30pm  \nSin costo  \nInscríbete con: elizabethb@casafamiliar.org
URL:https://thefront.casafamiliar.org/event/siguiendo-al-cuerpo-taller-de-videodanza
LOCATION:El Salon Theatre\, 114 W Hall Ave\, San Ysidro CA. 92147\, San Ysidro\, 92147\, United States
CATEGORIES:Workshop
ATTACH;FMTTYPE=image/jpeg:https://thefront.casafamiliar.org/wp-content/uploads/2025/06/Siguiendo-el-cuerpo.jpg
END:VEVENT
BEGIN:VEVENT
DTSTART;TZID=America/Los_Angeles:20250717T180000
DTEND;TZID=America/Los_Angeles:20250717T193000
DTSTAMP:20260421T192605
CREATED:20250702T211958Z
LAST-MODIFIED:20250702T211958Z
UID:5673-1752775200-1752780600@thefront.casafamiliar.org
SUMMARY:Siguiendo al cuerpo – Taller de videodanza
DESCRIPTION:Taller teórico-práctico enfocado en la exploración contemporánea del movimiento en espacios no convencionales\, con especial atención en la relación cuerpo-espacio y cuerpo-lente. A través de herramientas de conciencia corporal\, improvisación\, composición y experimentación audiovisual\, lxs participantes desarrollarán una videodanza como resultado final del proceso creativo. \nDirigido a: \nPersonas interesadas en el cuerpo\, la danza\, el performance\, el cine o la creación interdisciplinaria. \nNo se requiere experiencia previa en danza o video\, pero sí apertura a la exploración corporal y audiovisual. \nRequisitos: \nDispositivo con cámara (celular o cámara digital). \nRopa cómoda para moverse. \nFecha y hora:  \nJulio 15\, 17\, 22\, 24 y 29 \n6:00- 7:30pm  \nSin costo  \nInscríbete con: elizabethb@casafamiliar.org
URL:https://thefront.casafamiliar.org/event/siguiendo-al-cuerpo-taller-de-videodanza-2
LOCATION:El Salon Theatre\, 114 W Hall Ave\, San Ysidro CA. 92147\, San Ysidro\, 92147\, United States
CATEGORIES:Workshop
ATTACH;FMTTYPE=image/jpeg:https://thefront.casafamiliar.org/wp-content/uploads/2025/06/Siguiendo-el-cuerpo.jpg
END:VEVENT
BEGIN:VEVENT
DTSTART;TZID=America/Los_Angeles:20250719T100000
DTEND;TZID=America/Los_Angeles:20250719T130000
DTSTAMP:20260421T192605
CREATED:20250416T230324Z
LAST-MODIFIED:20250416T230324Z
UID:5465-1752919200-1752930000@thefront.casafamiliar.org
SUMMARY:Ceramics: Tableware & form - Free Workshop
DESCRIPTION:Take your hand-building skills to the next level! In this 4-week class\, we’ll focus on making functional tableware—cups\, bowls\, plates\, vases\, even teapots—while refining technique and exploring personal style. Glaze and finish your pieces from Part One or jump in with basic experience. Let’s turn clay into everyday art!   \nDates & Time: \nJuly 5\, 12\, 19 and 26 \n10:00am – 1:00pm \nLimited space. Reserve your spot with: elizabethb@casafamiliar.org
URL:https://thefront.casafamiliar.org/event/ceramics-tableware-form-free-workshop-3
LOCATION:The Front Arte y Cultura
CATEGORIES:Workshop
ATTACH;FMTTYPE=image/jpeg:https://thefront.casafamiliar.org/wp-content/uploads/2025/04/Workshop2-Ingles.jpg
END:VEVENT
BEGIN:VEVENT
DTSTART;TZID=America/Los_Angeles:20250722T180000
DTEND;TZID=America/Los_Angeles:20250722T193000
DTSTAMP:20260421T192605
CREATED:20250702T212038Z
LAST-MODIFIED:20250702T212038Z
UID:5675-1753207200-1753212600@thefront.casafamiliar.org
SUMMARY:Siguiendo al cuerpo – Taller de videodanza
DESCRIPTION:Taller teórico-práctico enfocado en la exploración contemporánea del movimiento en espacios no convencionales\, con especial atención en la relación cuerpo-espacio y cuerpo-lente. A través de herramientas de conciencia corporal\, improvisación\, composición y experimentación audiovisual\, lxs participantes desarrollarán una videodanza como resultado final del proceso creativo. \nDirigido a: \nPersonas interesadas en el cuerpo\, la danza\, el performance\, el cine o la creación interdisciplinaria. \nNo se requiere experiencia previa en danza o video\, pero sí apertura a la exploración corporal y audiovisual. \nRequisitos: \nDispositivo con cámara (celular o cámara digital). \nRopa cómoda para moverse. \nFecha y hora:  \nJulio 15\, 17\, 22\, 24 y 29 \n6:00- 7:30pm  \nSin costo  \nInscríbete con: elizabethb@casafamiliar.org
URL:https://thefront.casafamiliar.org/event/siguiendo-al-cuerpo-taller-de-videodanza-3
LOCATION:El Salon Theatre\, 114 W Hall Ave\, San Ysidro CA. 92147\, San Ysidro\, 92147\, United States
CATEGORIES:Workshop
ATTACH;FMTTYPE=image/jpeg:https://thefront.casafamiliar.org/wp-content/uploads/2025/06/Siguiendo-el-cuerpo.jpg
END:VEVENT
BEGIN:VEVENT
DTSTART;TZID=America/Los_Angeles:20250723T170000
DTEND;TZID=America/Los_Angeles:20250723T180000
DTSTAMP:20260421T192605
CREATED:20250716T205505Z
LAST-MODIFIED:20250716T205505Z
UID:5728-1753290000-1753293600@thefront.casafamiliar.org
SUMMARY:Free Dance Classes for KIDS with San Diego Ballet
DESCRIPTION:Calling all young dancers! \nJoin us for a summer of fun stretches\, ballet basics\, and graceful moves with a professional ballerina from the San Diego Ballet!  \nEvery Wednesday | July 16 – Sept 17 \n5PM – 6PM PM\nEl Salon Theatre | 114 W Hall Ave. San Ysidro\, CA \nFor ages 6–12. No experience needed—just bring your energy and joy! \nRSVP: hectorc@casafamiliar.org\n619-428-1115 ext. 613
URL:https://thefront.casafamiliar.org/event/free-dance-classes-for-kids-with-san-diego-ballet
LOCATION:El Salon Theatre\, 114 W Hall Ave\, San Ysidro CA. 92147\, San Ysidro\, 92147\, United States
CATEGORIES:Workshop
ATTACH;FMTTYPE=image/jpeg:https://thefront.casafamiliar.org/wp-content/uploads/2025/06/Ballet-Classes-at-El-Salon.jpg
END:VEVENT
BEGIN:VEVENT
DTSTART;TZID=America/Los_Angeles:20250724T180000
DTEND;TZID=America/Los_Angeles:20250724T193000
DTSTAMP:20260421T192605
CREATED:20250702T212115Z
LAST-MODIFIED:20250702T212115Z
UID:5677-1753380000-1753385400@thefront.casafamiliar.org
SUMMARY:Siguiendo al cuerpo – Taller de videodanza
DESCRIPTION:Taller teórico-práctico enfocado en la exploración contemporánea del movimiento en espacios no convencionales\, con especial atención en la relación cuerpo-espacio y cuerpo-lente. A través de herramientas de conciencia corporal\, improvisación\, composición y experimentación audiovisual\, lxs participantes desarrollarán una videodanza como resultado final del proceso creativo. \nDirigido a: \nPersonas interesadas en el cuerpo\, la danza\, el performance\, el cine o la creación interdisciplinaria. \nNo se requiere experiencia previa en danza o video\, pero sí apertura a la exploración corporal y audiovisual. \nRequisitos: \nDispositivo con cámara (celular o cámara digital). \nRopa cómoda para moverse. \nFecha y hora:  \nJulio 15\, 17\, 22\, 24 y 29 \n6:00- 7:30pm  \nSin costo  \nInscríbete con: elizabethb@casafamiliar.org
URL:https://thefront.casafamiliar.org/event/siguiendo-al-cuerpo-taller-de-videodanza-4
LOCATION:The Front Arte y Cultura
CATEGORIES:Workshop
ATTACH;FMTTYPE=image/jpeg:https://thefront.casafamiliar.org/wp-content/uploads/2025/06/Siguiendo-el-cuerpo.jpg
END:VEVENT
BEGIN:VEVENT
DTSTART;TZID=America/Los_Angeles:20250726T100000
DTEND;TZID=America/Los_Angeles:20250726T130000
DTSTAMP:20260421T192605
CREATED:20250416T230410Z
LAST-MODIFIED:20250416T230410Z
UID:5467-1753524000-1753534800@thefront.casafamiliar.org
SUMMARY:Ceramics: Tableware & form - Free Workshop
DESCRIPTION:Take your hand-building skills to the next level! In this 4-week class\, we’ll focus on making functional tableware—cups\, bowls\, plates\, vases\, even teapots—while refining technique and exploring personal style. Glaze and finish your pieces from Part One or jump in with basic experience. Let’s turn clay into everyday art!   \nDates & Time: \nJuly 5\, 12\, 19 and 26 \n10:00am – 1:00pm \nLimited space. Reserve your spot with: elizabethb@casafamiliar.org
URL:https://thefront.casafamiliar.org/event/ceramics-tableware-form-free-workshop-4
CATEGORIES:Workshop
ATTACH;FMTTYPE=image/jpeg:https://thefront.casafamiliar.org/wp-content/uploads/2025/04/Workshop2-Ingles.jpg
END:VEVENT
BEGIN:VEVENT
DTSTART;TZID=America/Los_Angeles:20250729T080000
DTEND;TZID=America/Los_Angeles:20250729T170000
DTSTAMP:20260421T192605
CREATED:20250702T212201Z
LAST-MODIFIED:20250702T212201Z
UID:5679-1753776000-1753808400@thefront.casafamiliar.org
SUMMARY:Siguiendo al cuerpo – Taller de videodanza
DESCRIPTION:Taller teórico-práctico enfocado en la exploración contemporánea del movimiento en espacios no convencionales\, con especial atención en la relación cuerpo-espacio y cuerpo-lente. A través de herramientas de conciencia corporal\, improvisación\, composición y experimentación audiovisual\, lxs participantes desarrollarán una videodanza como resultado final del proceso creativo. \nDirigido a: \nPersonas interesadas en el cuerpo\, la danza\, el performance\, el cine o la creación interdisciplinaria. \nNo se requiere experiencia previa en danza o video\, pero sí apertura a la exploración corporal y audiovisual. \nRequisitos: \nDispositivo con cámara (celular o cámara digital). \nRopa cómoda para moverse. \nFecha y hora: \nJulio 15\, 17\, 22\, 24 y 29 \n6:00- 7:30pm \nSin costo \nInscríbete con: elizabethb@casafamiliar.org
URL:https://thefront.casafamiliar.org/event/siguiendo-al-cuerpo-taller-de-videodanza-5
LOCATION:El Salon Theatre\, 114 W Hall Ave\, San Ysidro CA. 92147\, San Ysidro\, 92147\, United States
CATEGORIES:Workshop
ATTACH;FMTTYPE=image/jpeg:https://thefront.casafamiliar.org/wp-content/uploads/2025/06/Siguiendo-el-cuerpo.jpg
END:VEVENT
BEGIN:VEVENT
DTSTART;TZID=America/Los_Angeles:20250730T170000
DTEND;TZID=America/Los_Angeles:20250730T180000
DTSTAMP:20260421T192605
CREATED:20250716T205611Z
LAST-MODIFIED:20250716T205611Z
UID:5731-1753894800-1753898400@thefront.casafamiliar.org
SUMMARY:Free Dance Classes for KIDS with San Diego Ballet
DESCRIPTION:Calling all young dancers! \nJoin us for a summer of fun stretches\, ballet basics\, and graceful moves with a professional ballerina from the San Diego Ballet!  \nEvery Wednesday | July 16 – Sept 17 \n5PM – 6PM PM\nEl Salon Theatre | 114 W Hall Ave. San Ysidro\, CA \nFor ages 6–12. No experience needed—just bring your energy and joy! \nRSVP: hectorc@casafamiliar.org\n619-428-1115 ext. 613
URL:https://thefront.casafamiliar.org/event/free-dance-classes-for-kids-with-san-diego-ballet-2
LOCATION:El Salon Theatre\, 114 W Hall Ave\, San Ysidro CA. 92147\, San Ysidro\, 92147\, United States
CATEGORIES:Workshop
ATTACH;FMTTYPE=image/jpeg:https://thefront.casafamiliar.org/wp-content/uploads/2025/06/Ballet-Classes-at-El-Salon.jpg
END:VEVENT
END:VCALENDAR