BEGIN:VCALENDAR
VERSION:2.0
PRODID:-//The Front Arte Cultura - ECPv6.15.20//NONSGML v1.0//EN
CALSCALE:GREGORIAN
METHOD:PUBLISH
X-ORIGINAL-URL:https://thefront.casafamiliar.org
X-WR-CALDESC:Eventos para The Front Arte Cultura
REFRESH-INTERVAL;VALUE=DURATION:PT1H
X-Robots-Tag:noindex
X-PUBLISHED-TTL:PT1H
BEGIN:VTIMEZONE
TZID:America/Los_Angeles
BEGIN:DAYLIGHT
TZOFFSETFROM:-0800
TZOFFSETTO:-0700
TZNAME:PDT
DTSTART:20240310T100000
END:DAYLIGHT
BEGIN:STANDARD
TZOFFSETFROM:-0700
TZOFFSETTO:-0800
TZNAME:PST
DTSTART:20241103T090000
END:STANDARD
BEGIN:DAYLIGHT
TZOFFSETFROM:-0800
TZOFFSETTO:-0700
TZNAME:PDT
DTSTART:20250309T100000
END:DAYLIGHT
BEGIN:STANDARD
TZOFFSETFROM:-0700
TZOFFSETTO:-0800
TZNAME:PST
DTSTART:20251102T090000
END:STANDARD
BEGIN:DAYLIGHT
TZOFFSETFROM:-0800
TZOFFSETTO:-0700
TZNAME:PDT
DTSTART:20260308T100000
END:DAYLIGHT
BEGIN:STANDARD
TZOFFSETFROM:-0700
TZOFFSETTO:-0800
TZNAME:PST
DTSTART:20261101T090000
END:STANDARD
END:VTIMEZONE
BEGIN:VEVENT
DTSTART;TZID=America/Los_Angeles:20250501T160000
DTEND;TZID=America/Los_Angeles:20250501T190000
DTSTAMP:20260421T220910
CREATED:20250321T225228Z
LAST-MODIFIED:20250321T225228Z
UID:5346-1746115200-1746126000@thefront.casafamiliar.org
SUMMARY:Oil Painting Workshop with Hector Suchilt
DESCRIPTION:These workshops will explore oil painting through the use of the tonal value scale\, the limited color wheel\, and the Zorn color palette. Over the course of two months\, participants will learn how to prepare their materials\, use shading on objects\, and then apply their skills to their own oil painting works. \nSessions will be held on Thursdays\, April 3\, 10\, 17\, and 24\, and May 1\, 8\, 15\, and 22\, from 4:00 p.m. to 7:00 p.m. \nThis workshop is free and includes materials. No experience is required.
URL:https://thefront.casafamiliar.org/event/oil-painting-workshop-with-hector-suchilt-4
LOCATION:El Salon Theatre\, 114 W Hall Ave\, San Ysidro CA. 92147\, San Ysidro\, 92147\, United States
CATEGORIES:Workshop
ATTACH;FMTTYPE=image/png:https://thefront.casafamiliar.org/wp-content/uploads/2025/03/6.png
ORGANIZER;CN="The FRONT Arte Cultura":MAILTO:hectorc@casafamiliar.org
END:VEVENT
BEGIN:VEVENT
DTSTART;TZID=America/Los_Angeles:20250501T180000
DTEND;TZID=America/Los_Angeles:20250501T193000
DTSTAMP:20260421T220910
CREATED:20250214T012827Z
LAST-MODIFIED:20250215T012537Z
UID:5186-1746122400-1746127800@thefront.casafamiliar.org
SUMMARY:¡Descubre el arte del teatro desde adentro! – Taller gratuito
DESCRIPTION:Taller Gratuito: Detrás del Telón \nThe Old Globe San Diego te invita a explorar el mundo del teatro con expertos en iluminación\, sonido\, vestuario y más. \nFechas:24 de abril1\, 8\, 15\, 22 y 29 de mayoSábado 7 de junioHorario: 6:00 – 7:30 PMUbicación: El Salón Theatre\, 114 W Hall Ave\, San Ysidro 92173 \nMás info y registro:(619) 428-1115 Ext. 206elizabethb@casafamiliar.org
URL:https://thefront.casafamiliar.org/event/descubre-el-arte-del-teatro-desde-adentro-taller-gratuito-3
LOCATION:El Salon Theatre\, 114 W Hall Ave\, San Ysidro CA. 92147\, San Ysidro\, 92147\, United States
CATEGORIES:Workshop
ATTACH;FMTTYPE=image/jpeg:https://thefront.casafamiliar.org/wp-content/uploads/2025/02/7.jpg
END:VEVENT
BEGIN:VEVENT
DTSTART;TZID=America/Los_Angeles:20250508T160000
DTEND;TZID=America/Los_Angeles:20250508T190000
DTSTAMP:20260421T220910
CREATED:20250321T225308Z
LAST-MODIFIED:20250321T225308Z
UID:5348-1746720000-1746730800@thefront.casafamiliar.org
SUMMARY:Oil Painting Workshop with Hector Suchilt
DESCRIPTION:These workshops will explore oil painting through the use of the tonal value scale\, the limited color wheel\, and the Zorn color palette. Over the course of two months\, participants will learn how to prepare their materials\, use shading on objects\, and then apply their skills to their own oil painting works. \nSessions will be held on Thursdays\, April 3\, 10\, 17\, and 24\, and May 1\, 8\, 15\, and 22\, from 4:00 p.m. to 7:00 p.m. \nThis workshop is free and includes materials. No experience is required.
URL:https://thefront.casafamiliar.org/event/oil-painting-workshop-with-hector-suchilt-5
LOCATION:El Salon Theatre\, 114 W Hall Ave\, San Ysidro CA. 92147\, San Ysidro\, 92147\, United States
CATEGORIES:Workshop
ATTACH;FMTTYPE=image/png:https://thefront.casafamiliar.org/wp-content/uploads/2025/03/6.png
END:VEVENT
BEGIN:VEVENT
DTSTART;TZID=America/Los_Angeles:20250508T180000
DTEND;TZID=America/Los_Angeles:20250508T193000
DTSTAMP:20260421T220910
CREATED:20250214T011555Z
LAST-MODIFIED:20250215T012433Z
UID:5184-1746727200-1746732600@thefront.casafamiliar.org
SUMMARY:¡Descubre el arte del teatro desde adentro! – Taller gratuito
DESCRIPTION:Taller Gratuito: Detrás del TelónThe Old Globe San Diego te invita a explorar el mundo del teatro con expertos en iluminación\, sonido\, vestuario y más. \nFechas:24 de abril1\, 8\, 15\, 22 y 29 de mayoSábado 7 de junioHorario: 6:00 – 7:30 PMUbicación: El Salón Theatre\, 114 W Hall Ave\, San Ysidro 92173 \nMás info y registro:(619) 428-1115 Ext. 206elizabethb@casafamiliar.org
URL:https://thefront.casafamiliar.org/event/descubre-el-arte-del-teatro-desde-adentro-taller-gratuito-2
LOCATION:El Salon Theatre\, 114 W Hall Ave\, San Ysidro CA. 92147\, San Ysidro\, 92147\, United States
CATEGORIES:Workshop
ATTACH;FMTTYPE=image/jpeg:https://thefront.casafamiliar.org/wp-content/uploads/2025/02/7.jpg
END:VEVENT
BEGIN:VEVENT
DTSTART;TZID=America/Los_Angeles:20250515T113000
DTEND;TZID=America/Los_Angeles:20250515T130000
DTSTAMP:20260421T220910
CREATED:20250506T202254Z
LAST-MODIFIED:20250506T202321Z
UID:5542-1747308600-1747314000@thefront.casafamiliar.org
SUMMARY:Taller gratuito: Creando narrativas para el nuevo mundo
DESCRIPTION:UNA SERIE DE TALLERES CON CEMPAZÚCHITL’S LIBRARY \nÚnete a nosotrxs en un ciclo de talleres creativos donde exploraremos la memoria\, la imaginación y la escritura como herramientas de transformación comunitaria. A través de la poesía\, el collage y los zines\, te invitamos a imaginar y construir nuevas narrativas para un mundo distinto.Sin costo y con materiales incluidos. \nThe FRONT Books – 147 W Hall Ave\, San Ysidro\, CA \nMayo 15 – 11:30am a 1:00pmCrea poemas basados en tus memorias de infancia \nEn este taller de poesía\, imaginaremos realidades alternativas\, reconociendo de dónde venimos y a dónde queremos ir. Los participantes crearán poemas basados en sus memorias de infancia. 
URL:https://thefront.casafamiliar.org/event/taller-gratuito-creando-narrativas-para-el-nuevo-mundo
LOCATION:The Front Arte y Cultura
CATEGORIES:Workshop
ATTACH;FMTTYPE=image/jpeg:https://thefront.casafamiliar.org/wp-content/uploads/2025/05/Poesia-Esp-1.jpg
ORGANIZER;CN="The FRONT Arte Cultura":MAILTO:hectorc@casafamiliar.org
END:VEVENT
BEGIN:VEVENT
DTSTART;TZID=America/Los_Angeles:20250515T160000
DTEND;TZID=America/Los_Angeles:20250515T190000
DTSTAMP:20260421T220910
CREATED:20250321T225356Z
LAST-MODIFIED:20250321T225356Z
UID:5350-1747324800-1747335600@thefront.casafamiliar.org
SUMMARY:Oil Painting Workshop with Hector Suchilt
DESCRIPTION:These workshops will explore oil painting through the use of the tonal value scale\, the limited color wheel\, and the Zorn color palette. Over the course of two months\, participants will learn how to prepare their materials\, use shading on objects\, and then apply their skills to their own oil painting works. \nSessions will be held on Thursdays\, April 3\, 10\, 17\, and 24\, and May 1\, 8\, 15\, and 22\, from 4:00 p.m. to 7:00 p.m. \nThis workshop is free and includes materials. No experience is required.
URL:https://thefront.casafamiliar.org/event/oil-painting-workshop-with-hector-suchilt-6
LOCATION:El Salon Theatre\, 114 W Hall Ave\, San Ysidro CA. 92147\, San Ysidro\, 92147\, United States
CATEGORIES:Workshop
ATTACH;FMTTYPE=image/png:https://thefront.casafamiliar.org/wp-content/uploads/2025/03/6.png
END:VEVENT
BEGIN:VEVENT
DTSTART;TZID=America/Los_Angeles:20250515T180000
DTEND;TZID=America/Los_Angeles:20250515T193000
DTSTAMP:20260421T220910
CREATED:20250214T012944Z
LAST-MODIFIED:20250215T012348Z
UID:5188-1747332000-1747337400@thefront.casafamiliar.org
SUMMARY:¡Descubre el arte del teatro desde adentro! – Taller gratuito
DESCRIPTION:Taller Gratuito: Detrás del TelónThe Old Globe San Diego te invita a explorar el mundo del teatro con expertos en iluminación\, sonido\, vestuario y más. \nFechas:24 de abril1\, 8\, 15\, 22 y 29 de mayoSábado 7 de junioHorario: 6:00 – 7:30 PMUbicación: El Salón Theatre\, 114 W Hall Ave\, San Ysidro 92173 \nMás info y registro:(619) 428-1115 Ext. 206elizabethb@casafamiliar.org
URL:https://thefront.casafamiliar.org/event/descubre-el-arte-del-teatro-desde-adentro-taller-gratuito-4
LOCATION:El Salon Theatre\, 114 W Hall Ave\, San Ysidro CA. 92147\, San Ysidro\, 92147\, United States
CATEGORIES:Workshop
ATTACH;FMTTYPE=image/jpeg:https://thefront.casafamiliar.org/wp-content/uploads/2025/02/7.jpg
END:VEVENT
BEGIN:VEVENT
DTSTART;TZID=America/Los_Angeles:20250521T173000
DTEND;TZID=America/Los_Angeles:20250521T190000
DTSTAMP:20260421T220910
CREATED:20250506T204204Z
LAST-MODIFIED:20250506T204204Z
UID:5545-1747848600-1747854000@thefront.casafamiliar.org
SUMMARY:Taller gratuito: Creando narrativas para el nuevo mundo
DESCRIPTION:UNA SERIE DE TALLERES CON CEMPAZÚCHITL’S LIBRARY \nÚnete a nosotrxs en un ciclo de talleres creativos donde exploraremos la memoria\, la imaginación y la escritura como herramientas de transformación comunitaria. A través de la poesía\, el collage y los zines\, te invitamos a imaginar y construir nuevas narrativas para un mundo distinto.Sin costo y con materiales incluidos. \nThe FRONT Books – 147 W Hall Ave\, San Ysidro\, CA \nMayo 21 – 5:30pm a 7:00pmTaller de collage: Un día el mundo caerá. Cuando llegue ese día\, ¿qué podemos imaginar para nuestra comunidad? \nTaller de collages: Un día el mundo caerá\, cuando llegue ese día\, ¿qué podemos imaginar para nuestra comunidad? Los participantes tendrán tiempo de crear su propio collage bajo este tema.  
URL:https://thefront.casafamiliar.org/event/taller-gratuito-creando-narrativas-para-el-nuevo-mundo-2
LOCATION:The Front Arte y Cultura
CATEGORIES:Workshop
ATTACH;FMTTYPE=image/jpeg:https://thefront.casafamiliar.org/wp-content/uploads/2025/05/Poesia-Esp-1.jpg
END:VEVENT
BEGIN:VEVENT
DTSTART;TZID=America/Los_Angeles:20250522T160000
DTEND;TZID=America/Los_Angeles:20250522T190000
DTSTAMP:20260421T220910
CREATED:20250321T225438Z
LAST-MODIFIED:20250321T225438Z
UID:5352-1747929600-1747940400@thefront.casafamiliar.org
SUMMARY:Oil Painting Workshop with Hector Suchilt
DESCRIPTION:These workshops will explore oil painting through the use of the tonal value scale\, the limited color wheel\, and the Zorn color palette. Over the course of two months\, participants will learn how to prepare their materials\, use shading on objects\, and then apply their skills to their own oil painting works. \nSessions will be held on Thursdays\, April 3\, 10\, 17\, and 24\, and May 1\, 8\, 15\, and 22\, from 4:00 p.m. to 7:00 p.m. \nThis workshop is free and includes materials. No experience is required.
URL:https://thefront.casafamiliar.org/event/oil-painting-workshop-with-hector-suchilt-7
LOCATION:El Salon Theatre\, 114 W Hall Ave\, San Ysidro CA. 92147\, San Ysidro\, 92147\, United States
CATEGORIES:Workshop
ATTACH;FMTTYPE=image/png:https://thefront.casafamiliar.org/wp-content/uploads/2025/03/6.png
END:VEVENT
BEGIN:VEVENT
DTSTART;TZID=America/Los_Angeles:20250522T180000
DTEND;TZID=America/Los_Angeles:20250522T193000
DTSTAMP:20260421T220910
CREATED:20250214T013044Z
LAST-MODIFIED:20250215T010634Z
UID:5190-1747936800-1747942200@thefront.casafamiliar.org
SUMMARY:¡Descubre el arte del teatro desde adentro! – Taller gratuito
DESCRIPTION:Taller Gratuito: Detrás del TelónThe Old Globe San Diego te invita a explorar el mundo del teatro con expertos en iluminación\, sonido\, vestuario y más. \nFechas:24 de abril1\, 8\, 15\, 22 y 29 de mayoSábado 7 de junioHorario: 6:00 – 7:30 PMUbicación: El Salón Theatre\, 114 W Hall Ave\, San Ysidro 92173 \nMás info y registro:(619) 428-1115 Ext. 206elizabethb@casafamiliar.org
URL:https://thefront.casafamiliar.org/event/descubre-el-arte-del-teatro-desde-adentro-taller-gratuito-5
LOCATION:El Salon Theatre\, 114 W Hall Ave\, San Ysidro CA. 92147\, San Ysidro\, 92147\, United States
CATEGORIES:Workshop
ATTACH;FMTTYPE=image/jpeg:https://thefront.casafamiliar.org/wp-content/uploads/2025/02/7.jpg
END:VEVENT
BEGIN:VEVENT
DTSTART;TZID=America/Los_Angeles:20250528T173000
DTEND;TZID=America/Los_Angeles:20250528T203000
DTSTAMP:20260421T220910
CREATED:20250416T191306Z
LAST-MODIFIED:20250416T191306Z
UID:5450-1748453400-1748464200@thefront.casafamiliar.org
SUMMARY:ART FOR PLANETARY HEALTH CREATIVE CATALYST WORKSHOP
DESCRIPTION:Unlock Your Creative Potential with the Creative Catalyst Workshop Series! Creative individuals from National City\, Barrio Logan\, Southeastern San Diego\, or San Ysidro are invited to take their creative pursuits to the next level.  \nUnlocking the Business of Creativity  \nEach workshop will include:  \n\n\nNetworking with fellow creatives: Make Valuable Connections with curators\, funders and AFPH selection committee members.  \n\n\n\n\nExpert Advice: Level Up Your Applications in our «How to Stand Out» session led by ARTS. This session features proven tips for making your submissions shine.  \n\n\n\n\nGain Insider Knowledge: Hear from an expert panel of creatives and industry pros on building strong portfolios and advancing your creative journey. 
URL:https://thefront.casafamiliar.org/event/art-for-planetary-health-creative-catalyst-workshop
LOCATION:El Salon Theatre\, 114 W Hall Ave\, San Ysidro CA. 92147\, San Ysidro\, 92147\, United States
CATEGORIES:Workshop
ATTACH;FMTTYPE=image/png:https://thefront.casafamiliar.org/wp-content/uploads/2025/04/Screenshot-2025-04-16-at-12.12.39-PM.png
END:VEVENT
BEGIN:VEVENT
DTSTART;TZID=America/Los_Angeles:20250529T180000
DTEND;TZID=America/Los_Angeles:20250529T193000
DTSTAMP:20260421T220910
CREATED:20250214T013150Z
LAST-MODIFIED:20250215T010159Z
UID:5192-1748541600-1748547000@thefront.casafamiliar.org
SUMMARY:¡Descubre el arte del teatro desde adentro! – Taller gratuito
DESCRIPTION:Taller Gratuito: Detrás del TelónThe Old Globe San Diego te invita a explorar el mundo del teatro con expertos en iluminación\, sonido\, vestuario y más. \nFechas:24 de abril1\, 8\, 15\, 22 y 29 de mayoSábado 7 de junioHorario: 6:00 – 7:30 PMUbicación: El Salón Theatre\, 114 W Hall Ave\, San Ysidro 92173 \nMás info y registro:(619) 428-1115 Ext. 206elizabethb@casafamiliar.org
URL:https://thefront.casafamiliar.org/event/descubre-el-arte-del-teatro-desde-adentro-taller-gratuito-6
LOCATION:El Salon Theatre\, 114 W Hall Ave\, San Ysidro CA. 92147\, San Ysidro\, 92147\, United States
CATEGORIES:Workshop
ATTACH;FMTTYPE=image/jpeg:https://thefront.casafamiliar.org/wp-content/uploads/2025/02/7.jpg
END:VEVENT
END:VCALENDAR