BEGIN:VCALENDAR
VERSION:2.0
PRODID:-//The Front Arte Cultura - ECPv6.15.20//NONSGML v1.0//EN
CALSCALE:GREGORIAN
METHOD:PUBLISH
X-ORIGINAL-URL:https://thefront.casafamiliar.org
X-WR-CALDESC:Eventos para The Front Arte Cultura
REFRESH-INTERVAL;VALUE=DURATION:PT1H
X-Robots-Tag:noindex
X-PUBLISHED-TTL:PT1H
BEGIN:VTIMEZONE
TZID:America/Los_Angeles
BEGIN:DAYLIGHT
TZOFFSETFROM:-0800
TZOFFSETTO:-0700
TZNAME:PDT
DTSTART:20230312T100000
END:DAYLIGHT
BEGIN:STANDARD
TZOFFSETFROM:-0700
TZOFFSETTO:-0800
TZNAME:PST
DTSTART:20231105T090000
END:STANDARD
BEGIN:DAYLIGHT
TZOFFSETFROM:-0800
TZOFFSETTO:-0700
TZNAME:PDT
DTSTART:20240310T100000
END:DAYLIGHT
BEGIN:STANDARD
TZOFFSETFROM:-0700
TZOFFSETTO:-0800
TZNAME:PST
DTSTART:20241103T090000
END:STANDARD
BEGIN:DAYLIGHT
TZOFFSETFROM:-0800
TZOFFSETTO:-0700
TZNAME:PDT
DTSTART:20250309T100000
END:DAYLIGHT
BEGIN:STANDARD
TZOFFSETFROM:-0700
TZOFFSETTO:-0800
TZNAME:PST
DTSTART:20251102T090000
END:STANDARD
END:VTIMEZONE
BEGIN:VEVENT
DTSTART;TZID=America/Los_Angeles:20241003T170000
DTEND;TZID=America/Los_Angeles:20241003T190000
DTSTAMP:20260422T085411
CREATED:20240716T201840Z
LAST-MODIFIED:20240716T201840Z
UID:4530-1727974800-1727982000@thefront.casafamiliar.org
SUMMARY:COLAB: Create a theater piece with artists and community members
DESCRIPTION:Join this collaborative art-making workshop between community members and artists from The Old Globe San Diego\, turning stories into theatre and developing both artist and new work. \nA professional works with community members who wish to participate to create a play and participate in it if they wish\, as part of the AXIS plaza series\, The Old Globe’s Arts Engagement Department will hold this event to announce the return of Day of the Dead Celebration. \nDon’t miss this exciting and unique opportunity! Sign up by sending an email to: \nelizabethb@casafamiliar.org or vvega@theoldglobe.org \nDates & Time: \nCommunity Sessions/Conversations with Crystal Mercado: \n\nThursdays August 1\, 8\, 15 and 22.\n5:00pm to 6:30pm\nLocation: El Salon Theatre\nParticipants: maximum of 20\n\nPlay rehearsals with Valeria Vega: \n\nThursdays\, October 3\, 10\, 17 and 24.\n5:00pm to 7:00pm\nLocation: El Salon Theatre\n\nPresentations: \n\nOctober 27th – 11:00am to 1:30pm at AXIS The Old Globe October 27\nNovember 1- At Casa Familiar Day of the Dead\nNovember 2 – 11:00am to 1:30pm at City Heights Day of the Dead \n\nFree entrance – All ages – Bilingual – No experience necessary 
URL:https://thefront.casafamiliar.org/event/colab-create-a-theater-piece-with-artists-and-community-members-5
LOCATION:El Salon Theatre\, 114 W Hall Ave\, San Ysidro CA. 92147\, San Ysidro\, 92147\, United States
CATEGORIES:Workshop
ATTACH;FMTTYPE=image/jpeg:https://thefront.casafamiliar.org/wp-content/uploads/2024/07/The-Old-Globe-1.jpg
ORGANIZER;CN="The FRONT Arte Cultura":MAILTO:hectorc@casafamiliar.org
END:VEVENT
BEGIN:VEVENT
DTSTART;TZID=America/Los_Angeles:20241010T170000
DTEND;TZID=America/Los_Angeles:20241010T190000
DTSTAMP:20260422T085411
CREATED:20240716T201957Z
LAST-MODIFIED:20240716T201957Z
UID:4532-1728579600-1728586800@thefront.casafamiliar.org
SUMMARY:COLAB: Create a theater piece with artists and community members
DESCRIPTION:Join this collaborative art-making workshop between community members and artists from The Old Globe San Diego\, turning stories into theatre and developing both artist and new work. \nA professional works with community members who wish to participate to create a play and participate in it if they wish\, as part of the AXIS plaza series\, The Old Globe’s Arts Engagement Department will hold this event to announce the return of Day of the Dead Celebration. \nDon’t miss this exciting and unique opportunity! Sign up by sending an email to: \nelizabethb@casafamiliar.org or vvega@theoldglobe.org \nDates & Time: \nCommunity Sessions/Conversations with Crystal Mercado: \n\nThursdays August 1\, 8\, 15 and 22.\n5:00pm to 6:30pm\nLocation: El Salon Theatre\nParticipants: maximum of 20\n\nPlay rehearsals with Valeria Vega: \n\nThursdays\, October 3\, 10\, 17 and 24.\n5:00pm to 7:00pm\nLocation: El Salon Theatre\n\nPresentations: \n\nOctober 27th – 11:00am to 1:30pm at AXIS The Old Globe October 27\nNovember 1- At Casa Familiar Day of the Dead\nNovember 2 – 11:00am to 1:30pm at City Heights Day of the Dead \n\nFree entrance – All ages – Bilingual – No experience necessary 
URL:https://thefront.casafamiliar.org/event/colab-create-a-theater-piece-with-artists-and-community-members-6
LOCATION:El Salon Theatre\, 114 W Hall Ave\, San Ysidro CA. 92147\, San Ysidro\, 92147\, United States
CATEGORIES:Workshop
ATTACH;FMTTYPE=image/jpeg:https://thefront.casafamiliar.org/wp-content/uploads/2024/07/The-Old-Globe-1.jpg
ORGANIZER;CN="The FRONT Arte Cultura":MAILTO:hectorc@casafamiliar.org
END:VEVENT
BEGIN:VEVENT
DTSTART;TZID=America/Los_Angeles:20241017T170000
DTEND;TZID=America/Los_Angeles:20241017T190000
DTSTAMP:20260422T085411
CREATED:20240716T202101Z
LAST-MODIFIED:20240716T202101Z
UID:4534-1729184400-1729191600@thefront.casafamiliar.org
SUMMARY:COLAB: Create a theater piece with artists and community members
DESCRIPTION:Join this collaborative art-making workshop between community members and artists from The Old Globe San Diego\, turning stories into theatre and developing both artist and new work. \nA professional works with community members who wish to participate to create a play and participate in it if they wish\, as part of the AXIS plaza series\, The Old Globe’s Arts Engagement Department will hold this event to announce the return of Day of the Dead Celebration. \nDon’t miss this exciting and unique opportunity! Sign up by sending an email to: \nelizabethb@casafamiliar.org or vvega@theoldglobe.org \nDates & Time: \nCommunity Sessions/Conversations with Crystal Mercado: \n\nThursdays August 1\, 8\, 15 and 22.\n5:00pm to 6:30pm\nLocation: El Salon Theatre\nParticipants: maximum of 20\n\nPlay rehearsals with Valeria Vega: \n\nThursdays\, October 3\, 10\, 17 and 24.\n5:00pm to 7:00pm\nLocation: El Salon Theatre\n\nPresentations: \n\nOctober 27th – 11:00am to 1:30pm at AXIS The Old Globe October 27\nNovember 1- At Casa Familiar Day of the Dead\nNovember 2 – 11:00am to 1:30pm at City Heights Day of the Dead \n\nFree entrance – All ages – Bilingual – No experience necessary 
URL:https://thefront.casafamiliar.org/event/colab-create-a-theater-piece-with-artists-and-community-members-7
LOCATION:El Salon Theatre\, 114 W Hall Ave\, San Ysidro CA. 92147\, San Ysidro\, 92147\, United States
CATEGORIES:Workshop
ATTACH;FMTTYPE=image/jpeg:https://thefront.casafamiliar.org/wp-content/uploads/2024/07/The-Old-Globe-1.jpg
ORGANIZER;CN="The FRONT Arte Cultura":MAILTO:hectorc@casafamiliar.org
END:VEVENT
BEGIN:VEVENT
DTSTART;TZID=America/Los_Angeles:20241024T170000
DTEND;TZID=America/Los_Angeles:20241024T190000
DTSTAMP:20260422T085411
CREATED:20240716T202202Z
LAST-MODIFIED:20240716T202202Z
UID:4536-1729789200-1729796400@thefront.casafamiliar.org
SUMMARY:COLAB: Create a theater piece with artists and community members
DESCRIPTION:Join this collaborative art-making workshop between community members and artists from The Old Globe San Diego\, turning stories into theatre and developing both artist and new work. \nA professional works with community members who wish to participate to create a play and participate in it if they wish\, as part of the AXIS plaza series\, The Old Globe’s Arts Engagement Department will hold this event to announce the return of Day of the Dead Celebration. \nDon’t miss this exciting and unique opportunity! Sign up by sending an email to: \nelizabethb@casafamiliar.org or vvega@theoldglobe.org \nDates & Time: \nCommunity Sessions/Conversations with Crystal Mercado: \n\nThursdays August 1\, 8\, 15 and 22.\n5:00pm to 6:30pm\nLocation: El Salon Theatre\nParticipants: maximum of 20\n\nPlay rehearsals with Valeria Vega: \n\nThursdays\, October 3\, 10\, 17 and 24.\n5:00pm to 7:00pm\nLocation: El Salon Theatre\n\nPresentations: \n\nOctober 27th – 11:00am to 1:30pm at AXIS The Old Globe October 27\nNovember 1- At Casa Familiar Day of the Dead\nNovember 2 – 11:00am to 1:30pm at City Heights Day of the Dead \n\nFree entrance – All ages – Bilingual – No experience necessary 
URL:https://thefront.casafamiliar.org/event/colab-create-a-theater-piece-with-artists-and-community-members-8
LOCATION:El Salon Theatre\, 114 W Hall Ave\, San Ysidro CA. 92147\, San Ysidro\, 92147\, United States
CATEGORIES:Workshop
ATTACH;FMTTYPE=image/jpeg:https://thefront.casafamiliar.org/wp-content/uploads/2024/07/The-Old-Globe-1.jpg
ORGANIZER;CN="The FRONT Arte Cultura":MAILTO:hectorc@casafamiliar.org
END:VEVENT
END:VCALENDAR