BEGIN:VCALENDAR
VERSION:2.0
PRODID:-//The Front Arte Cultura - ECPv6.15.20//NONSGML v1.0//EN
CALSCALE:GREGORIAN
METHOD:PUBLISH
X-ORIGINAL-URL:https://thefront.casafamiliar.org
X-WR-CALDESC:Eventos para The Front Arte Cultura
REFRESH-INTERVAL;VALUE=DURATION:PT1H
X-Robots-Tag:noindex
X-PUBLISHED-TTL:PT1H
BEGIN:VTIMEZONE
TZID:America/Los_Angeles
BEGIN:DAYLIGHT
TZOFFSETFROM:-0800
TZOFFSETTO:-0700
TZNAME:PDT
DTSTART:20230312T100000
END:DAYLIGHT
BEGIN:STANDARD
TZOFFSETFROM:-0700
TZOFFSETTO:-0800
TZNAME:PST
DTSTART:20231105T090000
END:STANDARD
BEGIN:DAYLIGHT
TZOFFSETFROM:-0800
TZOFFSETTO:-0700
TZNAME:PDT
DTSTART:20240310T100000
END:DAYLIGHT
BEGIN:STANDARD
TZOFFSETFROM:-0700
TZOFFSETTO:-0800
TZNAME:PST
DTSTART:20241103T090000
END:STANDARD
BEGIN:DAYLIGHT
TZOFFSETFROM:-0800
TZOFFSETTO:-0700
TZNAME:PDT
DTSTART:20250309T100000
END:DAYLIGHT
BEGIN:STANDARD
TZOFFSETFROM:-0700
TZOFFSETTO:-0800
TZNAME:PST
DTSTART:20251102T090000
END:STANDARD
END:VTIMEZONE
BEGIN:VEVENT
DTSTART;TZID=America/Los_Angeles:20240801T170000
DTEND;TZID=America/Los_Angeles:20240801T183000
DTSTAMP:20260422T114918
CREATED:20240716T200602Z
LAST-MODIFIED:20240716T201122Z
UID:4515-1722531600-1722537000@thefront.casafamiliar.org
SUMMARY:COLAB: Create a theater piece with artists and community members
DESCRIPTION:Join this collaborative art-making workshop between community members and artists from The Old Globe San Diego\, turning stories into theatre and developing both artist and new work. \nA professional works with community members who wish to participate to create a play and participate in it if they wish\, as part of the AXIS plaza series\, The Old Globe’s Arts Engagement Department will hold this event to announce the return of Day of the Dead Celebration. \nDon’t miss this exciting and unique opportunity! Sign up by sending an email to: \nelizabethb@casafamiliar.org or vvega@theoldglobe.org \nDates & Time: \nCommunity Sessions/Conversations with Crystal Mercado: \n\nThursdays August 1\, 8\, 15 and 22.\n5:00pm to 6:30pm\nLocation: El Salon Theatre\nParticipants: maximum of 20\n\nPlay rehearsals with Valeria Vega: \n\nThursdays\, October 3\, 10\, 17 and 24.\n5:00pm to 7:00pm\nLocation: El Salon Theatre\n\nPresentations: \n\nOctober 27th – 11:00am to 1:30pm at AXIS The Old Globe October 27\nNovember 1- At Casa Familiar Day of the Dead\nNovember 2 – 11:00am to 1:30pm at City Heights Day of the Dead \n\nFree entrance – All ages – Bilingual – No experience necessary 
URL:https://thefront.casafamiliar.org/event/colab-create-a-theater-piece-with-artists-and-community-members
LOCATION:El Salon Theatre\, 114 W Hall Ave\, San Ysidro CA. 92147\, San Ysidro\, 92147\, United States
CATEGORIES:Workshop
ATTACH;FMTTYPE=image/jpeg:https://thefront.casafamiliar.org/wp-content/uploads/2024/07/The-Old-Globe-1.jpg
ORGANIZER;CN="The FRONT Arte Cultura":MAILTO:hectorc@casafamiliar.org
END:VEVENT
BEGIN:VEVENT
DTSTART;TZID=America/Los_Angeles:20240808T170000
DTEND;TZID=America/Los_Angeles:20240808T183000
DTSTAMP:20260422T114918
CREATED:20240716T201326Z
LAST-MODIFIED:20240716T201326Z
UID:4524-1723136400-1723141800@thefront.casafamiliar.org
SUMMARY:COLAB: Create a theater piece with artists and community members
DESCRIPTION:Join this collaborative art-making workshop between community members and artists from The Old Globe San Diego\, turning stories into theatre and developing both artist and new work. \nA professional works with community members who wish to participate to create a play and participate in it if they wish\, as part of the AXIS plaza series\, The Old Globe’s Arts Engagement Department will hold this event to announce the return of Day of the Dead Celebration. \nDon’t miss this exciting and unique opportunity! Sign up by sending an email to: \nelizabethb@casafamiliar.org or vvega@theoldglobe.org \nDates & Time: \nCommunity Sessions/Conversations with Crystal Mercado: \n\nThursdays August 1\, 8\, 15 and 22.\n5:00pm to 6:30pm\nLocation: El Salon Theatre\nParticipants: maximum of 20\n\nPlay rehearsals with Valeria Vega: \n\nThursdays\, October 3\, 10\, 17 and 24.\n5:00pm to 7:00pm\nLocation: El Salon Theatre\n\nPresentations: \n\nOctober 27th – 11:00am to 1:30pm at AXIS The Old Globe October 27\nNovember 1- At Casa Familiar Day of the Dead\nNovember 2 – 11:00am to 1:30pm at City Heights Day of the Dead \n\nFree entrance – All ages – Bilingual – No experience necessary 
URL:https://thefront.casafamiliar.org/event/colab-create-a-theater-piece-with-artists-and-community-members-2
LOCATION:El Salon Theatre\, 114 W Hall Ave\, San Ysidro CA. 92147\, San Ysidro\, 92147\, United States
CATEGORIES:Workshop
ATTACH;FMTTYPE=image/jpeg:https://thefront.casafamiliar.org/wp-content/uploads/2024/07/The-Old-Globe-1.jpg
ORGANIZER;CN="The FRONT Arte Cultura":MAILTO:hectorc@casafamiliar.org
END:VEVENT
BEGIN:VEVENT
DTSTART;TZID=America/Los_Angeles:20240815T170000
DTEND;TZID=America/Los_Angeles:20240815T183000
DTSTAMP:20260422T114918
CREATED:20240716T201427Z
LAST-MODIFIED:20240716T201427Z
UID:4526-1723741200-1723746600@thefront.casafamiliar.org
SUMMARY:COLAB: Create a theater piece with artists and community members
DESCRIPTION:Join this collaborative art-making workshop between community members and artists from The Old Globe San Diego\, turning stories into theatre and developing both artist and new work. \nA professional works with community members who wish to participate to create a play and participate in it if they wish\, as part of the AXIS plaza series\, The Old Globe’s Arts Engagement Department will hold this event to announce the return of Day of the Dead Celebration. \nDon’t miss this exciting and unique opportunity! Sign up by sending an email to: \nelizabethb@casafamiliar.org or vvega@theoldglobe.org \nDates & Time: \nCommunity Sessions/Conversations with Crystal Mercado: \n\nThursdays August 1\, 8\, 15 and 22.\n5:00pm to 6:30pm\nLocation: El Salon Theatre\nParticipants: maximum of 20\n\nPlay rehearsals with Valeria Vega: \n\nThursdays\, October 3\, 10\, 17 and 24.\n5:00pm to 7:00pm\nLocation: El Salon Theatre\n\nPresentations: \n\nOctober 27th – 11:00am to 1:30pm at AXIS The Old Globe October 27\nNovember 1- At Casa Familiar Day of the Dead\nNovember 2 – 11:00am to 1:30pm at City Heights Day of the Dead \n\nFree entrance – All ages – Bilingual – No experience necessary 
URL:https://thefront.casafamiliar.org/event/colab-create-a-theater-piece-with-artists-and-community-members-3
LOCATION:El Salon Theatre\, 114 W Hall Ave\, San Ysidro CA. 92147\, San Ysidro\, 92147\, United States
CATEGORIES:Workshop
ATTACH;FMTTYPE=image/jpeg:https://thefront.casafamiliar.org/wp-content/uploads/2024/07/The-Old-Globe-1.jpg
ORGANIZER;CN="The FRONT Arte Cultura":MAILTO:hectorc@casafamiliar.org
END:VEVENT
BEGIN:VEVENT
DTSTART;TZID=America/Los_Angeles:20240822T170000
DTEND;TZID=America/Los_Angeles:20240822T183000
DTSTAMP:20260422T114918
CREATED:20240716T201614Z
LAST-MODIFIED:20240716T201614Z
UID:4528-1724346000-1724351400@thefront.casafamiliar.org
SUMMARY:COLAB: Create a theater piece with artists and community members
DESCRIPTION:Join this collaborative art-making workshop between community members and artists from The Old Globe San Diego\, turning stories into theatre and developing both artist and new work. \nA professional works with community members who wish to participate to create a play and participate in it if they wish\, as part of the AXIS plaza series\, The Old Globe’s Arts Engagement Department will hold this event to announce the return of Day of the Dead Celebration. \nDon’t miss this exciting and unique opportunity! Sign up by sending an email to: \nelizabethb@casafamiliar.org or vvega@theoldglobe.org \nDates & Time: \nCommunity Sessions/Conversations with Crystal Mercado: \n\nThursdays August 1\, 8\, 15 and 22.\n5:00pm to 6:30pm\nLocation: El Salon Theatre\nParticipants: maximum of 20\n\nPlay rehearsals with Valeria Vega: \n\nThursdays\, October 3\, 10\, 17 and 24.\n5:00pm to 7:00pm\nLocation: El Salon Theatre\n\nPresentations: \n\nOctober 27th – 11:00am to 1:30pm at AXIS The Old Globe October 27\nNovember 1- At Casa Familiar Day of the Dead\nNovember 2 – 11:00am to 1:30pm at City Heights Day of the Dead \n\nFree entrance – All ages – Bilingual – No experience necessary 
URL:https://thefront.casafamiliar.org/event/colab-create-a-theater-piece-with-artists-and-community-members-4
LOCATION:El Salon Theatre\, 114 W Hall Ave\, San Ysidro CA. 92147\, San Ysidro\, 92147\, United States
CATEGORIES:Workshop
ATTACH;FMTTYPE=image/jpeg:https://thefront.casafamiliar.org/wp-content/uploads/2024/07/The-Old-Globe-1.jpg
ORGANIZER;CN="The FRONT Arte Cultura":MAILTO:hectorc@casafamiliar.org
END:VEVENT
BEGIN:VEVENT
DTSTART;TZID=America/Los_Angeles:20240828T110000
DTEND;TZID=America/Los_Angeles:20240828T133000
DTSTAMP:20260422T114918
CREATED:20240729T234451Z
LAST-MODIFIED:20240729T234451Z
UID:4606-1724842800-1724851800@thefront.casafamiliar.org
SUMMARY:Paper Marbling Workshop / Taller de papel marmoleado
DESCRIPTION:Instructed by Sage Serrano\nLearn this decorative paper technique and create your own book! \nFree – Ages: 8+ \n11am to 1:30pm \nMaterials included \nLimited Space \nRSVP via Email: elizbethb@casafamiliar.org
URL:https://thefront.casafamiliar.org/event/paper-marbling-workshop-taller-de-papel-marmoleado
LOCATION:The Front Arte y Cultura
CATEGORIES:Workshop
ATTACH;FMTTYPE=image/jpeg:https://thefront.casafamiliar.org/wp-content/uploads/2024/07/Sage-Serrano.jpg
ORGANIZER;CN="The FRONT Arte Cultura":MAILTO:hectorc@casafamiliar.org
END:VEVENT
BEGIN:VEVENT
DTSTART;TZID=America/Los_Angeles:20240831T110000
DTEND;TZID=America/Los_Angeles:20240831T133000
DTSTAMP:20260422T114918
CREATED:20240729T235814Z
LAST-MODIFIED:20240729T235814Z
UID:4609-1725102000-1725111000@thefront.casafamiliar.org
SUMMARY:Free Cyanotype Workshop
DESCRIPTION:Instructed by Sage Serrano\nLearn this decorative dye technique and create your own print! \nFree – Ages: 8+ \n11am to 1:30pm \nMaterials included \nLimited Space \nRSVP via Email: elizbethb@casafamiliar.org
URL:https://thefront.casafamiliar.org/event/free-cyanotype-workshop
LOCATION:The Front Arte y Cultura
CATEGORIES:Workshop
ATTACH;FMTTYPE=image/jpeg:https://thefront.casafamiliar.org/wp-content/uploads/2024/07/Sage-Serrano-2.jpg
ORGANIZER;CN="The FRONT Arte Cultura":MAILTO:hectorc@casafamiliar.org
END:VEVENT
END:VCALENDAR