BEGIN:VCALENDAR
VERSION:2.0
PRODID:-//The Front Arte Cultura - ECPv6.15.20//NONSGML v1.0//EN
CALSCALE:GREGORIAN
METHOD:PUBLISH
X-ORIGINAL-URL:https://thefront.casafamiliar.org
X-WR-CALDESC:Eventos para The Front Arte Cultura
REFRESH-INTERVAL;VALUE=DURATION:PT1H
X-Robots-Tag:noindex
X-PUBLISHED-TTL:PT1H
BEGIN:VTIMEZONE
TZID:America/Los_Angeles
BEGIN:DAYLIGHT
TZOFFSETFROM:-0800
TZOFFSETTO:-0700
TZNAME:PDT
DTSTART:20240310T100000
END:DAYLIGHT
BEGIN:STANDARD
TZOFFSETFROM:-0700
TZOFFSETTO:-0800
TZNAME:PST
DTSTART:20241103T090000
END:STANDARD
BEGIN:DAYLIGHT
TZOFFSETFROM:-0800
TZOFFSETTO:-0700
TZNAME:PDT
DTSTART:20250309T100000
END:DAYLIGHT
BEGIN:STANDARD
TZOFFSETFROM:-0700
TZOFFSETTO:-0800
TZNAME:PST
DTSTART:20251102T090000
END:STANDARD
BEGIN:DAYLIGHT
TZOFFSETFROM:-0800
TZOFFSETTO:-0700
TZNAME:PDT
DTSTART:20260308T100000
END:DAYLIGHT
BEGIN:STANDARD
TZOFFSETFROM:-0700
TZOFFSETTO:-0800
TZNAME:PST
DTSTART:20261101T090000
END:STANDARD
END:VTIMEZONE
BEGIN:VEVENT
DTSTART;TZID=America/Los_Angeles:20250527T193000
DTEND;TZID=America/Los_Angeles:20250527T210000
DTSTAMP:20260421T222358
CREATED:20250505T233549Z
LAST-MODIFIED:20250508T190847Z
UID:5534-1748374200-1748379600@thefront.casafamiliar.org
SUMMARY:La Llorona On The Blue Line at El Salon Theatre
DESCRIPTION:La Llorona on the Blue Line by Mabelle Reynoso is an immersive play that interweaves multiple historical timelines aboard San Diego’s Blue Line trolley\, haunted by La Llorona—a spectral embodiment of maternal grief\, injustice\, and memory. Set in light rail train cars from 1920\, 1946\, and 1982\, each era unfolds as a chilling vignette\, revealing hidden truths and long-buried pain as La Llorona traverses time and space.  \nMay 27th at El Salon Theatre \n114 W Hall Ave. San Ysidro CA. 92173\nShow starts at: 7:30 pm 
URL:https://thefront.casafamiliar.org/event/la-llorona-on-the-blue-line-at-el-salon-theatre
LOCATION:El Salon Theatre\, 114 W Hall Ave\, San Ysidro CA. 92147\, San Ysidro\, 92147\, United States
CATEGORIES:Performances,Theatre Performance,Theatre Play
ATTACH;FMTTYPE=image/png:https://thefront.casafamiliar.org/wp-content/uploads/2025/05/La-Llorona.png
ORGANIZER;CN="Casa Familiar":MAILTO:info@casafamiliar.org
END:VEVENT
END:VCALENDAR