BEGIN:VCALENDAR
VERSION:2.0
PRODID:-//The Front Arte Cultura - ECPv6.15.20//NONSGML v1.0//EN
CALSCALE:GREGORIAN
METHOD:PUBLISH
X-ORIGINAL-URL:https://thefront.casafamiliar.org
X-WR-CALDESC:Eventos para The Front Arte Cultura
REFRESH-INTERVAL;VALUE=DURATION:PT1H
X-Robots-Tag:noindex
X-PUBLISHED-TTL:PT1H
BEGIN:VTIMEZONE
TZID:America/Los_Angeles
BEGIN:DAYLIGHT
TZOFFSETFROM:-0800
TZOFFSETTO:-0700
TZNAME:PDT
DTSTART:20240310T100000
END:DAYLIGHT
BEGIN:STANDARD
TZOFFSETFROM:-0700
TZOFFSETTO:-0800
TZNAME:PST
DTSTART:20241103T090000
END:STANDARD
BEGIN:DAYLIGHT
TZOFFSETFROM:-0800
TZOFFSETTO:-0700
TZNAME:PDT
DTSTART:20250309T100000
END:DAYLIGHT
BEGIN:STANDARD
TZOFFSETFROM:-0700
TZOFFSETTO:-0800
TZNAME:PST
DTSTART:20251102T090000
END:STANDARD
BEGIN:DAYLIGHT
TZOFFSETFROM:-0800
TZOFFSETTO:-0700
TZNAME:PDT
DTSTART:20260308T100000
END:DAYLIGHT
BEGIN:STANDARD
TZOFFSETFROM:-0700
TZOFFSETTO:-0800
TZNAME:PST
DTSTART:20261101T090000
END:STANDARD
END:VTIMEZONE
BEGIN:VEVENT
DTSTART;TZID=America/Los_Angeles:20251203T190000
DTEND;TZID=America/Los_Angeles:20251206T203000
DTSTAMP:20260421T120705
CREATED:20251122T015804Z
LAST-MODIFIED:20251126T235115Z
UID:6185-1764788400-1765053000@thefront.casafamiliar.org
SUMMARY:Teatro Mascara Magica presents La Pastorela 2025 at El Salon Theatre
DESCRIPTION:Teatro Mascara Magica are returning to El Salon Theatre to present La Pastorela for one week only! \nDecember Evening Shows at 7:00pm \nDates: 3rd\, 4th\, 5th and 6th\, 2025. \nDecember Matinee Shows at 2:00pm \nDates: 6th and 7th\, 2025 \nEl Salon Theatre \n114 W Hall Ave San Ysidro CA 92173 \nTickets: \nGeneral Admission: $25 \nMilitary\, Seniors\, Students: $15 \nChildren $10
URL:https://thefront.casafamiliar.org/event/teatro-mascara-magica-presents-la-pastorela-2025-at-el-salon-theatre
LOCATION:El Salon Theatre\, 114 W Hall Ave\, San Ysidro CA. 92147\, San Ysidro\, 92147\, United States
CATEGORIES:Theatre Performance,Theatre Play
ATTACH;FMTTYPE=image/jpeg:https://thefront.casafamiliar.org/wp-content/uploads/2025/11/La-Pastorela.jpg
END:VEVENT
BEGIN:VEVENT
DTSTART;TZID=America/Los_Angeles:20251206T140000
DTEND;TZID=America/Los_Angeles:20251207T150000
DTSTAMP:20260421T120705
CREATED:20251122T020103Z
LAST-MODIFIED:20251126T235028Z
UID:6187-1765029600-1765119600@thefront.casafamiliar.org
SUMMARY:Teatro Mascara Magica presents La Pastorela 2025 at El Salon Theatre
DESCRIPTION:Teatro Mascara Magica are returning to El Salon Theatre to present La Pastorela for one week only! \nDecember Evening Shows at 7:00pm \nDates: 3rd\, 4th\, 5th and 6th\, 2025. \nDecember Matinee Shows at 2:00pm \nDates: 6th and 7th\, 2025 \nEl Salon Theatre \n114 W Hall Ave San Ysidro CA 92173 \nTickets: \nGeneral Admission: $25 \nMilitary\, Seniors\, Students: $15 \nChildren $10
URL:https://thefront.casafamiliar.org/event/la-pastorela-at-el-salon-theatre
LOCATION:El Salon Theatre\, 114 W Hall Ave\, San Ysidro CA. 92147\, San Ysidro\, 92147\, United States
CATEGORIES:Theatre Performance,Theatre Play
ATTACH;FMTTYPE=image/jpeg:https://thefront.casafamiliar.org/wp-content/uploads/2025/11/La-Pastorela.jpg
END:VEVENT
END:VCALENDAR