BEGIN:VCALENDAR
VERSION:2.0
PRODID:-//The Front Arte Cultura - ECPv6.15.20//NONSGML v1.0//EN
CALSCALE:GREGORIAN
METHOD:PUBLISH
X-WR-CALNAME:The Front Arte Cultura
X-ORIGINAL-URL:https://thefront.casafamiliar.org
X-WR-CALDESC:Eventos para The Front Arte Cultura
REFRESH-INTERVAL;VALUE=DURATION:PT1H
X-Robots-Tag:noindex
X-PUBLISHED-TTL:PT1H
BEGIN:VTIMEZONE
TZID:America/Los_Angeles
BEGIN:DAYLIGHT
TZOFFSETFROM:-0800
TZOFFSETTO:-0700
TZNAME:PDT
DTSTART:20230312T100000
END:DAYLIGHT
BEGIN:STANDARD
TZOFFSETFROM:-0700
TZOFFSETTO:-0800
TZNAME:PST
DTSTART:20231105T090000
END:STANDARD
BEGIN:DAYLIGHT
TZOFFSETFROM:-0800
TZOFFSETTO:-0700
TZNAME:PDT
DTSTART:20240310T100000
END:DAYLIGHT
BEGIN:STANDARD
TZOFFSETFROM:-0700
TZOFFSETTO:-0800
TZNAME:PST
DTSTART:20241103T090000
END:STANDARD
BEGIN:DAYLIGHT
TZOFFSETFROM:-0800
TZOFFSETTO:-0700
TZNAME:PDT
DTSTART:20250309T100000
END:DAYLIGHT
BEGIN:STANDARD
TZOFFSETFROM:-0700
TZOFFSETTO:-0800
TZNAME:PST
DTSTART:20251102T090000
END:STANDARD
END:VTIMEZONE
BEGIN:VEVENT
DTSTART;TZID=America/Los_Angeles:20241211T190000
DTEND;TZID=America/Los_Angeles:20241215T200000
DTSTAMP:20260422T060917
CREATED:20241128T005657Z
LAST-MODIFIED:20241128T005657Z
UID:5003-1733943600-1734292800@thefront.casafamiliar.org
SUMMARY:Celebrate the Holidays with La Pastorela
DESCRIPTION:Join Teatro Máscara Mágica for their cherished holiday tradition\, La Pastorela! Directed by William A. Virchis and written by Timothy Paul Evans with contributions from Paul James Kruse\, this lively and heartwarming theatrical performance is perfect for all ages. \n📅 Evening Shows: December 11–15 and 17–21 at 7:00 PM\n📅 Matinee Shows: December 14\, 15\, and 21 at 2:00 PM \n🎟️ Tickets: \n\n$25 General Admission\n$15 Seniors\, Military\, Students\n$10 Children 12 & under or groups of 10+\n\n📍 Location:\nEl Salon Cultural Center\, 114 West Hall Avenue\, San Diego\, CA 92173\n🚗 Free parking available at 137 Cypress Drive. \nGet your tickets at TMMSD.org or call (619) 987-5616 for more information.
URL:https://thefront.casafamiliar.org/event/celebrate-the-holidays-with-la-pastorela
LOCATION:El Salon Theatre\, 114 W Hall Ave\, San Ysidro CA. 92147\, San Ysidro\, 92147\, United States
CATEGORIES:Theatre Performance
ATTACH;FMTTYPE=image/png:https://thefront.casafamiliar.org/wp-content/uploads/2024/11/la-pastorela-2024_orig.png
END:VEVENT
BEGIN:VEVENT
DTSTART;TZID=America/Los_Angeles:20241214T140000
DTEND;TZID=America/Los_Angeles:20241215T150000
DTSTAMP:20260422T060917
CREATED:20241128T010022Z
LAST-MODIFIED:20241128T010022Z
UID:5008-1734184800-1734274800@thefront.casafamiliar.org
SUMMARY:Celebrate the Holidays with La Pastorela
DESCRIPTION:Join Teatro Máscara Mágica for their cherished holiday tradition\, La Pastorela! Directed by William A. Virchis and written by Timothy Paul Evans with contributions from Paul James Kruse\, this lively and heartwarming theatrical performance is perfect for all ages. \n📅 Evening Shows: December 11–15 and 17–21 at 7:00 PM\n📅 Matinee Shows: December 14\, 15\, and 21 at 2:00 PM \n🎟️ Tickets: \n\n$25 General Admission\n$15 Seniors\, Military\, Students\n$10 Children 12 & under or groups of 10+\n\n📍 Location:\nEl Salon Cultural Center\, 114 West Hall Avenue\, San Diego\, CA 92173\n🚗 Free parking available at 137 Cypress Drive. \nGet your tickets at TMMSD.org or call (619) 987-5616 for more information.
URL:https://thefront.casafamiliar.org/event/celebrate-the-holidays-with-la-pastorela-3
LOCATION:El Salon Theatre\, 114 W Hall Ave\, San Ysidro CA. 92147\, San Ysidro\, 92147\, United States
CATEGORIES:Theatre Performance
ATTACH;FMTTYPE=image/png:https://thefront.casafamiliar.org/wp-content/uploads/2024/11/la-pastorela-2024_orig.png
END:VEVENT
BEGIN:VEVENT
DTSTART;TZID=America/Los_Angeles:20241217T190000
DTEND;TZID=America/Los_Angeles:20241221T200000
DTSTAMP:20260422T060917
CREATED:20241128T005900Z
LAST-MODIFIED:20241128T005900Z
UID:5006-1734462000-1734811200@thefront.casafamiliar.org
SUMMARY:Celebrate the Holidays with La Pastorela
DESCRIPTION:Join Teatro Máscara Mágica for their cherished holiday tradition\, La Pastorela! Directed by William A. Virchis and written by Timothy Paul Evans with contributions from Paul James Kruse\, this lively and heartwarming theatrical performance is perfect for all ages. \n📅 Evening Shows: December 11–15 and 17–21 at 7:00 PM\n📅 Matinee Shows: December 14\, 15\, and 21 at 2:00 PM \n🎟️ Tickets: \n\n$25 General Admission\n$15 Seniors\, Military\, Students\n$10 Children 12 & under or groups of 10+\n\n📍 Location:\nEl Salon Cultural Center\, 114 West Hall Avenue\, San Diego\, CA 92173\n🚗 Free parking available at 137 Cypress Drive. \nGet your tickets at TMMSD.org or call (619) 987-5616 for more information.
URL:https://thefront.casafamiliar.org/event/celebrate-the-holidays-with-la-pastorela-2
LOCATION:El Salon Theatre\, 114 W Hall Ave\, San Ysidro CA. 92147\, San Ysidro\, 92147\, United States
CATEGORIES:Theatre Performance
ATTACH;FMTTYPE=image/png:https://thefront.casafamiliar.org/wp-content/uploads/2024/11/la-pastorela-2024_orig.png
END:VEVENT
BEGIN:VEVENT
DTSTART;TZID=America/Los_Angeles:20241221T140000
DTEND;TZID=America/Los_Angeles:20241221T150000
DTSTAMP:20260422T060917
CREATED:20241128T010126Z
LAST-MODIFIED:20241128T010126Z
UID:5010-1734789600-1734793200@thefront.casafamiliar.org
SUMMARY:Celebrate the Holidays with La Pastorela
DESCRIPTION:Join Teatro Máscara Mágica for their cherished holiday tradition\, La Pastorela! Directed by William A. Virchis and written by Timothy Paul Evans with contributions from Paul James Kruse\, this lively and heartwarming theatrical performance is perfect for all ages. \n📅 Evening Shows: December 11–15 and 17–21 at 7:00 PM\n📅 Matinee Shows: December 14\, 15\, and 21 at 2:00 PM \n🎟️ Tickets: \n\n$25 General Admission\n$15 Seniors\, Military\, Students\n$10 Children 12 & under or groups of 10+\n\n📍 Location:\nEl Salon Cultural Center\, 114 West Hall Avenue\, San Diego\, CA 92173\n🚗 Free parking available at 137 Cypress Drive. \nGet your tickets at TMMSD.org or call (619) 987-5616 for more information.
URL:https://thefront.casafamiliar.org/event/celebrate-the-holidays-with-la-pastorela-4
LOCATION:El Salon Theatre\, 114 W Hall Ave\, San Ysidro CA. 92147\, San Ysidro\, 92147\, United States
CATEGORIES:Theatre Performance
ATTACH;FMTTYPE=image/png:https://thefront.casafamiliar.org/wp-content/uploads/2024/11/la-pastorela-2024_orig.png
END:VEVENT
END:VCALENDAR