BEGIN:VCALENDAR
VERSION:2.0
PRODID:-//The Front Arte Cultura - ECPv6.15.20//NONSGML v1.0//EN
CALSCALE:GREGORIAN
METHOD:PUBLISH
X-WR-CALNAME:The Front Arte Cultura
X-ORIGINAL-URL:https://thefront.casafamiliar.org
X-WR-CALDESC:Eventos para The Front Arte Cultura
REFRESH-INTERVAL;VALUE=DURATION:PT1H
X-Robots-Tag:noindex
X-PUBLISHED-TTL:PT1H
BEGIN:VTIMEZONE
TZID:America/Los_Angeles
BEGIN:DAYLIGHT
TZOFFSETFROM:-0800
TZOFFSETTO:-0700
TZNAME:PDT
DTSTART:20250309T100000
END:DAYLIGHT
BEGIN:STANDARD
TZOFFSETFROM:-0700
TZOFFSETTO:-0800
TZNAME:PST
DTSTART:20251102T090000
END:STANDARD
BEGIN:DAYLIGHT
TZOFFSETFROM:-0800
TZOFFSETTO:-0700
TZNAME:PDT
DTSTART:20260308T100000
END:DAYLIGHT
BEGIN:STANDARD
TZOFFSETFROM:-0700
TZOFFSETTO:-0800
TZNAME:PST
DTSTART:20261101T090000
END:STANDARD
BEGIN:DAYLIGHT
TZOFFSETFROM:-0800
TZOFFSETTO:-0700
TZNAME:PDT
DTSTART:20270314T100000
END:DAYLIGHT
BEGIN:STANDARD
TZOFFSETFROM:-0700
TZOFFSETTO:-0800
TZNAME:PST
DTSTART:20271107T090000
END:STANDARD
END:VTIMEZONE
BEGIN:VEVENT
DTSTART;TZID=America/Los_Angeles:20260124T160000
DTEND;TZID=America/Los_Angeles:20260124T180000
DTSTAMP:20260421T105505
CREATED:20260121T005417Z
LAST-MODIFIED:20260121T005417Z
UID:6282-1769270400-1769277600@thefront.casafamiliar.org
SUMMARY:Creatura by Dialogos Danzados LIVE at El Salon Theatre
DESCRIPTION:Join us for our next presentation at El Salón with Dialogues in Dance. \nThis January 24th\, at 4 pm\, we will be holding a workshop and work-in-progress presentation for the community. Admission is free and open to all ages. \nDialogues in Dance presents «Creature\,» a research project by choreographers Miroslava Wilson and Briseida Lopez\, who\, through their collaboration\, have developed research guidelines that combine somatics\, dance\, and philosophy to create a new performative-choreographic piece. \nDuring this past period\, they have been in a creative residency in collaboration with El Salón and Casa Familiar. This presentation is part of that creative residency. \nHow do we connect through impermanence? We believe we transform into nameless creatures\, into two bodies of water with multiple heads\, into a single mass pulsating with life.
URL:https://thefront.casafamiliar.org/event/creatura-by-dialogos-danzados-live-at-el-salon-theatre
LOCATION:El Salon Theatre\, 114 W Hall Ave\, San Ysidro CA. 92147\, San Ysidro\, 92147\, United States
CATEGORIES:Performances,Workshop
ATTACH;FMTTYPE=image/png:https://thefront.casafamiliar.org/wp-content/uploads/2026/01/2-1.png
END:VEVENT
END:VCALENDAR