BEGIN:VCALENDAR
VERSION:2.0
PRODID:-//The Front Arte Cultura - ECPv6.15.20//NONSGML v1.0//EN
CALSCALE:GREGORIAN
METHOD:PUBLISH
X-WR-CALNAME:The Front Arte Cultura
X-ORIGINAL-URL:https://thefront.casafamiliar.org
X-WR-CALDESC:Eventos para The Front Arte Cultura
REFRESH-INTERVAL;VALUE=DURATION:PT1H
X-Robots-Tag:noindex
X-PUBLISHED-TTL:PT1H
BEGIN:VTIMEZONE
TZID:America/Los_Angeles
BEGIN:DAYLIGHT
TZOFFSETFROM:-0800
TZOFFSETTO:-0700
TZNAME:PDT
DTSTART:20240310T100000
END:DAYLIGHT
BEGIN:STANDARD
TZOFFSETFROM:-0700
TZOFFSETTO:-0800
TZNAME:PST
DTSTART:20241103T090000
END:STANDARD
BEGIN:DAYLIGHT
TZOFFSETFROM:-0800
TZOFFSETTO:-0700
TZNAME:PDT
DTSTART:20250309T100000
END:DAYLIGHT
BEGIN:STANDARD
TZOFFSETFROM:-0700
TZOFFSETTO:-0800
TZNAME:PST
DTSTART:20251102T090000
END:STANDARD
BEGIN:DAYLIGHT
TZOFFSETFROM:-0800
TZOFFSETTO:-0700
TZNAME:PDT
DTSTART:20260308T100000
END:DAYLIGHT
BEGIN:STANDARD
TZOFFSETFROM:-0700
TZOFFSETTO:-0800
TZNAME:PST
DTSTART:20261101T090000
END:STANDARD
END:VTIMEZONE
BEGIN:VEVENT
DTSTART;TZID=America/Los_Angeles:20250726T163000
DTEND;TZID=America/Los_Angeles:20250726T193000
DTSTAMP:20260421T194738
CREATED:20250702T211615Z
LAST-MODIFIED:20250702T211615Z
UID:5668-1753547400-1753558200@thefront.casafamiliar.org
SUMMARY:The Land We Carry – AAPI Performance Art Festival
DESCRIPTION:Exhibition by San Diego AAPI Emerging Artist Fellowship\nFriday\, July 26 | 4:30- 7:30pm\n El Salon Theatre \nJoin us for the culminating showcase of the San Diego AAPI Emerging Artist Fellowship\, featuring performance\, poetry\, sculpture\, and more. \nThese interdisciplinary works explore queer futures\, ancestral memory\, and diasporic rituals. Don’t miss this powerful\, one-night event!´ \nSchedule: \nDoors 4:30pm \nPerformances begin at 5:00 PM \nArtist Talkback: 6pm \nDinner: 6:30pm \nClosing remarks at 7:30PM
URL:https://thefront.casafamiliar.org/event/the-land-we-carry-aapi-performance-art-festival
LOCATION:El Salon Theatre\, 114 W Hall Ave\, San Ysidro CA. 92147\, San Ysidro\, 92147\, United States
CATEGORIES:Exhibitions,Performances
ATTACH;FMTTYPE=image/jpeg:https://thefront.casafamiliar.org/wp-content/uploads/2025/07/VIET-VOICES-FELLOWS-SPRING2025.jpg
ORGANIZER;CN="The FRONT Arte Cultura":MAILTO:hectorc@casafamiliar.org
END:VEVENT
BEGIN:VEVENT
DTSTART;TZID=America/Los_Angeles:20250726T163000
DTEND;TZID=America/Los_Angeles:20250726T193000
DTSTAMP:20260421T194738
CREATED:20250702T212407Z
LAST-MODIFIED:20250702T212407Z
UID:5681-1753547400-1753558200@thefront.casafamiliar.org
SUMMARY:The Land We Carry – AAPI Performance Art Festival
DESCRIPTION:Exhibition by San Diego AAPI Emerging Artist Fellowship\nFriday\, July 26 | 4:30- 7:30pm\n El Salon Theatre \nJoin us for the culminating showcase of the San Diego AAPI Emerging Artist Fellowship\, featuring performance\, poetry\, sculpture\, and more. \nThese interdisciplinary works explore queer futures\, ancestral memory\, and diasporic rituals. Don’t miss this powerful\, one-night event!´ \nSchedule: \nDoors 4:30pm \nPerformances begin at 5:00 PM \nArtist Talkback: 6pm \nDinner: 6:30pm \nClosing remarks at 7:30PM
URL:https://thefront.casafamiliar.org/event/the-land-we-carry-aapi-performance-art-festival-2
LOCATION:El Salon Theatre\, 114 W Hall Ave\, San Ysidro CA. 92147\, San Ysidro\, 92147\, United States
CATEGORIES:Performances
ATTACH;FMTTYPE=image/jpeg:https://thefront.casafamiliar.org/wp-content/uploads/2025/07/VIET-VOICES-FELLOWS-SPRING2025.jpg
ORGANIZER;CN="The FRONT Arte Cultura":MAILTO:hectorc@casafamiliar.org
END:VEVENT
END:VCALENDAR