BEGIN:VCALENDAR
VERSION:2.0
PRODID:-//The Front Arte Cultura - ECPv6.15.20//NONSGML v1.0//EN
CALSCALE:GREGORIAN
METHOD:PUBLISH
X-ORIGINAL-URL:https://thefront.casafamiliar.org
X-WR-CALDESC:Eventos para The Front Arte Cultura
REFRESH-INTERVAL;VALUE=DURATION:PT1H
X-Robots-Tag:noindex
X-PUBLISHED-TTL:PT1H
BEGIN:VTIMEZONE
TZID:America/Los_Angeles
BEGIN:DAYLIGHT
TZOFFSETFROM:-0800
TZOFFSETTO:-0700
TZNAME:PDT
DTSTART:20240310T100000
END:DAYLIGHT
BEGIN:STANDARD
TZOFFSETFROM:-0700
TZOFFSETTO:-0800
TZNAME:PST
DTSTART:20241103T090000
END:STANDARD
BEGIN:DAYLIGHT
TZOFFSETFROM:-0800
TZOFFSETTO:-0700
TZNAME:PDT
DTSTART:20250309T100000
END:DAYLIGHT
BEGIN:STANDARD
TZOFFSETFROM:-0700
TZOFFSETTO:-0800
TZNAME:PST
DTSTART:20251102T090000
END:STANDARD
BEGIN:DAYLIGHT
TZOFFSETFROM:-0800
TZOFFSETTO:-0700
TZNAME:PDT
DTSTART:20260308T100000
END:DAYLIGHT
BEGIN:STANDARD
TZOFFSETFROM:-0700
TZOFFSETTO:-0800
TZNAME:PST
DTSTART:20261101T090000
END:STANDARD
END:VTIMEZONE
BEGIN:VEVENT
DTSTART;TZID=America/Los_Angeles:20250607T183000
DTEND;TZID=America/Los_Angeles:20250607T210000
DTSTAMP:20260421T210821
CREATED:20250530T201356Z
LAST-MODIFIED:20250602T200914Z
UID:5582-1749321000-1749330000@thefront.casafamiliar.org
SUMMARY:Multi-media Performance "Eternus Orbis" - By Fana Muñoz & Moisés Regla
DESCRIPTION:From Mexico City to San Ysidro\, presenting the collaborative work of Fana Muñoz – artist\, DJ\, performer – and Moisés Regla – visualist – for «ETERNUS ORBIS» on Saturday\, June 7th\, 2025 \nDoors Open  6:30pm  \nFree Entry  \nEl Salón Theatre – 114 W Hall Ave\, San Ysidro CA 92173 \nParking – All parking at El Salón Theatre is for residents only. We ask that all attendees use available street parking\, as well as encourage the use of public transit – the nearest Trolley station is Beyer Blvd.
URL:https://thefront.casafamiliar.org/event/multi-media-performance-aeternus-orbis-by-fana-munoz-moises-regla
LOCATION:El Salon Theatre\, 114 W Hall Ave\, San Ysidro CA. 92147\, San Ysidro\, 92147\, United States
CATEGORIES:Performances
ATTACH;FMTTYPE=image/png:https://thefront.casafamiliar.org/wp-content/uploads/2025/06/630pm.png
END:VEVENT
BEGIN:VEVENT
DTSTART;TZID=America/Los_Angeles:20250626T183000
DTEND;TZID=America/Los_Angeles:20250626T193000
DTSTAMP:20260421T210821
CREATED:20250607T230910Z
LAST-MODIFIED:20250607T230910Z
UID:5619-1750962600-1750966200@thefront.casafamiliar.org
SUMMARY:Kintsugi Theatre Dance presents «PATÁN»
DESCRIPTION:Patán is a monologue that\, through humor and physical theater\, immerses us in the life of a mixed-breed dog who\, after being abandoned\, must learn to survive on the streets.\nA dog’s greatest crime is being born. Patán\, a monologue that touches on the most sensitive aspects of our cities. The people who live in abandonment with no hope of escaping this situation. Patán fights and loses in the attempt\, like thousands of our children and elderly whom we have stopped seeing\, whom we have erased from the map of our social conscience. \nThursday\, June 26\, 6:30 p.m. \nEl Salon Teatro (114 W Hall Ave San Ysidro\, CA) \nFree admission \nParking: Parking at El Salón Theater is exclusive to residents. We ask all attendees to use available street parking and encourage the use of public transportation. The nearest cable car station is Beyer Blvd.
URL:https://thefront.casafamiliar.org/event/kintsugi-theatre-dance-presents-patan
LOCATION:El Salon Theatre\, 114 W Hall Ave\, San Ysidro CA. 92147\, San Ysidro\, 92147\, United States
CATEGORIES:Performances,Theatre Performance
ATTACH;FMTTYPE=image/jpeg:https://thefront.casafamiliar.org/wp-content/uploads/2025/06/El-Salon-Events-1.jpg
ORGANIZER;CN="Casa Familiar":MAILTO:info@casafamiliar.org
END:VEVENT
BEGIN:VEVENT
DTSTART;TZID=America/Los_Angeles:20250628T110000
DTEND;TZID=America/Los_Angeles:20250628T120000
DTSTAMP:20260421T210821
CREATED:20250530T203531Z
LAST-MODIFIED:20250530T203531Z
UID:5584-1751108400-1751112000@thefront.casafamiliar.org
SUMMARY:Dance Performance "Amá" by Diálogos Danzados
DESCRIPTION:Follow Miroslava Wilson and Briseida Lopez on their powerful journey through «Amá»\, a dance performance by Diálogos Danzados—live at El Salon Theatre on June 28 at 11am.
URL:https://thefront.casafamiliar.org/event/dance-performance-ama-by-dialogos-danzados
LOCATION:El Salon Theatre\, 114 W Hall Ave\, San Ysidro CA. 92147\, San Ysidro\, 92147\, United States
CATEGORIES:Performances
ATTACH;FMTTYPE=image/jpeg:https://thefront.casafamiliar.org/wp-content/uploads/2025/05/El-Salon-Concert.jpg
END:VEVENT
END:VCALENDAR