BEGIN:VCALENDAR
VERSION:2.0
PRODID:-//The Front Arte Cultura - ECPv6.15.20//NONSGML v1.0//EN
CALSCALE:GREGORIAN
METHOD:PUBLISH
X-ORIGINAL-URL:https://thefront.casafamiliar.org
X-WR-CALDESC:Eventos para The Front Arte Cultura
REFRESH-INTERVAL;VALUE=DURATION:PT1H
X-Robots-Tag:noindex
X-PUBLISHED-TTL:PT1H
BEGIN:VTIMEZONE
TZID:America/Los_Angeles
BEGIN:DAYLIGHT
TZOFFSETFROM:-0800
TZOFFSETTO:-0700
TZNAME:PDT
DTSTART:20250309T100000
END:DAYLIGHT
BEGIN:STANDARD
TZOFFSETFROM:-0700
TZOFFSETTO:-0800
TZNAME:PST
DTSTART:20251102T090000
END:STANDARD
BEGIN:DAYLIGHT
TZOFFSETFROM:-0800
TZOFFSETTO:-0700
TZNAME:PDT
DTSTART:20260308T100000
END:DAYLIGHT
BEGIN:STANDARD
TZOFFSETFROM:-0700
TZOFFSETTO:-0800
TZNAME:PST
DTSTART:20261101T090000
END:STANDARD
BEGIN:DAYLIGHT
TZOFFSETFROM:-0800
TZOFFSETTO:-0700
TZNAME:PDT
DTSTART:20270314T100000
END:DAYLIGHT
BEGIN:STANDARD
TZOFFSETFROM:-0700
TZOFFSETTO:-0800
TZNAME:PST
DTSTART:20271107T090000
END:STANDARD
END:VTIMEZONE
BEGIN:VEVENT
DTSTART;TZID=America/Los_Angeles:20260124T160000
DTEND;TZID=America/Los_Angeles:20260124T180000
DTSTAMP:20260421T090153
CREATED:20251220T002353Z
LAST-MODIFIED:20251220T002353Z
UID:6241-1769270400-1769277600@thefront.casafamiliar.org
SUMMARY:Border Ecologies\, entre el agua y la tierra
DESCRIPTION:Join us at The FRONT Gallery for the opening of Border Ecologies: Between Water and Land on Saturday\, January 24\, from 4-6 PM. Presented by The Border Design Lab in partnership with Promotora de las Bellas Artes\, this exhibition explores conservation\, coastal protection\, and urban resilience at the U.S.-Mexico border through architectural research\, community engagement\, and student-led work. The exhibition will be on view through January 31.
URL:https://thefront.casafamiliar.org/event/border-ecologies-entre-el-agua-y-la-tierra
LOCATION:The Front Arte y Cultura
CATEGORIES:Opening
ATTACH;FMTTYPE=image/jpeg:https://thefront.casafamiliar.org/wp-content/uploads/2025/12/Flyer_BE_FRONT.jpg
END:VEVENT
END:VCALENDAR