BEGIN:VCALENDAR
VERSION:2.0
PRODID:-//The Front Arte Cultura - ECPv6.15.20//NONSGML v1.0//EN
CALSCALE:GREGORIAN
METHOD:PUBLISH
X-ORIGINAL-URL:https://thefront.casafamiliar.org
X-WR-CALDESC:Eventos para The Front Arte Cultura
REFRESH-INTERVAL;VALUE=DURATION:PT1H
X-Robots-Tag:noindex
X-PUBLISHED-TTL:PT1H
BEGIN:VTIMEZONE
TZID:America/Los_Angeles
BEGIN:DAYLIGHT
TZOFFSETFROM:-0800
TZOFFSETTO:-0700
TZNAME:PDT
DTSTART:20240310T100000
END:DAYLIGHT
BEGIN:STANDARD
TZOFFSETFROM:-0700
TZOFFSETTO:-0800
TZNAME:PST
DTSTART:20241103T090000
END:STANDARD
BEGIN:DAYLIGHT
TZOFFSETFROM:-0800
TZOFFSETTO:-0700
TZNAME:PDT
DTSTART:20250309T100000
END:DAYLIGHT
BEGIN:STANDARD
TZOFFSETFROM:-0700
TZOFFSETTO:-0800
TZNAME:PST
DTSTART:20251102T090000
END:STANDARD
BEGIN:DAYLIGHT
TZOFFSETFROM:-0800
TZOFFSETTO:-0700
TZNAME:PDT
DTSTART:20260308T100000
END:DAYLIGHT
BEGIN:STANDARD
TZOFFSETFROM:-0700
TZOFFSETTO:-0800
TZNAME:PST
DTSTART:20261101T090000
END:STANDARD
END:VTIMEZONE
BEGIN:VEVENT
DTSTART;VALUE=DATE:20250202
DTEND;VALUE=DATE:20250203
DTSTAMP:20260422T053924
CREATED:20250109T013421Z
LAST-MODIFIED:20250109T013421Z
UID:5109-1738454400-1738540799@thefront.casafamiliar.org
SUMMARY:Last day to apply for Dia de la Mujer Open Call
DESCRIPTION:This years exhibition\, curated by Claudia Cano @claudiacanoartist\, invites artists to explore imaginative spaces\, alternative realities\, and fantastical futures as tools of empowerment and resistance. \nCheck out the submission guidelines and access the application here: Application Guidelines
URL:https://thefront.casafamiliar.org/event/last-day-to-apply-for-dia-de-la-mujer-open-call
CATEGORIES:Open Call
ATTACH;FMTTYPE=image/png:https://thefront.casafamiliar.org/wp-content/uploads/2024/12/1.png
ORGANIZER;CN="Casa Familiar":MAILTO:info@casafamiliar.org
END:VEVENT
END:VCALENDAR