BEGIN:VCALENDAR
VERSION:2.0
PRODID:-//The Front Arte Cultura - ECPv6.15.20//NONSGML v1.0//EN
CALSCALE:GREGORIAN
METHOD:PUBLISH
X-ORIGINAL-URL:https://thefront.casafamiliar.org
X-WR-CALDESC:Eventos para The Front Arte Cultura
REFRESH-INTERVAL;VALUE=DURATION:PT1H
X-Robots-Tag:noindex
X-PUBLISHED-TTL:PT1H
BEGIN:VTIMEZONE
TZID:America/Los_Angeles
BEGIN:DAYLIGHT
TZOFFSETFROM:-0800
TZOFFSETTO:-0700
TZNAME:PDT
DTSTART:20230312T100000
END:DAYLIGHT
BEGIN:STANDARD
TZOFFSETFROM:-0700
TZOFFSETTO:-0800
TZNAME:PST
DTSTART:20231105T090000
END:STANDARD
BEGIN:DAYLIGHT
TZOFFSETFROM:-0800
TZOFFSETTO:-0700
TZNAME:PDT
DTSTART:20240310T100000
END:DAYLIGHT
BEGIN:STANDARD
TZOFFSETFROM:-0700
TZOFFSETTO:-0800
TZNAME:PST
DTSTART:20241103T090000
END:STANDARD
BEGIN:DAYLIGHT
TZOFFSETFROM:-0800
TZOFFSETTO:-0700
TZNAME:PDT
DTSTART:20250309T100000
END:DAYLIGHT
BEGIN:STANDARD
TZOFFSETFROM:-0700
TZOFFSETTO:-0800
TZNAME:PST
DTSTART:20251102T090000
END:STANDARD
END:VTIMEZONE
BEGIN:VEVENT
DTSTART;TZID=America/Los_Angeles:20241212T180000
DTEND;TZID=America/Los_Angeles:20241212T193000
DTSTAMP:20260422T073807
CREATED:20241122T233759Z
LAST-MODIFIED:20241126T235741Z
UID:4951-1734026400-1734031800@thefront.casafamiliar.org
SUMMARY:Guided tour and sound bath with Cognate
DESCRIPTION:Join us at The FRONT Arte y Cultura for an evening exploring the profound themes of border-crossing in our latest exhibition\, How Can You Mend a Broken Heart?\, created by the Cog•nate Collective. \nDate: Thursday\, December 12\nTime: 6:00 PM\nLocation: The FRONT Arte y Cultura\n147 W San Ysidro Blvd\, San Ysidro\, CA \nImmerse yourself in:\n A guided tour through sonic sculptures\, participatory performances\, and neighborhood radio transmissions.\nA soothing sound bath inspired by themes of connection and resilience. \nBring your own mat for the sound session \nFREE ENTRY | Limited space available. RSVP to ElizabethB@casafamiliar.org
URL:https://thefront.casafamiliar.org/event/guided-tour-and-sound-bath-with-cognate
CATEGORIES:Guided Tour
ATTACH;FMTTYPE=image/jpeg:https://thefront.casafamiliar.org/wp-content/uploads/2024/11/Guided-Tour-with-Cognate-Collective.jpg
END:VEVENT
END:VCALENDAR