BEGIN:VCALENDAR
VERSION:2.0
PRODID:-//The Front Arte Cultura - ECPv6.15.20//NONSGML v1.0//EN
CALSCALE:GREGORIAN
METHOD:PUBLISH
X-WR-CALNAME:The Front Arte Cultura
X-ORIGINAL-URL:https://thefront.casafamiliar.org
X-WR-CALDESC:Eventos para The Front Arte Cultura
REFRESH-INTERVAL;VALUE=DURATION:PT1H
X-Robots-Tag:noindex
X-PUBLISHED-TTL:PT1H
BEGIN:VTIMEZONE
TZID:America/Los_Angeles
BEGIN:DAYLIGHT
TZOFFSETFROM:-0800
TZOFFSETTO:-0700
TZNAME:PDT
DTSTART:20240310T100000
END:DAYLIGHT
BEGIN:STANDARD
TZOFFSETFROM:-0700
TZOFFSETTO:-0800
TZNAME:PST
DTSTART:20241103T090000
END:STANDARD
BEGIN:DAYLIGHT
TZOFFSETFROM:-0800
TZOFFSETTO:-0700
TZNAME:PDT
DTSTART:20250309T100000
END:DAYLIGHT
BEGIN:STANDARD
TZOFFSETFROM:-0700
TZOFFSETTO:-0800
TZNAME:PST
DTSTART:20251102T090000
END:STANDARD
BEGIN:DAYLIGHT
TZOFFSETFROM:-0800
TZOFFSETTO:-0700
TZNAME:PDT
DTSTART:20260308T100000
END:DAYLIGHT
BEGIN:STANDARD
TZOFFSETFROM:-0700
TZOFFSETTO:-0800
TZNAME:PST
DTSTART:20261101T090000
END:STANDARD
END:VTIMEZONE
BEGIN:VEVENT
DTSTART;TZID=America/Los_Angeles:20250904T180000
DTEND;TZID=America/Los_Angeles:20250904T210000
DTSTAMP:20260421T170747
CREATED:20250815T234429Z
LAST-MODIFIED:20250815T234429Z
UID:5951-1757008800-1757019600@thefront.casafamiliar.org
SUMMARY:YINTAH- Ambulante Presenta
DESCRIPTION:Sinopsis\nYintah documenta más de una década de resistencia: la nación Wet’suwet’en quiere proteger sus tierras ancestrales del Gobierno canadiense y de gigantes corporativos\, en una lucha por la soberanía y la justicia ambiental. \nSemblanza\nBrenda Michell es cineasta y profesora. Es miembro de la nación Wet’suwet’en y desde joven ha ocupado puestos políticos dentro de la misma. Micharel Toledano es periodista especializado en temas ambientales. Jennifer Wickham es una productora audiovisual que se ha acercado a varias iniciativas de resistencia indígena. \nDirectores: Jennifer Wickham\, Brenda Michell\, Michael Toledano\nProductores: Jennifer Wickham\, Brenda Michell\, Michael Toledano\, Bob Moore\nDuración: 125 min\, 110 min\, 88 min\nPaíses de producción: Canadá\nhttps://www.yintahfilm.com/ \nJueves 4 de septiembre de 2025 \nEl Salon Teatro (114 W Hall Ave. San Ysidro CA 92173) \nPuertas abren: 6:00pm \nInicio de función: 6:30pm \nEntrada gratuita \n\nSynopsis\nYintah documents more than a decade of resistance: the Wet’suwet’en Nation seeks to protect their ancestral lands from the Canadian government and corporate giants in a fight for sovereignty and environmental justice. \nProfile\nBrenda Michell is a filmmaker and professor. She is a member of the Wet’suwet’en Nation and has held political positions within it since her youth. Michael Toledano is a journalist specializing in environmental issues. Jennifer Wickham is an audiovisual producer who has worked with several Indigenous resistance initiatives. \nDirectors: Jennifer Wickham\, Brenda Michell\, Michael Toledano\nProducers: Jennifer Wickham\, Brenda Michell\, Michael Toledano\, Bob Moore\nRunning Time: 125 min\, 110 min\, 88 min\nProduction Countries: Canada\nhttps://www.yintahfilm.com/ \nThursday\, September 4\, 2025 \nEl Salon Theatre (114 W Hall Ave. San Ysidro\, CA 92173) \nDoors Open: 6:00 p.m. \nShowtimes Start: 6:30 p.m. \nFree Admission
URL:https://thefront.casafamiliar.org/event/yintah-ambulante-presenta
LOCATION:El Salon Theatre\, 114 W Hall Ave\, San Ysidro CA. 92147\, San Ysidro\, 92147\, United States
CATEGORIES:Film Screening
ATTACH;FMTTYPE=image/jpeg:https://thefront.casafamiliar.org/wp-content/uploads/2025/08/Cartel_Yintah.jpg
END:VEVENT
END:VCALENDAR