BEGIN:VCALENDAR
VERSION:2.0
PRODID:-//The Front Arte Cultura - ECPv6.15.20//NONSGML v1.0//EN
CALSCALE:GREGORIAN
METHOD:PUBLISH
X-WR-CALNAME:The Front Arte Cultura
X-ORIGINAL-URL:https://thefront.casafamiliar.org
X-WR-CALDESC:Eventos para The Front Arte Cultura
REFRESH-INTERVAL;VALUE=DURATION:PT1H
X-Robots-Tag:noindex
X-PUBLISHED-TTL:PT1H
BEGIN:VTIMEZONE
TZID:America/Los_Angeles
BEGIN:DAYLIGHT
TZOFFSETFROM:-0800
TZOFFSETTO:-0700
TZNAME:PDT
DTSTART:20240310T100000
END:DAYLIGHT
BEGIN:STANDARD
TZOFFSETFROM:-0700
TZOFFSETTO:-0800
TZNAME:PST
DTSTART:20241103T090000
END:STANDARD
BEGIN:DAYLIGHT
TZOFFSETFROM:-0800
TZOFFSETTO:-0700
TZNAME:PDT
DTSTART:20250309T100000
END:DAYLIGHT
BEGIN:STANDARD
TZOFFSETFROM:-0700
TZOFFSETTO:-0800
TZNAME:PST
DTSTART:20251102T090000
END:STANDARD
BEGIN:DAYLIGHT
TZOFFSETFROM:-0800
TZOFFSETTO:-0700
TZNAME:PDT
DTSTART:20260308T100000
END:DAYLIGHT
BEGIN:STANDARD
TZOFFSETFROM:-0700
TZOFFSETTO:-0800
TZNAME:PST
DTSTART:20261101T090000
END:STANDARD
END:VTIMEZONE
BEGIN:VEVENT
DTSTART;VALUE=DATE:20250531
DTEND;VALUE=DATE:20250608
DTSTAMP:20260421T194516
CREATED:20250416T224620Z
LAST-MODIFIED:20250519T183922Z
UID:5456-1748649600-1749340799@thefront.casafamiliar.org
SUMMARY:Land + Lenses final exhibition at The Front Arte y Cultura
DESCRIPTION:We’d love for you to join us on Saturday\, May 31 for the Land + Lenses final exhibition at The Front Arte y Cultura in San Ysidro. \n147 W San Ysidro Blvd\n1:00 PM – 4:00 PM (Opening Reception) Exhibition stays until June 7th.\nFree | Open to the public | Food included\nRSVP here: bit.ly/landandlenses \nThis culminating event features original works by seven youth apprentices who have been part of this youth-led program since February. Their creative works explore environmental justice\, community voice\, and belonging through photography and mixed media. \nLand and Lenses is created in partnership with The Institute for Public Strategies and Casa Familiar\, and is funded by the Arts in California Parks Local Parks Grant Program\, administered by Parks California.
URL:https://thefront.casafamiliar.org/event/land-lenses-final-exhibition
LOCATION:The Front Arte y Cultura
CATEGORIES:Exhibitions,Opening
ATTACH;FMTTYPE=image/png:https://thefront.casafamiliar.org/wp-content/uploads/2025/04/Screenshot-2025-04-07-at-1.10.37-PM.png
END:VEVENT
END:VCALENDAR