BEGIN:VCALENDAR
VERSION:2.0
PRODID:-//The Front Arte Cultura - ECPv6.15.20//NONSGML v1.0//EN
CALSCALE:GREGORIAN
METHOD:PUBLISH
X-WR-CALNAME:The Front Arte Cultura
X-ORIGINAL-URL:https://thefront.casafamiliar.org
X-WR-CALDESC:Eventos para The Front Arte Cultura
REFRESH-INTERVAL;VALUE=DURATION:PT1H
X-Robots-Tag:noindex
X-PUBLISHED-TTL:PT1H
BEGIN:VTIMEZONE
TZID:America/Los_Angeles
BEGIN:DAYLIGHT
TZOFFSETFROM:-0800
TZOFFSETTO:-0700
TZNAME:PDT
DTSTART:20240310T100000
END:DAYLIGHT
BEGIN:STANDARD
TZOFFSETFROM:-0700
TZOFFSETTO:-0800
TZNAME:PST
DTSTART:20241103T090000
END:STANDARD
BEGIN:DAYLIGHT
TZOFFSETFROM:-0800
TZOFFSETTO:-0700
TZNAME:PDT
DTSTART:20250309T100000
END:DAYLIGHT
BEGIN:STANDARD
TZOFFSETFROM:-0700
TZOFFSETTO:-0800
TZNAME:PST
DTSTART:20251102T090000
END:STANDARD
BEGIN:DAYLIGHT
TZOFFSETFROM:-0800
TZOFFSETTO:-0700
TZNAME:PDT
DTSTART:20260308T100000
END:DAYLIGHT
BEGIN:STANDARD
TZOFFSETFROM:-0700
TZOFFSETTO:-0800
TZNAME:PST
DTSTART:20261101T090000
END:STANDARD
END:VTIMEZONE
BEGIN:VEVENT
DTSTART;TZID=America/Los_Angeles:20250306T170000
DTEND;TZID=America/Los_Angeles:20250306T190000
DTSTAMP:20260422T000305
CREATED:20250114T231129Z
LAST-MODIFIED:20250114T231627Z
UID:5127-1741280400-1741287600@thefront.casafamiliar.org
SUMMARY:Visions of a Future - Opening Reception
DESCRIPTION:  \nCasa Familiar’s 18th Annual Dia de la Mujer Exhibition at The Front \nWe are excited to announce the Opening Reception for Casa Familiar’s 18th Annual Dia de la Mujer Exhibition titled «Visions of a Future» and curated by Claudia Cano. \nThis year\, the exhibition seeks to examine imaginary spaces\, and alternative realities that may be fictional\, fantasy\, and futuristic\, to empower the most vulnerable and offer a form of escape from the impending uncertainty. \nOpening Reception: March 6th\, 2025. 5:00 – 7:00pm \nClosing Reception: May 8th\, 2025. 5:00 – 7:00pm
URL:https://thefront.casafamiliar.org/event/visions-of-a-future-opening-reception
LOCATION:The Front Arte y Cultura
CATEGORIES:Exhibitions,Opening
ATTACH;FMTTYPE=image/jpeg:https://thefront.casafamiliar.org/wp-content/uploads/2025/01/TheFront_imagen-y-aplicaciones_FB_1080x1080px-scaled.jpg
ORGANIZER;CN="Casa Familiar":MAILTO:info@casafamiliar.org
END:VEVENT
BEGIN:VEVENT
DTSTART;TZID=America/Los_Angeles:20250322T160000
DTEND;TZID=America/Los_Angeles:20250322T180000
DTSTAMP:20260422T000305
CREATED:20250214T204243Z
LAST-MODIFIED:20250314T232750Z
UID:5201-1742659200-1742666400@thefront.casafamiliar.org
SUMMARY:Perspectives in imaginary spaces and alternative realities - Round table
DESCRIPTION:Perspectivas en espacios imaginarios y realidades alternativas – Mesa redonda \nJoin us for a thought-provoking discussion exploring fictional\, fantastical\, and futuristic spaces that empower and reimagine our world. This round table brings together visionary artists and cultural leaders to reflect on alternative realities as sites of resistance\, possibility\, and transformation. \nFeaturing:Erika Hirugami – Doctoral candidate at UCLA\, Founder & CEO of CuratorLove\, Co-founder of the UNDOC+CollectiveKatie RuizYasmine KasemMonica ArreolaJanelle Iglesias
URL:https://thefront.casafamiliar.org/event/perspectives-in-imaginary-spaces-and-alternative-realities-round-table
LOCATION:The Front Arte y Cultura
CATEGORIES:Conversations,Exhibitions
ATTACH;FMTTYPE=image/jpeg:https://thefront.casafamiliar.org/wp-content/uploads/2025/02/Round-Table-Event.jpg
ORGANIZER;CN="The FRONT Arte Cultura":MAILTO:hectorc@casafamiliar.org
END:VEVENT
END:VCALENDAR