BEGIN:VCALENDAR
VERSION:2.0
PRODID:-//The Front Arte Cultura - ECPv6.15.20//NONSGML v1.0//EN
CALSCALE:GREGORIAN
METHOD:PUBLISH
X-ORIGINAL-URL:https://thefront.casafamiliar.org
X-WR-CALDESC:Eventos para The Front Arte Cultura
REFRESH-INTERVAL;VALUE=DURATION:PT1H
X-Robots-Tag:noindex
X-PUBLISHED-TTL:PT1H
BEGIN:VTIMEZONE
TZID:America/Los_Angeles
BEGIN:DAYLIGHT
TZOFFSETFROM:-0800
TZOFFSETTO:-0700
TZNAME:PDT
DTSTART:20230312T100000
END:DAYLIGHT
BEGIN:STANDARD
TZOFFSETFROM:-0700
TZOFFSETTO:-0800
TZNAME:PST
DTSTART:20231105T090000
END:STANDARD
BEGIN:DAYLIGHT
TZOFFSETFROM:-0800
TZOFFSETTO:-0700
TZNAME:PDT
DTSTART:20240310T100000
END:DAYLIGHT
BEGIN:STANDARD
TZOFFSETFROM:-0700
TZOFFSETTO:-0800
TZNAME:PST
DTSTART:20241103T090000
END:STANDARD
BEGIN:DAYLIGHT
TZOFFSETFROM:-0800
TZOFFSETTO:-0700
TZNAME:PDT
DTSTART:20250309T100000
END:DAYLIGHT
BEGIN:STANDARD
TZOFFSETFROM:-0700
TZOFFSETTO:-0800
TZNAME:PST
DTSTART:20251102T090000
END:STANDARD
END:VTIMEZONE
BEGIN:VEVENT
DTSTART;TZID=America/Los_Angeles:20241009T120000
DTEND;TZID=America/Los_Angeles:20241009T133000
DTSTAMP:20260422T113325
CREATED:20241001T212006Z
LAST-MODIFIED:20241008T195755Z
UID:4845-1728475200-1728480600@thefront.casafamiliar.org
SUMMARY:Villa Merced residents art presentation
DESCRIPTION:Join the elderly residents of Villa Merced for a special presentation of their artwork created with the traditional «Tsikuri» technique\, developed in collaboration with artist Natalie González.  \nOct 9\, 2024\n12 – 1:30 pm\n1148 Beyer Way #131\nFree entrance
URL:https://thefront.casafamiliar.org/event/villa-merced-residents-art-presentation
LOCATION:Villa Merced\, 1148 Beyer Way\, San Ysidro\, CA\, 92173\, United States
CATEGORIES:Exhibitions
ATTACH;FMTTYPE=image/png:https://thefront.casafamiliar.org/wp-content/uploads/2024/10/Screenshot-2024-10-01-at-2.02.33-PM.png
ORGANIZER;CN="Casa Familiar":MAILTO:info@casafamiliar.org
END:VEVENT
BEGIN:VEVENT
DTSTART;TZID=America/Los_Angeles:20241012T160000
DTEND;TZID=America/Los_Angeles:20241012T180000
DTSTAMP:20260422T113325
CREATED:20240923T193518Z
LAST-MODIFIED:20240923T193518Z
UID:4748-1728748800-1728756000@thefront.casafamiliar.org
SUMMARY:𝙃𝙤𝙬 𝘾𝙖𝙣 𝙔𝙤𝙪 𝙈𝙚𝙣𝙙 𝘼 𝘽𝙧𝙤𝙠𝙚𝙣 𝙃𝙚𝙖𝙧𝙩? - Opening Reception
DESCRIPTION:This exhibition brings together a series of new works produced by Cog•nate Collective in collaboration with communities of Tijuana & San Ysidro \nFrom sonic sculptures and neighborhood transmissions\, to public participatory performance and collaboration with insects (yes\, insects)\, the works explore forms & approaches to border-crossing. Inspired by popular hacks that facilitate movement and sustain connections across borders. \nJoin us for the opening reception\nOctober 12\, 2024\, 4p-6p
URL:https://thefront.casafamiliar.org/event/%f0%9d%99%83%f0%9d%99%a4%f0%9d%99%ac-%f0%9d%98%be%f0%9d%99%96%f0%9d%99%a3-%f0%9d%99%94%f0%9d%99%a4%f0%9d%99%aa-%f0%9d%99%88%f0%9d%99%9a%f0%9d%99%a3%f0%9d%99%99-%f0%9d%98%bc-%f0%9d%98%bd%f0%9d%99%a7
LOCATION:The Front Arte y Cultura
CATEGORIES:Exhibitions,Opening
ATTACH;FMTTYPE=image/jpeg:https://thefront.casafamiliar.org/wp-content/uploads/2024/09/COGNATE-OPENING.jpg
ORGANIZER;CN="The FRONT Arte Cultura":MAILTO:hectorc@casafamiliar.org
END:VEVENT
END:VCALENDAR