BEGIN:VCALENDAR
VERSION:2.0
PRODID:-//The Front Arte Cultura - ECPv6.15.20//NONSGML v1.0//EN
CALSCALE:GREGORIAN
METHOD:PUBLISH
X-ORIGINAL-URL:https://thefront.casafamiliar.org
X-WR-CALDESC:Eventos para The Front Arte Cultura
REFRESH-INTERVAL;VALUE=DURATION:PT1H
X-Robots-Tag:noindex
X-PUBLISHED-TTL:PT1H
BEGIN:VTIMEZONE
TZID:America/Los_Angeles
BEGIN:DAYLIGHT
TZOFFSETFROM:-0800
TZOFFSETTO:-0700
TZNAME:PDT
DTSTART:20250309T100000
END:DAYLIGHT
BEGIN:STANDARD
TZOFFSETFROM:-0700
TZOFFSETTO:-0800
TZNAME:PST
DTSTART:20251102T090000
END:STANDARD
BEGIN:DAYLIGHT
TZOFFSETFROM:-0800
TZOFFSETTO:-0700
TZNAME:PDT
DTSTART:20260308T100000
END:DAYLIGHT
BEGIN:STANDARD
TZOFFSETFROM:-0700
TZOFFSETTO:-0800
TZNAME:PST
DTSTART:20261101T090000
END:STANDARD
BEGIN:DAYLIGHT
TZOFFSETFROM:-0800
TZOFFSETTO:-0700
TZNAME:PDT
DTSTART:20270314T100000
END:DAYLIGHT
BEGIN:STANDARD
TZOFFSETFROM:-0700
TZOFFSETTO:-0800
TZNAME:PST
DTSTART:20271107T090000
END:STANDARD
END:VTIMEZONE
BEGIN:VEVENT
DTSTART;TZID=America/Los_Angeles:20260423T180000
DTEND;TZID=America/Los_Angeles:20260423T190000
DTSTAMP:20260421T060428
CREATED:20260323T204426Z
LAST-MODIFIED:20260403T010353Z
UID:6537-1776967200-1776970800@thefront.casafamiliar.org
SUMMARY:Conversations at The Library with Marlon PV
DESCRIPTION:Join us for our monthly conversations at The Front Library: an intimate series where ideas\, stories\, and creative practices come to life through reflective dialogue. Each gathering invites an artist or writer to share their work\, their reflections\, and the experiences that transcend the everyday. Come to connect\, to listen\, and to become part of a community where conversation is\, in itself\, an art form. \nThursday\, April 23 \n6:00 PM \nThe Front Gallery – 147 W San Ysidro Blvd \nFree Admission
URL:https://thefront.casafamiliar.org/event/conversations-at-the-library-with-marlon-pv
LOCATION:The Front Arte y Cultura
CATEGORIES:Conversations
ATTACH;FMTTYPE=image/jpeg:https://thefront.casafamiliar.org/wp-content/uploads/2026/04/Conversaciones-abril.jpg
END:VEVENT
END:VCALENDAR