BEGIN:VCALENDAR
VERSION:2.0
PRODID:-//The Front Arte Cultura - ECPv6.15.20//NONSGML v1.0//EN
CALSCALE:GREGORIAN
METHOD:PUBLISH
X-ORIGINAL-URL:https://thefront.casafamiliar.org
X-WR-CALDESC:Eventos para The Front Arte Cultura
REFRESH-INTERVAL;VALUE=DURATION:PT1H
X-Robots-Tag:noindex
X-PUBLISHED-TTL:PT1H
BEGIN:VTIMEZONE
TZID:America/Los_Angeles
BEGIN:DAYLIGHT
TZOFFSETFROM:-0800
TZOFFSETTO:-0700
TZNAME:PDT
DTSTART:20250309T100000
END:DAYLIGHT
BEGIN:STANDARD
TZOFFSETFROM:-0700
TZOFFSETTO:-0800
TZNAME:PST
DTSTART:20251102T090000
END:STANDARD
BEGIN:DAYLIGHT
TZOFFSETFROM:-0800
TZOFFSETTO:-0700
TZNAME:PDT
DTSTART:20260308T100000
END:DAYLIGHT
BEGIN:STANDARD
TZOFFSETFROM:-0700
TZOFFSETTO:-0800
TZNAME:PST
DTSTART:20261101T090000
END:STANDARD
BEGIN:DAYLIGHT
TZOFFSETFROM:-0800
TZOFFSETTO:-0700
TZNAME:PDT
DTSTART:20270314T100000
END:DAYLIGHT
BEGIN:STANDARD
TZOFFSETFROM:-0700
TZOFFSETTO:-0800
TZNAME:PST
DTSTART:20271107T090000
END:STANDARD
END:VTIMEZONE
BEGIN:VEVENT
DTSTART;TZID=America/Los_Angeles:20260227T170000
DTEND;TZID=America/Los_Angeles:20260227T180000
DTSTAMP:20260421T090105
CREATED:20260212T235939Z
LAST-MODIFIED:20260212T235939Z
UID:6358-1772211600-1772215200@thefront.casafamiliar.org
SUMMARY:Conversations at The FRONT Library with Flor Hernandez
DESCRIPTION:Conversations at The FRONT Library creates space for artists\, storytellers\, and community members to gather in dialogue around creative expression\, cultural memory\, and storytelling. \nWe’re honored to begin with Flor Hernandez presenting:“Collecting Stories from the Clouds: Zinemaking as Remembrance.”  \nFebruary 27th5–6 PMThe FRONT Arte y Cultura147 W San Ysidro Blvd \nFlor will explore zinemaking as artistic expression\, community-building\, and a powerful act of Indigenous remembrance. \nFree admission
URL:https://thefront.casafamiliar.org/event/conversations-at-the-front-library-with-flor-hernandez
LOCATION:The Front Arte y Cultura
CATEGORIES:Conversations
ATTACH;FMTTYPE=image/jpeg:https://thefront.casafamiliar.org/wp-content/uploads/2026/02/Spanish.jpg
END:VEVENT
END:VCALENDAR