BEGIN:VCALENDAR
VERSION:2.0
PRODID:-//The Front Arte Cultura - ECPv6.15.20//NONSGML v1.0//EN
CALSCALE:GREGORIAN
METHOD:PUBLISH
X-WR-CALNAME:The Front Arte Cultura
X-ORIGINAL-URL:https://thefront.casafamiliar.org
X-WR-CALDESC:Eventos para The Front Arte Cultura
REFRESH-INTERVAL;VALUE=DURATION:PT1H
X-Robots-Tag:noindex
X-PUBLISHED-TTL:PT1H
BEGIN:VTIMEZONE
TZID:America/Los_Angeles
BEGIN:DAYLIGHT
TZOFFSETFROM:-0800
TZOFFSETTO:-0700
TZNAME:PDT
DTSTART:20240310T100000
END:DAYLIGHT
BEGIN:STANDARD
TZOFFSETFROM:-0700
TZOFFSETTO:-0800
TZNAME:PST
DTSTART:20241103T090000
END:STANDARD
BEGIN:DAYLIGHT
TZOFFSETFROM:-0800
TZOFFSETTO:-0700
TZNAME:PDT
DTSTART:20250309T100000
END:DAYLIGHT
BEGIN:STANDARD
TZOFFSETFROM:-0700
TZOFFSETTO:-0800
TZNAME:PST
DTSTART:20251102T090000
END:STANDARD
BEGIN:DAYLIGHT
TZOFFSETFROM:-0800
TZOFFSETTO:-0700
TZNAME:PDT
DTSTART:20260308T100000
END:DAYLIGHT
BEGIN:STANDARD
TZOFFSETFROM:-0700
TZOFFSETTO:-0800
TZNAME:PST
DTSTART:20261101T090000
END:STANDARD
END:VTIMEZONE
BEGIN:VEVENT
DTSTART;TZID=America/Los_Angeles:20251206T110000
DTEND;TZID=America/Los_Angeles:20251206T130000
DTSTAMP:20260421T150549
CREATED:20251121T234037Z
LAST-MODIFIED:20251121T234037Z
UID:6182-1765018800-1765026000@thefront.casafamiliar.org
SUMMARY:Oda a lo cotidiano: CASA – UCSD Fronteras Presentation
DESCRIPTION:Oda a lo cotidiano: CASA – UCSD Fronteras Presentation\nPÚBLICADO EN NOVIEMBRE 5\, 2025 POR THEFRONTGALLERY\n\n\n \nJoin us for an evening performance of «Ode to the Everyday» created by San Ysidro residents & UCSD students. \nThis performance will be followed by refreshments and food. \nSaturday\, December 6th\, 2025 \n11am to 1pm \nLocation: Casa Patio (Behind El Salon Theatre) – 114 W Hall Ave. San Ysidro\, CA 92173 \nDescription: \nFall Program Presentation at Casa Patio\nFacilitated by the Chicanx Teatro Ensemble of UCSD and the UCSD Center for Global Justice \n«Ode to the Everyday» \nA creative theater workshop inspired by Pablo Neruda’s Elemental Odes\, where the everyday becomes poetry… and a stage! \nWorskhop imparted by Professor Roberto Castro \nCo-run by Paul Moscoso\, & Hector Castro \nUCSD’s Center on Global Justice & Casa Familiar \n\nAcompáñanos a disfrutar de la función vespertina de «Oda a lo Cotidiano»\, creada por residentes de San Ysidro y estudiantes de la UCSD. \nTras la función\, se ofrecerán refrigerios y comida. \nSabado\, 6 de diciembre de 2025 \nDe 11am a 1pm \nLugar: Casa Patio (detrás del Teatro El Salón) – 114 W Hall Ave.\, San Ysidro\, CA 92173 \nDescripción: \nPresentación del Programa de Otoño en Casa Patio \nOrganizado por el Chicanx Teatro Ensemble de la UCSD y el Centro para la Justicia Global de la UCSD \n«Oda a lo Cotidiano» \nUn taller de teatro creativo inspirado en las Odas Elementales de Pablo Neruda\, donde lo cotidiano se convierte en poesía… ¡y en escenario! \nTaller impartido por el profesor Roberto Castro \nCoorganizado por Paul Moscoso y Héctor Castro \nCentro para la Justicia Global de la UCSD y Casa Familiar
URL:https://thefront.casafamiliar.org/event/oda-a-lo-cotidiano-casa-ucsd-fronteras-presentation
LOCATION:Casa Patio\, 114 W Hall Ave\, San Ysidro CA. 92147\, San Ysidro\, CA\, 92173\, United States
CATEGORIES:Community,Community Event,Performances
ATTACH;FMTTYPE=image/png:https://thefront.casafamiliar.org/wp-content/uploads/2025/11/1100am.png
ORGANIZER;CN="Casa Familiar":MAILTO:info@casafamiliar.org
END:VEVENT
BEGIN:VEVENT
DTSTART;TZID=America/Los_Angeles:20251213T110000
DTEND;TZID=America/Los_Angeles:20251213T140000
DTSTAMP:20260421T150549
CREATED:20251126T010607Z
LAST-MODIFIED:20251126T010607Z
UID:6200-1765623600-1765634400@thefront.casafamiliar.org
SUMMARY:Join our Painting Club - December Edition with PANCA
DESCRIPTION:Bring your own materials and works in progress—or start fresh on a blank canvas! Open to all experience levels. Free drinks from local vendors.\nFree and open to all! \nDecember 13th | 11am – 2pm \nThe Front Gallery \nParking: We ask that all attendees use available street parking\, as well as encourage the use of public transit – the nearest Trolley station is Beyer Blvd.
URL:https://thefront.casafamiliar.org/event/join-our-painting-club-december-edition-with-panca
LOCATION:The Front Arte y Cultura
CATEGORIES:Community
ATTACH;FMTTYPE=image/jpeg:https://thefront.casafamiliar.org/wp-content/uploads/2025/11/Painting-Club-Flyer-2.jpg
END:VEVENT
END:VCALENDAR