BEGIN:VCALENDAR
VERSION:2.0
PRODID:-//The Front Arte Cultura - ECPv6.15.20//NONSGML v1.0//EN
CALSCALE:GREGORIAN
METHOD:PUBLISH
X-WR-CALNAME:The Front Arte Cultura
X-ORIGINAL-URL:https://thefront.casafamiliar.org
X-WR-CALDESC:Eventos para The Front Arte Cultura
REFRESH-INTERVAL;VALUE=DURATION:PT1H
X-Robots-Tag:noindex
X-PUBLISHED-TTL:PT1H
BEGIN:VTIMEZONE
TZID:America/Los_Angeles
BEGIN:DAYLIGHT
TZOFFSETFROM:-0800
TZOFFSETTO:-0700
TZNAME:PDT
DTSTART:20240310T100000
END:DAYLIGHT
BEGIN:STANDARD
TZOFFSETFROM:-0700
TZOFFSETTO:-0800
TZNAME:PST
DTSTART:20241103T090000
END:STANDARD
BEGIN:DAYLIGHT
TZOFFSETFROM:-0800
TZOFFSETTO:-0700
TZNAME:PDT
DTSTART:20250309T100000
END:DAYLIGHT
BEGIN:STANDARD
TZOFFSETFROM:-0700
TZOFFSETTO:-0800
TZNAME:PST
DTSTART:20251102T090000
END:STANDARD
BEGIN:DAYLIGHT
TZOFFSETFROM:-0800
TZOFFSETTO:-0700
TZNAME:PDT
DTSTART:20260308T100000
END:DAYLIGHT
BEGIN:STANDARD
TZOFFSETFROM:-0700
TZOFFSETTO:-0800
TZNAME:PST
DTSTART:20261101T090000
END:STANDARD
END:VTIMEZONE
BEGIN:VEVENT
DTSTART;TZID=America/Los_Angeles:20250719T130000
DTEND;TZID=America/Los_Angeles:20250719T160000
DTSTAMP:20260421T215607
CREATED:20250702T211410Z
LAST-MODIFIED:20250702T211410Z
UID:5665-1752930000-1752940800@thefront.casafamiliar.org
SUMMARY:Join our Painting Club: Painting in SIDRO
DESCRIPTION:Bring your own materials and works in progress—or start fresh on a blank canvas! Open to all experience levels. Free drinks from local vendors.\nFree and open to all! \nJuly 19th | 1- 4pm \nCasa Patio (114 W Hall Ave. San Ysidro) \nParking – All parking at El Salón Theatre is for residents only. We ask that all attendees use available street parking\, as well as encourage the use of public transit – the nearest Trolley station is Beyer Blvd. \n\nTrae tus propios materiales y trabajos en proceso\, ¡o empieza desde cero! Abierto a todos los niveles. Bebidas gratis de vendedores locales. \n¡Gratis y abierto a todos! \n19 de julio | 13:00-16:00 \nCasa Patio (114 W Hall Ave. San Ysidro)
URL:https://thefront.casafamiliar.org/event/join-our-painting-club-painting-in-sidro
LOCATION:Casa Patio\, 114 W Hall Ave\, San Ysidro CA. 92147\, San Ysidro\, CA\, 92173\, United States
CATEGORIES:Community
ATTACH;FMTTYPE=image/jpeg:https://thefront.casafamiliar.org/wp-content/uploads/2025/07/Painting-Club-Flyer.jpg
ORGANIZER;CN="The FRONT Arte Cultura":MAILTO:hectorc@casafamiliar.org
END:VEVENT
END:VCALENDAR