BEGIN:VCALENDAR
VERSION:2.0
PRODID:-//The Front Arte Cultura - ECPv6.15.20//NONSGML v1.0//EN
CALSCALE:GREGORIAN
METHOD:PUBLISH
X-WR-CALNAME:The Front Arte Cultura
X-ORIGINAL-URL:https://thefront.casafamiliar.org
X-WR-CALDESC:Eventos para The Front Arte Cultura
REFRESH-INTERVAL;VALUE=DURATION:PT1H
X-Robots-Tag:noindex
X-PUBLISHED-TTL:PT1H
BEGIN:VTIMEZONE
TZID:America/Los_Angeles
BEGIN:DAYLIGHT
TZOFFSETFROM:-0800
TZOFFSETTO:-0700
TZNAME:PDT
DTSTART:20240310T100000
END:DAYLIGHT
BEGIN:STANDARD
TZOFFSETFROM:-0700
TZOFFSETTO:-0800
TZNAME:PST
DTSTART:20241103T090000
END:STANDARD
BEGIN:DAYLIGHT
TZOFFSETFROM:-0800
TZOFFSETTO:-0700
TZNAME:PDT
DTSTART:20250309T100000
END:DAYLIGHT
BEGIN:STANDARD
TZOFFSETFROM:-0700
TZOFFSETTO:-0800
TZNAME:PST
DTSTART:20251102T090000
END:STANDARD
BEGIN:DAYLIGHT
TZOFFSETFROM:-0800
TZOFFSETTO:-0700
TZNAME:PDT
DTSTART:20260308T100000
END:DAYLIGHT
BEGIN:STANDARD
TZOFFSETFROM:-0700
TZOFFSETTO:-0800
TZNAME:PST
DTSTART:20261101T090000
END:STANDARD
END:VTIMEZONE
BEGIN:VEVENT
DTSTART;TZID=America/Los_Angeles:20250802T170000
DTEND;TZID=America/Los_Angeles:20250802T210000
DTSTAMP:20260421T181057
CREATED:20250728T174543Z
LAST-MODIFIED:20250728T174543Z
UID:5762-1754154000-1754168400@thefront.casafamiliar.org
SUMMARY:Vinyl Night Party - Open Decks
DESCRIPTION:Drop the needle and let the grooves take over! Join us for a night of vinyl vibes\, classic cuts\, and pure analog energy.\nSaturday August 2El Salon Theatre – 114 W Hall Ave\, San Ysidro\, CA 921735PM – 9PM\nFirst come\, first served – come early\, stay late!\nLet the music speak. No skips\, just spins.—————————————–\nNoche de Vinilos en El Salón Teatro\n¡Suelta la aguja y deja que el ritmo te acompañe! Únete a nosotros para una noche llena de ritmo de vinilo\, clásicos y pura energía analógica.\nSaturday August 2El Salon Theatre – 114 W Hall Ave\, San Ysidro\, CA 921735PM – 9PM\nPor orden de llegada: ¡llega temprano y quédate hasta tarde!Deja que la música hable. Sin saltos\, solo giros.
URL:https://thefront.casafamiliar.org/event/vinyl-night-party-open-decks
LOCATION:El Salon Theatre\, 114 W Hall Ave\, San Ysidro CA. 92147\, San Ysidro\, 92147\, United States
CATEGORIES:Community Event
ATTACH;FMTTYPE=image/jpeg:https://thefront.casafamiliar.org/wp-content/uploads/2025/07/El-Salon-Events.jpg
END:VEVENT
BEGIN:VEVENT
DTSTART;TZID=America/Los_Angeles:20250823T130000
DTEND;TZID=America/Los_Angeles:20250823T160000
DTSTAMP:20260421T181057
CREATED:20250805T193237Z
LAST-MODIFIED:20250805T193237Z
UID:5833-1755954000-1755964800@thefront.casafamiliar.org
SUMMARY:Join our Painting Club! – August Edition
DESCRIPTION:Bring your own materials and works in progress—or start fresh on a blank canvas! Open to all experience levels. Free drinks from local vendors.\nFree and open to all! \nAugust 23rd | 1- 4pm \nCasa Patio (114 W Hall Ave. San Ysidro) \nParking – All parking at El Salón Theatre is for residents only. We ask that all attendees use available street parking\, as well as encourage the use of public transit – the nearest Trolley station is Beyer Blvd.
URL:https://thefront.casafamiliar.org/event/join-our-painting-club-august-edition
LOCATION:Casa Patio\, 114 W Hall Ave\, San Ysidro CA. 92147\, San Ysidro\, CA\, 92173\, United States
CATEGORIES:Community,Community Event
ATTACH;FMTTYPE=image/jpeg:https://thefront.casafamiliar.org/wp-content/uploads/2025/08/Painting-Club-Flyer.jpg
ORGANIZER;CN="The FRONT Arte Cultura":MAILTO:hectorc@casafamiliar.org
END:VEVENT
END:VCALENDAR