BEGIN:VCALENDAR
VERSION:2.0
PRODID:-//The Front Arte Cultura - ECPv6.15.20//NONSGML v1.0//EN
CALSCALE:GREGORIAN
METHOD:PUBLISH
X-WR-CALNAME:The Front Arte Cultura
X-ORIGINAL-URL:https://thefront.casafamiliar.org
X-WR-CALDESC:Eventos para The Front Arte Cultura
REFRESH-INTERVAL;VALUE=DURATION:PT1H
X-Robots-Tag:noindex
X-PUBLISHED-TTL:PT1H
BEGIN:VTIMEZONE
TZID:America/Los_Angeles
BEGIN:DAYLIGHT
TZOFFSETFROM:-0800
TZOFFSETTO:-0700
TZNAME:PDT
DTSTART:20240310T100000
END:DAYLIGHT
BEGIN:STANDARD
TZOFFSETFROM:-0700
TZOFFSETTO:-0800
TZNAME:PST
DTSTART:20241103T090000
END:STANDARD
BEGIN:DAYLIGHT
TZOFFSETFROM:-0800
TZOFFSETTO:-0700
TZNAME:PDT
DTSTART:20250309T100000
END:DAYLIGHT
BEGIN:STANDARD
TZOFFSETFROM:-0700
TZOFFSETTO:-0800
TZNAME:PST
DTSTART:20251102T090000
END:STANDARD
BEGIN:DAYLIGHT
TZOFFSETFROM:-0800
TZOFFSETTO:-0700
TZNAME:PDT
DTSTART:20260308T100000
END:DAYLIGHT
BEGIN:STANDARD
TZOFFSETFROM:-0700
TZOFFSETTO:-0800
TZNAME:PST
DTSTART:20261101T090000
END:STANDARD
END:VTIMEZONE
BEGIN:VEVENT
DTSTART;TZID=America/Los_Angeles:20250508T170000
DTEND;TZID=America/Los_Angeles:20250508T190000
DTSTAMP:20260421T221531
CREATED:20250214T205515Z
LAST-MODIFIED:20250228T211624Z
UID:5203-1746723600-1746730800@thefront.casafamiliar.org
SUMMARY:Visions of a Future - Closing Reception
DESCRIPTION:Visiones de un Futuro – Clausura \nJoin us for the closing reception of Visions of a Future\, a powerful exhibition exploring imaginary spaces and alternative realities that empower and inspire. To mark the occasion\, we are honored to present a special dance performance by Diane Campaña. \nDance Performance by Diane Campaña«Despite the barriers\, we will build paths where we can navigate together\, without differences.» \nWith over 15 years of experience in performance\, dance\, and visual arts in the Tijuana-San Diego region\, Diane Campaña brings a deeply personal and evocative performance that transcends boundaries and invites us into new realms of possibility.
URL:https://thefront.casafamiliar.org/event/visions-of-a-future-closing-reception-2
LOCATION:The Front Arte y Cultura
CATEGORIES:Closing Reception,Performances
ATTACH;FMTTYPE=image/jpeg:https://thefront.casafamiliar.org/wp-content/uploads/2025/01/TheFront_imagen-y-aplicaciones_FB_1080x1080px_slide-3-d.jpg
ORGANIZER;CN="The FRONT Arte Cultura":MAILTO:hectorc@casafamiliar.org
END:VEVENT
END:VCALENDAR