BEGIN:VCALENDAR
VERSION:2.0
PRODID:-//The Front Arte Cultura - ECPv6.15.20//NONSGML v1.0//EN
CALSCALE:GREGORIAN
METHOD:PUBLISH
X-WR-CALNAME:The Front Arte Cultura
X-ORIGINAL-URL:https://thefront.casafamiliar.org
X-WR-CALDESC:Eventos para The Front Arte Cultura
REFRESH-INTERVAL;VALUE=DURATION:PT1H
X-Robots-Tag:noindex
X-PUBLISHED-TTL:PT1H
BEGIN:VTIMEZONE
TZID:America/Los_Angeles
BEGIN:DAYLIGHT
TZOFFSETFROM:-0800
TZOFFSETTO:-0700
TZNAME:PDT
DTSTART:20240310T100000
END:DAYLIGHT
BEGIN:STANDARD
TZOFFSETFROM:-0700
TZOFFSETTO:-0800
TZNAME:PST
DTSTART:20241103T090000
END:STANDARD
BEGIN:DAYLIGHT
TZOFFSETFROM:-0800
TZOFFSETTO:-0700
TZNAME:PDT
DTSTART:20250309T100000
END:DAYLIGHT
BEGIN:STANDARD
TZOFFSETFROM:-0700
TZOFFSETTO:-0800
TZNAME:PST
DTSTART:20251102T090000
END:STANDARD
BEGIN:DAYLIGHT
TZOFFSETFROM:-0800
TZOFFSETTO:-0700
TZNAME:PDT
DTSTART:20260308T100000
END:DAYLIGHT
BEGIN:STANDARD
TZOFFSETFROM:-0700
TZOFFSETTO:-0800
TZNAME:PST
DTSTART:20261101T090000
END:STANDARD
END:VTIMEZONE
BEGIN:VEVENT
DTSTART;TZID=America/Los_Angeles:20250111T160000
DTEND;TZID=America/Los_Angeles:20250111T180000
DTSTAMP:20260422T042400
CREATED:20241220T224754Z
LAST-MODIFIED:20241220T224754Z
UID:5086-1736611200-1736618400@thefront.casafamiliar.org
SUMMARY:How Can You Mend a Broken Heart? - Closing Performance and Celebration
DESCRIPTION:Cog•nate Collective invites you to the grand finale of their poignant and inspiring exhibition! \nDate: Saturday\, January 11\, 2025\nTime: 4:00 PM – 6:00 PM\nLocations: \n\nSan Ysidro Civic Center (212 W. Park Avenue\, San Diego\, CA)\nThe Front Arte y Cultura (147 W. San Ysidro Blvd.\, San Diego\, CA)\n\nThis Closing Performance & Celebration will feature interactive art experiences\, performances\, and opportunities to reflect on the exhibition’s powerful themes of border-crossing\, resilience\, and community connection. \nAdmission is FREE and open to all ages! \nLet’s dance\, listen\, and heal together. \n 
URL:https://thefront.casafamiliar.org/event/how-can-you-mend-a-broken-heart-closing-performance-and-celebration
LOCATION:Civic Center San Ysidro\, 212 W Park Ave\, San Ysidro\, CA\, 92173\, United States
CATEGORIES:Closing Reception,Exhibitions,Performances
ATTACH;FMTTYPE=image/jpeg:https://thefront.casafamiliar.org/wp-content/uploads/2024/12/©©-Closing-Poster2-UPDATE-scaled.jpg
ORGANIZER;CN="The FRONT Arte Cultura":MAILTO:hectorc@casafamiliar.org
END:VEVENT
END:VCALENDAR