BEGIN:VCALENDAR
VERSION:2.0
PRODID:-//The Front Arte Cultura - ECPv6.15.20//NONSGML v1.0//EN
CALSCALE:GREGORIAN
METHOD:PUBLISH
X-ORIGINAL-URL:https://thefront.casafamiliar.org
X-WR-CALDESC:Eventos para The Front Arte Cultura
REFRESH-INTERVAL;VALUE=DURATION:PT1H
X-Robots-Tag:noindex
X-PUBLISHED-TTL:PT1H
BEGIN:VTIMEZONE
TZID:America/Los_Angeles
BEGIN:DAYLIGHT
TZOFFSETFROM:-0800
TZOFFSETTO:-0700
TZNAME:PDT
DTSTART:20240310T100000
END:DAYLIGHT
BEGIN:STANDARD
TZOFFSETFROM:-0700
TZOFFSETTO:-0800
TZNAME:PST
DTSTART:20241103T090000
END:STANDARD
BEGIN:DAYLIGHT
TZOFFSETFROM:-0800
TZOFFSETTO:-0700
TZNAME:PDT
DTSTART:20250309T100000
END:DAYLIGHT
BEGIN:STANDARD
TZOFFSETFROM:-0700
TZOFFSETTO:-0800
TZNAME:PST
DTSTART:20251102T090000
END:STANDARD
BEGIN:DAYLIGHT
TZOFFSETFROM:-0800
TZOFFSETTO:-0700
TZNAME:PDT
DTSTART:20260308T100000
END:DAYLIGHT
BEGIN:STANDARD
TZOFFSETFROM:-0700
TZOFFSETTO:-0800
TZNAME:PST
DTSTART:20261101T090000
END:STANDARD
END:VTIMEZONE
BEGIN:VEVENT
DTSTART;TZID=America/Los_Angeles:20250315T113000
DTEND;TZID=America/Los_Angeles:20250315T140000
DTSTAMP:20260422T012202
CREATED:20250311T005140Z
LAST-MODIFIED:20250311T005140Z
UID:5278-1742038200-1742047200@thefront.casafamiliar.org
SUMMARY:Book release\, reading + talk with Jessica Cortez
DESCRIPTION:This Saturday! Join us for a book release\, reading + talk with Jessica Cortez on her new book 📖 \n“‘Dejando Huella’ is a book that delves into the profound impact of economic violence-our first\, massive imprint. In a world where survival is the primary concern\, how can we ever truly recover from such deep scars when we need to survive?” \nJoin us from 11:30am-2pm at The FRONT Books (inside the gallery) and enjoy light snacks + refreshments
URL:https://thefront.casafamiliar.org/event/book-release-reading-talk-with-jessica-cortez
LOCATION:The Front Arte y Cultura
CATEGORIES:Book Presentation
ATTACH;FMTTYPE=image/jpeg:https://thefront.casafamiliar.org/wp-content/uploads/2025/03/Book-Reading.jpg
ORGANIZER;CN="The FRONT Arte Cultura":MAILTO:hectorc@casafamiliar.org
END:VEVENT
END:VCALENDAR