BEGIN:VCALENDAR
VERSION:2.0
PRODID:-//The Front Arte Cultura - ECPv6.15.20//NONSGML v1.0//EN
CALSCALE:GREGORIAN
METHOD:PUBLISH
X-ORIGINAL-URL:https://thefront.casafamiliar.org
X-WR-CALDESC:Eventos para The Front Arte Cultura
REFRESH-INTERVAL;VALUE=DURATION:PT1H
X-Robots-Tag:noindex
X-PUBLISHED-TTL:PT1H
BEGIN:VTIMEZONE
TZID:America/Los_Angeles
BEGIN:DAYLIGHT
TZOFFSETFROM:-0800
TZOFFSETTO:-0700
TZNAME:PDT
DTSTART:20230312T100000
END:DAYLIGHT
BEGIN:STANDARD
TZOFFSETFROM:-0700
TZOFFSETTO:-0800
TZNAME:PST
DTSTART:20231105T090000
END:STANDARD
BEGIN:DAYLIGHT
TZOFFSETFROM:-0800
TZOFFSETTO:-0700
TZNAME:PDT
DTSTART:20240310T100000
END:DAYLIGHT
BEGIN:STANDARD
TZOFFSETFROM:-0700
TZOFFSETTO:-0800
TZNAME:PST
DTSTART:20241103T090000
END:STANDARD
BEGIN:DAYLIGHT
TZOFFSETFROM:-0800
TZOFFSETTO:-0700
TZNAME:PDT
DTSTART:20250309T100000
END:DAYLIGHT
BEGIN:STANDARD
TZOFFSETFROM:-0700
TZOFFSETTO:-0800
TZNAME:PST
DTSTART:20251102T090000
END:STANDARD
END:VTIMEZONE
BEGIN:VEVENT
DTSTART;TZID=America/Los_Angeles:20241019T120000
DTEND;TZID=America/Los_Angeles:20241019T150000
DTSTAMP:20260422T085416
CREATED:20240925T192346Z
LAST-MODIFIED:20240925T192346Z
UID:4801-1729339200-1729350000@thefront.casafamiliar.org
SUMMARY:Presentation and book signing "Dejando huella"
DESCRIPTION:Join us for an intimate book presentation and signing with Jessica Cortez\, author of «Dejando Huella\, desde mi corazón al tuyo.» In this powerful work\, Cortez explores personal and collective stories of resilience\, identity\, and cultural heritage. Come meet the author\, hear her insights\, and get your signed copy! \nOct 19\, 2024 \n12-3pm \nFree entrance.
URL:https://thefront.casafamiliar.org/event/presentation-and-book-signing-dejando-huella
LOCATION:The Front Arte y Cultura
CATEGORIES:Book Presentation
ATTACH;FMTTYPE=image/jpeg:https://thefront.casafamiliar.org/wp-content/uploads/2024/09/Lexi-Pulido-Video-Screening-1.jpg
ORGANIZER;CN="The FRONT Arte Cultura":MAILTO:hectorc@casafamiliar.org
END:VEVENT
END:VCALENDAR